Workbook
Name Asp: Données!$B$24
Name CercleDemandeur: Données!$B$2
Name Clubs: 'Liste des clubs'!$A$2:$A$70
Name CodesCompétition: 'Types de compétition'!$A$2:$A$11
Name Dos: Données!$B$22
Name HS: Données!$B$26
Name HS_F: Données!$B$27
Name ListeClubs: 'Liste des clubs'!$A$2:$B$70
Name Loi: Données!$B$25
Name SéquenceDeTir: 'Séquence de tir'!$A$2:$A$3
Name TypesCompétition: 'Types de compétition'!$A$2:$B$11
Name WA: Données!$B$23

Sheet Demande de compétition
B1: Demande d'organisation de compétition
B2: Saison de Tir sur Cibles en Salle 2026-2027
B4: A rentrer au plus tard le 30 avril 2026 directement à : info@lfbta.be
C6: Cercle demandeur : | E6: =IF(ISERROR(VLOOKUP(D6,ListeClubs,2,FALSE)),"",VLOOKUP(D6,ListeClubs,2,FALSE))
B8: Responsable de l'organisation (et signataire de la demande)
B9: Nom : | E9: Prénom :
B11: Adresse :
B13: Code Postal : | E13: Localité :
B15: Téléphone : | E15: GSM :
B17: Courriel :
B19: Responsable des inscriptions
B20: Nom : | E20: Prénom :
B22: Adresse :
B24: Code Postal : | E24: Localité :
B26: Téléphone : | E26: GSM :
B28: Courriel :
B30: Compétition
B31: Type : | E31: =IF(ISERROR(VLOOKUP(C31,TypesCompétition,2,FALSE)),"",VLOOKUP(C31,TypesCompétition,2,FALSE))
C33: Séquence de tir : | F33: Nombre de cibles :
B36: Compétition ouverte / accessible aux …
B39: Dates souhaitées | D39: Du | F39: Au (si 2 jours)
C40: Premier choix :
C41: Deuxième choix :
C42: Troisième choix :
B43: Lieu de la compétition et remarques
D44: Nom de la salle ou complexe sportif :
B46: Adresse :
B48: Code Postal : | E48: Localité :
B50: Latitude* : | E50: Longitude* :
B52: Remarques :
B56: Date : | E56: Signature :
E57: (Responsable de l'organisation)
B58: * Coordonnées GPS au format x.xxxxx et PAS x°y'z" svp. Optionnelles si l'adresse est sans ambiguité.

Sheet Données
A1: Paramètre | B1: Valeur
A2: Cercle demandeur | B2: ='Demande de compétition'!D6 -> 0
A3: Organisateur Nom | B3: ='Demande de compétition'!C9 -> 0
A4: Organisateur Prénom | B4: ='Demande de compétition'!F9 -> 0
A5: Organisateur Adresse | B5: ='Demande de compétition'!C11 -> 0
A6: Organisateur CP | B6: ='Demande de compétition'!C13 -> 0
A7: Organisateur Localité | B7: ='Demande de compétition'!F13 -> 0
A8: Organisateur Téléphone | B8: ='Demande de compétition'!C15 -> 0
A9: Organisateur GSM | B9: ='Demande de compétition'!F15 -> 0
A10: Organisateur Courriel | B10: ='Demande de compétition'!C17 -> 0
A11: Inscriptions Nom | B11: ='Demande de compétition'!C20 -> 0
A12: Inscriptions Prénom | B12: ='Demande de compétition'!F20 -> 0
A13: Inscriptions Adresse | B13: ='Demande de compétition'!C22 -> 0
A14: Inscriptions CP | B14: ='Demande de compétition'!C24 -> 0
A15: Inscriptions Localité | B15: ='Demande de compétition'!F24 -> 0
A16: Inscriptions Téléphone | B16: ='Demande de compétition'!C26 -> 0
A17: Inscriptions GSM | B17: ='Demande de compétition'!F26 -> 0
A18: Inscriptions Courriel | B18: ='Demande de compétition'!C28 -> 0
A19: Type de compétition | B19: ='Demande de compétition'!C31 -> 0
A20: Déroulement du tir | B20: ='Demande de compétition'!D33 -> 0
A21: Nombre de cibles | B21: ='Demande de compétition'!G33 -> 0
A22: Dos | B22: FALSE
A23: WA | B23: TRUE
A24: Aspirants | B24: FALSE
A25: Loisirs | B25: FALSE
A26: HS | B26: FALSE
A27: HS+F | B27: FALSE
A28: Date Début 1 | B28: ='Demande de compétition'!D40 -> 0
A29: Date Fin 1 | B29: ='Demande de compétition'!F40 -> 0
A30: Date Début 2 | B30: ='Demande de compétition'!D41 -> 0
A31: Date Fin 2 | B31: ='Demande de compétition'!F41 -> 0
A32: Date Début 3 | B32: ='Demande de compétition'!D42 -> 0
A33: Date Fin 3 | B33: ='Demande de compétition'!F42 -> 0
A34: Lieu Nom | B34: ='Demande de compétition'!E44 -> 0
A35: Lieu Adresse | B35: ='Demande de compétition'!C46 -> 0
A36: Lieu Code Postal | B36: ='Demande de compétition'!C48 -> 0
A37: Lieu Localité | B37: ='Demande de compétition'!F48 -> 0
A38: Lieu Latitude | B38: ='Demande de compétition'!C50 -> 0
A39: Lieu Longitude | B39: ='Demande de compétition'!F50 -> 0
A40: Remarques | B40: ='Demande de compétition'!C52 -> 0
...

Sheet Liste des clubs
A1: Club | B1: Nom complet
A2: ABA-255 | B2: Archers Gd Serment St Sébastien Braine-L'Alleud
A3: ABC-260 | B3: Archerie Braine-Castelli
A4: ABT-313 | B4: Archers du Berceau de Thuin
A5: ACE-406 | B5: Archery Club de l'Est
A6: ACG-401 | B6: Archery Club Grivegnée
A7: ACH-416 | B7: Archery Club Herve
A8: ACL-423 | B8: Archery Club de Limbourg
A9: ACM-407 | B9: Archers du Coq Mosan Oupeye
A10: ACS-611 | B10: Archery Club du Sud
A11: ADC-322 | B11: Les Francs Archers des Collines
A12: ADR-602 | B12: Les Archers de la Roulle
... A70: TAB-704 | B70: Arrow Tabora Namur

Sheet Types de compétition
A1: Code | B1: Description
A2: 2x18m-P | B2: 18m (2 x 30 flèches) - Provincial !!! Ne bénéficie PAS du Badge World Archery !!!
A3: 2x18m-L | B3: 18m (2 x 30 flèches) - Ligue !!! Bénéficie automatiquement du Badge World Archery !!!
A4: 2x18m-N | B4: 18m (2 x 30 flèches) - National !!! Bénéficie automatiquement du Badge World Archery !!!
A5: BAIC | B5: Belgian Archery Indoor Cup - National !!! Bénéficie automatiquement du Badge World Archery !!!
A6: CB-18m-SMV | B6: Championnat de Belgique 18m SMV !!! Dossier d'inscription nécessaire !!!
A7: CB-18m-J | B7: Championnat de Belgique 18m Jeunes !!! Dossier d'inscription nécessaire !!!
A8: CL-18m-SMV | B8: Championnat de Ligue 18m SMV !!! Dossier d'inscription nécessaire !!!
A9: CL-18m-J | B9: Championnat de Ligue 18m Jeunes !!! Dossier d'inscription nécessaire !!!
A10: 2x25m-Indoor | B10: 25m (2 x 30 flèches) !!! Bénéficie automatiquement du Badge World Archery !!!
A11: Autre | B11: Veuillez décrire le format souhaité dans Remarques

Sheet Séquence de tir
A1: Séquence de tir
A2: AB-CD
A3: A-B-C
