Workbook
Name Asp: Données!$B$24
Name CercleDemandeur: Données!$B$2
Name Clubs: 'Liste des clubs'!$A$2:$A$70
Name CodesCompétition: 'Types de compétition'!$A$2:$A$23
Name Dos: Données!$B$22
Name HS: Données!$B$26
Name HS_F: Données!$B$27
Name ListeClubs: 'Liste des clubs'!$A$2:$B$70
Name Loi: Données!$B$25
Name TypesCompétition: 'Types de compétition'!$A$2:$C$23
Name WA: Données!$B$23

Sheet Demande de compétition
B1: Demande d'organisation de compétition
B2: Saison de Tir sur Cibles en Plein Air 2027
B4: A rentrer au plus tard le 30 septembre 2026 directement à : info@lfbta.be
C6: Cercle demandeur : | E6: =IF(ISERROR(VLOOKUP(D6,ListeClubs,2,FALSE)),"",VLOOKUP(D6,ListeClubs,2,FALSE))
B8: Responsable de l'organisation (et signataire de la demande)
B9: Nom : | E9: Prénom :
B11: Adresse :
B13: Code Postal : | E13: Localité :
B15: Téléphone : | E15: GSM :
B17: Courriel :
B19: Responsable des inscriptions
B20: Nom : | E20: Prénom :
B22: Adresse :
B24: Code Postal : | E24: Localité :
B26: Téléphone : | E26: GSM :
B28: Courriel :
B30: Compétition
B31: Type : | E31: =IF(ISERROR(VLOOKUP(C31,TypesCompétition,2,FALSE)),"",VLOOKUP(C31,TypesCompétition,2,FALSE))
E32: =IF(ISERROR(VLOOKUP(C31,TypesCompétition,3,FALSE)),"",VLOOKUP(C31,TypesCompétition,3,FALSE))
B34: Séquence : | F34: Nombre de cibles :
B38: Compétition ouverte / accessible aux …
B41: Dates souhaitées | D41: Du | F41: Au (si 2 jours)
C42: Premier choix :
C43: Deuxième choix :
C44: Troisième choix :
B45: Lieu de la compétition et remarques
D46: Nom du terrain ou complexe sportif :
B48: Adresse :
B50: Code Postal : | E50: Localité :
B52: Latitude : | E52: Longitude :
B54: Remarques :
B58: Date : | E58: Signature :

Sheet Données
A1: Paramètre | B1: Valeur
A2: Cercle demandeur | B2: ='Demande de compétition'!D6 -> 0
A3: Organisateur Nom | B3: ='Demande de compétition'!C9 -> 0
A4: Organisateur Prénom | B4: ='Demande de compétition'!F9 -> 0
A5: Organisateur Adresse | B5: ='Demande de compétition'!C11 -> 0
A6: Organisateur CP | B6: ='Demande de compétition'!C13 -> 0
A7: Organisateur Localité | B7: ='Demande de compétition'!F13 -> 0
A8: Organisateur Téléphone | B8: ='Demande de compétition'!C15 -> 0
A9: Organisateur GSM | B9: ='Demande de compétition'!F15 -> 0
A10: Organisateur Courriel | B10: ='Demande de compétition'!C17 -> 0
A11: Inscriptions Nom | B11: ='Demande de compétition'!C20 -> 0
A12: Inscriptions Prénom | B12: ='Demande de compétition'!F20 -> 0
A13: Inscriptions Adresse | B13: ='Demande de compétition'!C22 -> 0
A14: Inscriptions CP | B14: ='Demande de compétition'!C24 -> 0
A15: Inscriptions Localité | B15: ='Demande de compétition'!F24 -> 0
A16: Inscriptions Téléphone | B16: ='Demande de compétition'!C26 -> 0
A17: Inscriptions GSM | B17: ='Demande de compétition'!F26 -> 0
A18: Inscriptions Courriel | B18: ='Demande de compétition'!C28 -> 0
A19: Type de compétition | B19: ='Demande de compétition'!C31 -> 0
A20: Déroulement du tir | B20: ='Demande de compétition'!D34 -> 0
A21: Nombre de cibles | B21: ='Demande de compétition'!G34 -> 0
A22: Dos | B22: FALSE
A23: WA | B23: FALSE
A24: Aspirants | B24: FALSE
A25: Loisirs | B25: FALSE
A26: HS | B26: FALSE
A27: HS+F | B27: FALSE
A28: Date Début 1 | B28: ='Demande de compétition'!D42 -> 0
A29: Date Fin 1 | B29: ='Demande de compétition'!F42 -> 0
A30: Date Début 2 | B30: ='Demande de compétition'!D43 -> 0
A31: Date Fin 2 | B31: ='Demande de compétition'!F43 -> 0
A32: Date Début 3 | B32: ='Demande de compétition'!D44 -> 0
A33: Date Fin 3 | B33: ='Demande de compétition'!F44 -> 0
A34: Lieu Nom | B34: ='Demande de compétition'!E46 -> 0
A35: Lieu Adresse | B35: ='Demande de compétition'!C48 -> 0
A36: Lieu Code Postal | B36: ='Demande de compétition'!C50 -> 0
A37: Lieu Localité | B37: ='Demande de compétition'!F50 -> 0
A38: Lieu Latitude | B38: ='Demande de compétition'!C52 -> 0
A39: Lieu Longitude | B39: ='Demande de compétition'!F52 -> 0
A40: Remarques | B40: ='Demande de compétition'!C54 -> 0
A41: Date | B41: ='Demande de compétition'!C58 -> 0

Sheet Liste des clubs
A1: Club | B1: Nom complet
A2: ABA-255 | B2: Archers Gd Serment St Sébastien Braine-L'Alleud
A3: ABT-313 | B3: Archers du Berceau de Thuin
A4: ACE-406 | B4: Archery Club de l'Est
A5: ACG-401 | B5: Archery Club Grivegnée
A6: ACH-416 | B6: Archery Club Herve
A7: ACL-423 | B7: Archery Club de Limbourg
A8: ACM-407 | B8: Archers du Coq Mosan Oupeye
A9: ACS-611 | B9: Archery Club du Sud
A10: ADC-322 | B10: Les Francs Archers des Collines
A11: ADR-602 | B11: Les Archers de la Roulle
A12: ADS-411 | B12: Archers de Seraing
... A70: TAB-704 | B70: Arrow Tabora Namur

Sheet Types de compétition
A1: Code | B1: Description | C1: Description2
A2: 2x25 | B2: 25m (2 x 36 flèches) | C2: -
A3: 50/30 | B3: 50m/30m (2 x 36 flèches) | C3: -
A4: 50/30-2x25 | B4: 50m/30m (2 x 36 flèches) + 25m (2 x 36 flèches) | C4: -
A5: 1440-Simple | B5: 1440 Round (4 distances) - 1 jour | C5: -
A6: 1440-Double | B6: 1440 Round (4 distances) - 2 jours | C6: -
A7: 2x70-Rec | B7: 70/60m Recurve (2 x 36 flèches) | C7: -
A8: 4x70-Rec | B8: 70/60m Recurve (4 x 36 flèches) | C8: -
A9: 2x50-Cpd | B9: 50m Compound (2 x 36 flèches) | C9: -
A10: 4x50-Cpd | B10: 50m Compound (4 x 36 flèches) | C10: -
A11: 2x70R/50C | B11: 70/60m Rec / 50m Cpd (2 x 36 flèches) - Sans finales | C11: -
A12: 4x70R/50C | B12: 70/60m Rec / 50m Cpd (4 x 36 flèches) - Sans finales | C12: -
... A23: Autre | B23: - | C23: A décrire dans le champ "Remarques"
