Workbook

Sheet Blad1

Sheet Einduitslag
C1: COMPOUND HEREN
A2: Rank | B2: Doel | C2: Naam | D2: Club | E2: Lid nr | F2: H/D | G2: R/C | H2: Reeks 1 | I2: Reeks 2 | J2: Totaal | K2: 10'en | L2: 9'en | M2: 1/8 | N2: 1/4 | O2: 1/2 | P2: 3&4 | Q2: Finale
A3: 1 | B3: =inschrijving!B5 -> 04B | C3: =inschrijving!C5 -> KOOLS REGINALD | D3: =inschrijving!D5 -> DNM | E3: =inschrijving!H5 -> 105083 | F3: H | G3: C | H3: =inschrijving!J5 -> 296 | I3: =inschrijving!M5 -> 297 | J3: =inschrijving!P5 -> 593 | K3: =inschrijving!Q5 -> 53 | L3: =inschrijving!R5 -> 7
A4: 2 | B4: =inschrijving!B6 -> 07B | C4: =inschrijving!C6 -> VERBAETEN JOS | D4: =inschrijving!D6 -> DNM | E4: =inschrijving!H6 -> 105030 | F4: H | G4: C | H4: =inschrijving!J6 -> 296 | I4: =inschrijving!M6 -> 290 | J4: =inschrijving!P6 -> 586 | K4: =inschrijving!Q6 -> 46 | L4: =inschrijving!R6 -> 14
A5: 3 | B5: =inschrijving!B7 -> 10D | C5: =inschrijving!C7 -> GOOSSENS CHRIS | D5: =inschrijving!D7 -> NVL | E5: =inschrijving!H7 -> 120007 | F5: H | G5: C | H5: =inschrijving!J7 -> 294 | I5: =inschrijving!M7 -> 288 | J5: =inschrijving!P7 -> 582 | K5: =inschrijving!Q7 -> 42 | L5: =inschrijving!R7 -> 18
A6: 4 | B6: =inschrijving!B8 -> 08B | C6: =inschrijving!C8 -> RENARD ALEXANDER | D6: =inschrijving!D8 -> XAT | E6: =inschrijving!H8 -> 113078 | F6: H | G6: C | H6: =inschrijving!J8 -> 286 | I6: =inschrijving!M8 -> 295 | J6: =inschrijving!P8 -> 581 | K6: =inschrijving!Q8 -> 41 | L6: =inschrijving!R8 -> 19
A7: 5 | B7: =inschrijving!B9 -> 02D | C7: =inschrijving!C9 -> VERDEYEN LUC | D7: =inschrijving!D9 -> SLB | E7: =inschrijving!H9 -> 916029 | F7: H | G7: C | H7: =inschrijving!J9 -> 289 | I7: =inschrijving!M9 -> 290 | J7: =inschrijving!P9 -> 579 | K7: =inschrijving!Q9 -> 39 | L7: =inschrijving!R9 -> 21
A8: 6 | B8: =inschrijving!B10 -> 09D | C8: =inschrijving!C10 -> SOETAERT STEFAAN | D8: =inschrijving!D10 -> WTK | E8: =inschrijving!H10 -> 9058 | F8: H | G8: C | H8: =inschrijving!J10 -> 287 | I8: =inschrijving!M10 -> 291 | J8: =inschrijving!P10 -> 578 | K8: =inschrijving!Q10 -> 38 | L8: =inschrijving!R10 -> 22
A9: 7 | B9: =inschrijving!B11 -> 03A | C9: =inschrijving!C11 -> ACKX ENZO | D9: =inschrijving!D11 -> SKE | E9: =inschrijving!H11 -> 513100 | F9: H | G9: C | H9: =inschrijving!J11 -> 290 | I9: =inschrijving!M11 -> 287 | J9: =inschrijving!P11 -> 577 | K9: =inschrijving!Q11 -> 37 | L9: =inschrijving!R11 -> 23
A10: 8 | B10: =inschrijving!B12 -> 06A | C10: =inschrijving!C12 -> VRACHTEN DIRK | D10: =inschrijving!D12 -> SSV | E10: =inschrijving!H12 -> 517041 | F10: H | G10: C | H10: =inschrijving!J12 -> 286 | I10: =inschrijving!M12 -> 288 | J10: =inschrijving!P12 -> 574 | K10: =inschrijving!Q12 -> 34 | L10: =inschrijving!R12 -> 26
A11: 9 | B11: =inschrijving!B13 -> 06C | C11: =inschrijving!C13 -> REYNTIENS KRISTOF | D11: =inschrijving!D13 -> DEH | E11: =inschrijving!H13 -> 103111 | F11: H | G11: C | H11: =inschrijving!J13 -> 286 | I11: =inschrijving!M13 -> 288 | J11: =inschrijving!P13 -> 574 | K11: =inschrijving!Q13 -> 34 | L11: =inschrijving!R13 -> 26
A12: 10 | B12: =inschrijving!B14 -> 04A | C12: =inschrijving!C14 -> JANNIS LEVI | D12: =inschrijving!D14 -> COP | E12: =inschrijving!H14 -> 502066 | F12: H | G12: C | H12: =inschrijving!J14 -> 284 | I12: =inschrijving!M14 -> 288 | J12: =inschrijving!P14 -> 572 | K12: =inschrijving!Q14 -> 32 | L12: =inschrijving!R14 -> 28
A13: 11 | B13: =inschrijving!B15 -> 05D | C13: =inschrijving!C15 -> JORIS GIANNI | D13: =inschrijving!D15 -> EAB | E13: =inschrijving!H15 -> 960015 | F13: H | G13: C | H13: =inschrijving!J15 -> 281 | I13: =inschrijving!M15 -> 290 | J13: =inschrijving!P15 -> 571 | K13: =inschrijving!Q15 -> 33 | L13: =inschrijving!R15 -> 27
A14: 12 | B14: =inschrijving!B16 -> 01C | C14: =inschrijving!C16 -> VOORTMANS BEN | D14: =inschrijving!D16 -> WVS | E14: =inschrijving!H16 -> 521147 | F14: H | G14: C | H14: =inschrijving!J16 -> 283 | I14: =inschrijving!M16 -> 288 | J14: =inschrijving!P16 -> 571 | K14: =inschrijving!Q16 -> 31 | L14: =inschrijving!R16 -> 29
... A48: 46 | B48: =inschrijving!B50 -> 09C | C48: =inschrijving!C50 -> SEGERS YOERI | D48: =inschrijving!D50 -> SBM | E48: =inschrijving!H50 -> 815006 | F48: H | G48: C | H48: =inschrijving!J50 -> 246 | I48: =inschrijving!M50 -> 210 | J48: =inschrijving!P50 -> 456 | K48: =inschrijving!Q50 -> 5 | L48: =inschrijving!R50 -> 21

Sheet inschrijving
A1: Soort | D1: Club | E1: Datum | F1: Plaats
A2: B.A.I.C. Compound | D2: KJSS | E2: 41958 | F2: Terhagen
A4: meter | B4: Doel | C4: Naam | D4: Club | E4: R/C | F4: H/D | G4: categorie | H4: Lid nr | I4: BETAALD | J4: R1 | K4: 10 | L4: 9 | M4: R2 | N4: 10 | O4: 9 | P4: Totaal | Q4: 10 | R4: 9
A5: 14 | B5: 04B | C5: KOOLS REGINALD | D5: DNM | E5: Compound | F5: Men | G5: Senior 1 | H5: 105083 | J5: 296 | K5: 26 | L5: 4 | M5: 297 | N5: 27 | O5: 3 | P5: 593 | Q5: 53 | R5: 7
A6: 26 | B6: 07B | C6: VERBAETEN JOS | D6: DNM | E6: Compound | F6: Men | G6: Master | H6: 105030 | J6: 296 | K6: 26 | L6: 4 | M6: 290 | N6: 20 | O6: 10 | P6: 586 | Q6: 46 | R6: 14
A7: 40 | B7: 10D | C7: GOOSSENS CHRIS | D7: NVL | E7: Compound | F7: Men | G7: Senior 2 | H7: 120007 | J7: 294 | K7: 24 | L7: 6 | M7: 288 | N7: 18 | O7: 12 | P7: 582 | Q7: 42 | R7: 18
A8: 30 | B8: 08B | C8: RENARD ALEXANDER | D8: XAT | E8: Compound | F8: Men | G8: Senior 1 | H8: 113078 | J8: 286 | K8: 16 | L8: 14 | M8: 295 | N8: 25 | O8: 5 | P8: 581 | Q8: 41 | R8: 19
A9: 8 | B9: 02D | C9: VERDEYEN LUC | D9: SLB | E9: Compound | F9: Men | G9: Master | H9: 916029 | J9: 289 | K9: 19 | L9: 11 | M9: 290 | N9: 20 | O9: 10 | P9: 579 | Q9: 39 | R9: 21
A10: 36 | B10: 09D | C10: SOETAERT STEFAAN | D10: WTK | E10: Compound | F10: Men | G10: Senior 1 | H10: 9058 | J10: 287 | K10: 17 | L10: 13 | M10: 291 | N10: 21 | O10: 9 | P10: 578 | Q10: 38 | R10: 22
A11: 9 | B11: 03A | C11: ACKX ENZO | D11: SKE | E11: Compound | F11: Men | G11: Senior | H11: 513100 | J11: 290 | K11: 20 | L11: 10 | M11: 287 | N11: 17 | O11: 13 | P11: 577 | Q11: 37 | R11: 23
A12: 21 | B12: 06A | C12: VRACHTEN DIRK | D12: SSV | E12: Compound | F12: Men | G12: Senior 2 | H12: 517041 | J12: 286 | K12: 16 | L12: 14 | M12: 288 | N12: 18 | O12: 12 | P12: 574 | Q12: 34 | R12: 26
A13: 23 | B13: 06C | C13: REYNTIENS KRISTOF | D13: DEH | E13: Compound | F13: Men | G13: Junior | H13: 103111 | J13: 286 | K13: 16 | L13: 14 | M13: 288 | N13: 18 | O13: 12 | P13: 574 | Q13: 34 | R13: 26
A14: 13 | B14: 04A | C14: JANNIS LEVI | D14: COP | E14: Compound | F14: Men | G14: Senior 1 | H14: 502066 | J14: 284 | K14: 14 | L14: 16 | M14: 288 | N14: 18 | O14: 12 | P14: 572 | Q14: 32 | R14: 28
A15: 20 | B15: 05D | C15: JORIS GIANNI | D15: EAB | E15: Compound | F15: Men | G15: Junior | H15: 960015 | J15: 281 | K15: 13 | L15: 17 | M15: 290 | N15: 20 | O15: 10 | P15: 571 | Q15: 33 | R15: 27
A16: 3 | B16: 01C | C16: VOORTMANS BEN | D16: WVS | E16: Compound | F16: Men | G16: Junior | H16: 521147 | J16: 283 | K16: 13 | L16: 17 | M16: 288 | N16: 18 | O16: 12 | P16: 571 | Q16: 31 | R16: 29
... A50: 35 | B50: 09C | C50: SEGERS YOERI | D50: SBM | E50: Compound | F50: Men | G50: Junior | H50: 815006 | J50: 246 | K50: 1 | L50: 12 | M50: 210 | N50: 4 | O50: 9 | P50: 456 | Q50: 5 | R50: 21
A51: 47 | B51: 12C | P51: 0 | Q51: 0 | R51: 0
A52: 48 | B52: 12D | P52: 0 | Q52: 0 | R52: 0
A53: 49 | B53: 13A | P53: 0 | Q53: 0 | R53: 0
A54: 50 | B54: 13B | P54: =J54+M54 -> 0 | Q54: =K54+N54 -> 0 | R54: =L54+O54 -> 0
A55: 51 | B55: 13C | P55: =J55+M55 -> 0 | Q55: =K55+N55 -> 0 | R55: =L55+O55 -> 0
A56: 52 | B56: 13D | P56: =J56+M56 -> 0 | Q56: =K56+N56 -> 0 | R56: =L56+O56 -> 0
A57: 53 | B57: 14A | P57: =J57+M57 -> 0 | Q57: =K57+N57 -> 0 | R57: =L57+O57 -> 0
A58: 54 | B58: 14B | P58: =J58+M58 -> 0 | Q58: =K58+N58 -> 0 | R58: =L58+O58 -> 0
A59: 55 | B59: 14C | P59: =J59+M59 -> 0 | Q59: =K59+N59 -> 0 | R59: =L59+O59 -> 0
A60: 56 | B60: 14D | P60: =J60+M60 -> 0 | Q60: =K60+N60 -> 0 | R60: =L60+O60 -> 0
A61: 57 | B61: 15A | P61: =J61+M61 -> 0 | Q61: =K61+N61 -> 0 | R61: =L61+O61 -> 0
A62: 58 | B62: 15B | P62: =J62+M62 -> 0 | Q62: =K62+N62 -> 0 | R62: =L62+O62 -> 0
A63: 59 | B63: 15C | P63: =J63+M63 -> 0 | Q63: =K63+N63 -> 0 | R63: =L63+O63 -> 0
A64: 60 | B64: 15D | P64: =J64+M64 -> 0 | Q64: =K64+N64 -> 0 | R64: =L64+O64 -> 0
A65: 61 | B65: 16A | P65: =J65+M65 -> 0 | Q65: =K65+N65 -> 0 | R65: =L65+O65 -> 0
... A164: 160 | B164: 40D | P164: =J164+M164 -> 0 | Q164: =K164+N164 -> 0 | R164: =L164+O164 -> 0

Sheet KAFT
A1: RESULTS BAIC KJSS
A2: 15 & 16 nov. 2014
A3: sporthal "Uitgedekt schoor" te Terhagen
A5: KJSS dankt alle deelnemers voor hun sportieve deelname,
A6: alsook alle helpers en het scheidsrechtersteam bestaande uit:
A7: Jos Verbaeten - Guido Van Den Bossche - Jacky Buelens

Sheet RANKING
C1: BAIC Rumst 15 nov 2014 COMPOUND MEN
A2: Rank | B2: Doel | C2: Naam | D2: Club | E2: R/C | F2: H/D | G2: categorie | H2: Lid nr | I2: BETAALD | J2: R1 | K2: 10 | L2: 9 | M2: R2 | N2: 10 | O2: 9 | P2: Totaal | Q2: 10 | R2: 9
A3: 1 | C3: KOOLS REGINALD | D3: DNM | E3: Compound | F3: Men | G3: Senior 1 | H3: 105083 | J3: 296 | K3: 26 | L3: 4 | M3: 297 | N3: 27 | O3: 3 | P3: 593 | Q3: 53 | R3: 7
A4: 2 | C4: VERBAETEN JOS | D4: DNM | E4: Compound | F4: Men | G4: Master | H4: 105030 | J4: 296 | K4: 26 | L4: 4 | M4: 290 | N4: 20 | O4: 10 | P4: 586 | Q4: 46 | R4: 14
A5: 3 | C5: GOOSSENS CHRIS | D5: NVL | E5: Compound | F5: Men | G5: Senior 2 | H5: 120007 | J5: 294 | K5: 24 | L5: 6 | M5: 288 | N5: 18 | O5: 12 | P5: 582 | Q5: 42 | R5: 18
A6: 4 | C6: RENARD ALEXANDER | D6: XAT | E6: Compound | F6: Men | G6: Senior 1 | H6: 113078 | J6: 286 | K6: 16 | L6: 14 | M6: 295 | N6: 25 | O6: 5 | P6: 581 | Q6: 41 | R6: 19
A7: 5 | C7: VERDEYEN LUC | D7: SLB | E7: Compound | F7: Men | G7: Master | H7: 916029 | J7: 289 | K7: 19 | L7: 11 | M7: 290 | N7: 20 | O7: 10 | P7: 579 | Q7: 39 | R7: 21
A8: 6 | C8: SOETAERT STEFAAN | D8: WTK | E8: Compound | F8: Men | G8: Senior 1 | H8: 9058 | J8: 287 | K8: 17 | L8: 13 | M8: 291 | N8: 21 | O8: 9 | P8: 578 | Q8: 38 | R8: 22
A9: 7 | C9: ACKX ENZO | D9: SKE | E9: Compound | F9: Men | G9: Senior | H9: 513100 | J9: 290 | K9: 20 | L9: 10 | M9: 287 | N9: 17 | O9: 13 | P9: 577 | Q9: 37 | R9: 23
A10: 8 | C10: VRACHTEN DIRK | D10: SSV | E10: Compound | F10: Men | G10: Senior 2 | H10: 517041 | J10: 286 | K10: 16 | L10: 14 | M10: 288 | N10: 18 | O10: 12 | P10: 574 | Q10: 34 | R10: 26
A11: 9 | C11: REYNTIENS KRISTOF | D11: DEH | E11: Compound | F11: Men | G11: Junior | H11: 103111 | J11: 286 | K11: 16 | L11: 14 | M11: 288 | N11: 18 | O11: 12 | P11: 574 | Q11: 34 | R11: 26
A12: 10 | C12: JANNIS LEVI | D12: COP | E12: Compound | F12: Men | G12: Senior 1 | H12: 502066 | J12: 284 | K12: 14 | L12: 16 | M12: 288 | N12: 18 | O12: 12 | P12: 572 | Q12: 32 | R12: 28
A13: 11 | C13: JORIS GIANNI | D13: EAB | E13: Compound | F13: Men | G13: Junior | H13: 960015 | J13: 281 | K13: 13 | L13: 17 | M13: 290 | N13: 20 | O13: 10 | P13: 571 | Q13: 33 | R13: 27
A14: 12 | C14: BOSMANS LEOPOLD | D14: SKE | E14: Compound | F14: Men | G14: Senior | H14: 513102 | J14: 283 | K14: 13 | L14: 17 | M14: 288 | N14: 18 | O14: 12 | P14: 571 | Q14: 31 | R14: 29
... A48: 46 | C48: SEGERS YOERI | D48: SBM | E48: Compound | F48: Men | G48: Junior | H48: 815006 | J48: 246 | K48: 1 | L48: 12 | M48: 210 | N48: 4 | O48: 9 | P48: 456 | Q48: 5 | R48: 21
A49: 47 | C49: bye | P49: 0 | Q49: 0 | R49: 0
A50: 48 | C50: bye | P50: 0 | Q50: 0 | R50: 0
A51: 49 | C51: bye | P51: 0 | Q51: 0 | R51: 0
A52: 50 | C52: bye | P52: =J52+M52 -> 0 | Q52: =K52+N52 -> 0 | R52: =L52+O52 -> 0
A53: 51 | C53: bye | P53: =J53+M53 -> 0 | Q53: =K53+N53 -> 0 | R53: =L53+O53 -> 0
A54: 52 | C54: bye | P54: =J54+M54 -> 0 | Q54: =K54+N54 -> 0 | R54: =L54+O54 -> 0
A55: 53 | C55: bye | P55: =J55+M55 -> 0 | Q55: =K55+N55 -> 0 | R55: =L55+O55 -> 0
A56: 54 | C56: bye | P56: =J56+M56 -> 0 | Q56: =K56+N56 -> 0 | R56: =L56+O56 -> 0
A57: 55 | C57: bye | P57: =J57+M57 -> 0 | Q57: =K57+N57 -> 0 | R57: =L57+O57 -> 0
A58: 56 | C58: bye | P58: =J58+M58 -> 0 | Q58: =K58+N58 -> 0 | R58: =L58+O58 -> 0
A59: 57 | C59: bye | P59: =J59+M59 -> 0 | Q59: =K59+N59 -> 0 | R59: =L59+O59 -> 0
A60: 58 | C60: bye | P60: =J60+M60 -> 0 | Q60: =K60+N60 -> 0 | R60: =L60+O60 -> 0
A61: 59 | C61: bye | P61: =J61+M61 -> 0 | Q61: =K61+N61 -> 0 | R61: =L61+O61 -> 0
A62: 60 | C62: bye | P62: =J62+M62 -> 0 | Q62: =K62+N62 -> 0 | R62: =L62+O62 -> 0
A63: 61 | C63: bye | P63: =J63+M63 -> 0 | Q63: =K63+N63 -> 0 | R63: =L63+O63 -> 0
... A66: 64 | C66: bye | P66: =J66+M66 -> 0 | Q66: =K66+N66 -> 0 | R66: =L66+O66 -> 0

Sheet AFKAMPING
G1: =RANKING!C1 -> BAIC Rumst 15 nov 2014 COMPOUND MEN
C2: 1/32 | G2: 1/16 | K2: 1/8 | O2: 1/4 | S2: 1/2 | W2: FINALE
B3: Rank | C3: Naam | D3: Punt | E3: TB | F3: Rank | G3: Naam | H3: Punt | I3: TB | J3: Rank | K3: Naam | L3: Punt | M3: TB | N3: Rank | O3: Naam | P3: Punt | Q3: TB | R3: Rank | S3: Naam | T3: Punt | U3: TB | V3: Rank | W3: Naam | X3: Punt | Y3: TB
A4: Lijn | B4: Doel | C4: 1/32 | F4: Doel | G4: 1/16 | H4: Lijn | J4: Doel | K4: 1/8 | L4: Lijn | N4: Doel | O4: 1/4 | P4: Lijn | R4: Doel | S4: 1/2 | T4: Lijn | V4: Doel | W4: FINALE | X4: Lijn
B5: 1 | C5: =RANKING!C3 -> KOOLS REGINALD | D5: 1
B6: x | C6: Doel | F6: 1 | G6: =IF(D5>D7,C5,IF(D7>D5,C7,IF(E5>E7,C5,IF(E7>E5,C7,"??????????")))) -> KOOLS REGINALD | H6: 1 | I6: 147
B7: 64 | C7: =RANKING!C66 -> bye | G7: Individueel doel | H7: A | I7: Lijn
J8: 1 | K8: =IF(H6>H10,G6,IF(H10>H6,G10,IF(I6>I10,G6,IF(I10>I1106,G10,"??????????")))) -> KOOLS REGINALD | L8: 1 | M8: 148
B9: 33 | C9: =RANKING!C35 -> BEERLANDT JURGEN | G9: Individueel doel | H9: B | I9: Lijn | K9: Individueel doel | L9: A | M9: Lijn
B10: x | C10: Doel | F10: 32 | G10: =IF(D9>D11,C9,IF(D11>D9,C11,IF(E9>E11,C9,IF(E11>E9,C11,"??????????")))) -> ALEXANDRE JEAN | I10: 141
B11: 32 | C11: =RANKING!C34 -> ALEXANDRE JEAN | D11: 1
N12: 1 | O12: =IF(L8>L16,K8,IF(L16>L8,K16,IF(M8>M16,K8,IF(M16>M1110,K16,"??????????")))) -> KOOLS REGINALD | P12: 1 | Q12: 148
B13: 17 | C13: =RANKING!C19 -> GENAR RENE | D13: 1 | N13: 1 | O13: Individueel doel | Q13: Lijn
B14: x | C14: Doel | F14: 17 | G14: =IF(D13>D15,C13,IF(D15>D13,C15,IF(E13>E15,C13,IF(E15>E13,C15,"??????????")))) -> GENAR RENE | I14: 141
B15: 48 | C15: =RANKING!C50 -> bye | G15: Individueel doel | H15: A | I15: Lijn | K15: Individueel doel | L15: B | M15: Lijn
J16: 16 | K16: =IF(H14>H18,G14,IF(H18>H14,G18,IF(I14>I18,G14,IF(I18>I1114,G18,"??????????")))) -> VERMEIREN AMBROOS | M16: 142
B17: 49 | C17: =RANKING!C51 -> bye | G17: Individueel doel | H17: B | I17: Lijn
B18: x | C18: Doel | F18: 16 | G18: =IF(D17>D19,C17,IF(D19>D17,C19,IF(E17>E19,C17,IF(E19>E17,C19,"??????????")))) -> VERMEIREN AMBROOS | H18: 1 | I18: 142
B19: 16 | C19: =RANKING!C18 -> VERMEIREN AMBROOS | D19: 1
R20: 1 | S20: =IF(P12>P28,O12,IF(P28>P12,O28,IF(Q12>Q28,O12,IF(Q28>Q1118,O28,"??????????")))) -> KOOLS REGINALD | U20: 147
B21: 9 | C21: =RANKING!C11 -> REYNTIENS KRISTOF | D21: 1 | R21: 2 | S21: Individueel doel | U21: Lijn
B22: x | C22: Doel | F22: 9 | G22: =IF(D21>D23,C21,IF(D23>D21,C23,IF(E21>E23,C21,IF(E23>E21,C23,"??????????")))) -> REYNTIENS KRISTOF | H22: 1 | I22: 143
B23: 56 | C23: =RANKING!C58 -> bye | G23: Individueel doel | H23: A | I23: Lijn
J24: 9 | K24: =IF(H22>H26,G22,IF(H26>H22,G26,IF(I22>I26,G22,IF(I26>I1122,G26,"??????????")))) -> REYNTIENS KRISTOF | M24: 141
B25: 41 | C25: =RANKING!C43 -> PEETERMANS FONS | G25: Individueel doel | H25: B | I25: Lijn | K25: Individueel doel | L25: A | M25: Lijn
B26: x | C26: Doel | F26: 24 | G26: =IF(D25>D27,C25,IF(D27>D25,C27,IF(E25>E27,C25,IF(E27>E25,C27,"??????????")))) -> FIERS HANS | I26: 142
B27: 24 | C27: =RANKING!C26 -> FIERS HANS | D27: 1 | N27: 2 | O27: Individueel doel | Q27: Lijn
N28: 8 | O28: =IF(L24>L32,K24,IF(L32>L24,K32,IF(M24>M32,K24,IF(M32>M1126,K32,"??????????")))) -> VRACHTEN DIRK | Q28: 140
B29: 25 | C29: =RANKING!C27 -> AMEEL TOM | D29: 1
B30: x | C30: Doel | F30: 25 | G30: =IF(D29>D31,C29,IF(D31>D29,C31,IF(E29>E31,C29,IF(E31>E29,C31,"??????????")))) -> AMEEL TOM | I30: 137
B31: 40 | C31: =RANKING!C42 -> VAN GASTEL JEROEN | G31: Individueel doel | H31: A | I31: Lijn | K31: Individueel doel | L31: B | M31: Lijn
J32: 8 | K32: =IF(H30>H34,G30,IF(H34>H30,G34,IF(I30>I34,G30,IF(I34>I1130,G34,"??????????")))) -> VRACHTEN DIRK | L32: 1 | M32: 142
B33: 57 | C33: =RANKING!C59 -> bye | G33: Individueel doel | H33: B | I33: Lijn
B34: x | C34: Doel | F34: 8 | G34: =IF(D33>D35,C33,IF(D35>D33,C35,IF(E33>E35,C33,IF(E35>E33,C35,"??????????")))) -> VRACHTEN DIRK | H34: 1 | I34: 147
B35: 8 | C35: =RANKING!C10 -> VRACHTEN DIRK | D35: 1 | V35: 1 | W35: =IF(T20>T52,S20,IF(T52>T20,S52,IF(U20>U52,S20,IF(U52>U1133,S52,"??????????")))) -> KOOLS REGINALD | Y35: 147
S36: doel | V36: 2 | W36: Individueel doel | Y36: Lijn
B37: 5 | C37: =RANKING!C7 -> VERDEYEN LUC | D37: 1
B38: x | C38: Doel | F38: 5 | G38: =IF(D37>D39,C37,IF(D39>D37,C39,IF(E37>E39,C37,IF(E39>E37,C39,"??????????")))) -> VERDEYEN LUC | I38: 142
B39: 60 | C39: =RANKING!C62 -> bye | G39: Individueel doel | H39: A | I39: Lijn
J40: 5 | K40: =IF(H38>H42,G38,IF(H42>H38,G42,IF(I38>I42,G38,IF(I42>I1138,G42,"??????????")))) -> VAN DEN HOECKE MAURICE | L40: 1 | M40: 142
B41: 37 | C41: =RANKING!C39 -> KOOLS PETER | G41: Individueel doel | H41: B | I41: Lijn | K41: Individueel doel | L41: A | M41: Lijn
B42: x | C42: Doel | F42: 28 | G42: =IF(D41>D43,C41,IF(D43>D41,C43,IF(E41>E43,C41,IF(E43>E41,C43,"??????????")))) -> VAN DEN HOECKE MAURICE | H42: 1 | I42: 142.1
B43: 28 | C43: =RANKING!C30 -> VAN DEN HOECKE MAURICE | D43: 1
N44: 5 | O44: =IF(L40>L48,K40,IF(L48>L40,K48,IF(M40>M48,K40,IF(M48>M1142,K48,"??????????")))) -> VAN DEN HOECKE MAURICE | Q44: 138
B45: 21 | C45: =RANKING!C23 -> VAN DESSEL WILLEM | D45: 1 | N45: 3 | O45: Individueel doel | Q45: Lijn
B46: x | C46: Doel | F46: 21 | G46: =IF(D45>D47,C45,IF(D47>D45,C47,IF(E45>E47,C45,IF(E47>E45,C47,"??????????")))) -> VAN DESSEL WILLEM | H46: 1 | I46: 142
B47: 44 | C47: =RANKING!C46 -> BAEK RONNY | G47: Individueel doel | H47: A | I47: Lijn | K47: Individueel doel | L47: B | M47: Lijn
J48: 12 | K48: =IF(H46>H50,G46,IF(H50>H46,G50,IF(I46>I50,G46,IF(I50>I1146,G50,"??????????")))) -> VAN DESSEL WILLEM | M48: 140
B49: 53 | C49: =RANKING!C55 -> bye | G49: Individueel doel | H49: B | I49: Lijn
B50: x | C50: Doel | F50: 12 | G50: =IF(D49>D51,C49,IF(D51>D49,C51,IF(E49>E51,C49,IF(E51>E49,C51,"??????????")))) -> BOSMANS LEOPOLD | I50: 141
B51: 12 | C51: =RANKING!C14 -> BOSMANS LEOPOLD | D51: 1 | R51: 3 | S51: Individueel doel | U51: Lijn
R52: 4 | S52: =IF(P44>P60,O44,IF(P60>P44,O60,IF(Q44>Q60,O44,IF(Q60>Q1150,O60,"??????????")))) -> RENARD ALEXANDER | U52: 144
B53: 13 | C53: =RANKING!C15 -> PAESMANS GLENN | D53: 1
B54: x | C54: Doel | F54: 13 | G54: =IF(D53>D55,C53,IF(D55>D53,C55,IF(E53>E55,C53,IF(E55>E53,C55,"??????????")))) -> PAESMANS GLENN | I54: 138
B55: 52 | C55: =RANKING!C54 -> bye | G55: Individueel doel | H55: A | I55: Lijn
J56: 13 | K56: =IF(H54>H58,G54,IF(H58>H54,G58,IF(I54>I58,G54,IF(I58>I1154,G58,"??????????")))) -> KOOLS JONATHAN | M56: 139
B57: 45 | C57: =RANKING!C47 -> FREDERICKX JEAN PAUL | G57: Individueel doel | H57: B | I57: Lijn | K57: Individueel doel | L57: A | M57: Lijn
B58: x | C58: Doel | F58: 20 | G58: =IF(D57>D59,C57,IF(D59>D57,C59,IF(E57>E59,C57,IF(E59>E57,C59,"??????????")))) -> KOOLS JONATHAN | H58: 1 | I58: 139
B59: 20 | C59: =RANKING!C22 -> KOOLS JONATHAN | D59: 1 | N59: 4 | O59: Individueel doel | Q59: Lijn
N60: 4 | O60: =IF(L56>L64,K56,IF(L64>L56,K64,IF(M56>M64,K56,IF(M64>M1158,K64,"??????????")))) -> RENARD ALEXANDER | P60: 1 | Q60: 145
B61: 29 | C61: =RANKING!C31 -> FREDERICKX JORAN | D61: 1
B62: x | C62: Doel | F62: 29 | G62: =IF(D61>D63,C61,IF(D63>D61,C63,IF(E61>E63,C61,IF(E63>E61,C63,"??????????")))) -> FREDERICKX JORAN | I62: 139
B63: 36 | C63: =RANKING!C38 -> JANSSENS NIELS | G63: Individueel doel | H63: A | I63: Lijn | K63: Individueel doel | L63: B | M63: Lijn
J64: 4 | K64: =IF(H62>H66,G62,IF(H66>H62,G66,IF(I62>I66,G62,IF(I66>I1162,G66,"??????????")))) -> RENARD ALEXANDER | L64: 1 | M64: 146
B65: 61 | C65: =RANKING!C63 -> bye | G65: Individueel doel | H65: B | I65: Lijn
B66: x | C66: Doel | F66: 4 | G66: =IF(D65>D67,C65,IF(D67>D65,C67,IF(E65>E67,C65,IF(E67>E65,C67,"??????????")))) -> RENARD ALEXANDER | H66: 1 | I66: 144 | R66: 4 | S66: =IF(T20>T52,S52,IF(T52>T20,S20,IF(U20>U52,S52,IF(U52>U20,S20,"??????????")))) -> RENARD ALEXANDER | U66: 146
B67: 4 | C67: =RANKING!C6 -> RENARD ALEXANDER | D67: 1 | R67: 6 | S67: Individueel doel | U67: Lijn | W67: doel
B69: 3 | C69: =RANKING!C5 -> GOOSSENS CHRIS | D69: 1 | R69: 7 | S69: Individueel doel | U69: Lijn
B70: x | C70: Doel | F70: 3 | G70: =IF(D69>D71,C69,IF(D71>D69,C71,IF(E69>E71,C69,IF(E71>E69,C71,"??????????")))) -> GOOSSENS CHRIS | H70: 1 | I70: 147 | R70: 3 | S70: =IF(T84>T116,S116,IF(T116>T84,S84,IF(U84>U116,S116,IF(U116>U84,S84,"??????????")))) -> ACKX ENZO | U70: 147
B71: 62 | C71: =RANKING!C64 -> bye | G71: Individueel doel | H71: A | I71: Lijn
J72: 3 | K72: =IF(H70>H74,G70,IF(H74>H70,G74,IF(I70>I74,G70,IF(I74>I1170,G74,"??????????")))) -> GOOSSENS CHRIS | L72: 1 | M72: 145
B73: 35 | C73: =RANKING!C37 -> DELLEMANS BJARNE | G73: Individueel doel | H73: B | I73: Lijn | K73: Individueel doel | L73: A | M73: Lijn
B74: x | C74: Doel | F74: 30 | G74: =IF(D73>D75,C73,IF(D75>D73,C75,IF(E73>E75,C73,IF(E75>E73,C75,"??????????")))) -> PRIEELS PHILIPPE | I74: 141
B75: 30 | C75: =RANKING!C32 -> PRIEELS PHILIPPE | D75: 1
N76: 3 | O76: =IF(L72>L80,K72,IF(L80>L72,K80,IF(M72>M80,K72,IF(M80>M1174,K80,"??????????")))) -> GOOSSENS CHRIS | P76: 1.1 | Q76: 144
B77: 19 | C77: =RANKING!C21 -> MARTENS PATRICK | D77: 1 | N77: 5 | O77: Individueel doel | Q77: Lijn
B78: x | C78: Doel | F78: 19 | G78: =IF(D77>D79,C77,IF(D79>D77,C79,IF(E77>E79,C77,IF(E79>E77,C79,"??????????")))) -> MARTENS PATRICK | H78: 1 | I78: 139
B79: 46 | C79: =RANKING!C48 -> SEGERS YOERI | G79: Individueel doel | H79: A | I79: Lijn | K79: Individueel doel | L79: B | M79: Lijn
J80: 14 | K80: =IF(H78>H82,G78,IF(H82>H78,G82,IF(I78>I82,G78,IF(I82>I1178,G82,"??????????")))) -> MARTENS PATRICK | M80: 142
B81: 51 | C81: =RANKING!C53 -> bye | G81: Individueel doel | H81: B | I81: Lijn
B82: x | C82: Doel | F82: 14 | G82: =IF(D81>D83,C81,IF(D83>D81,C83,IF(E81>E83,C81,IF(E83>E81,C83,"??????????")))) -> VOORTMANS BEN | I82: 137
B83: 14 | C83: =RANKING!C16 -> VOORTMANS BEN | D83: 1
R84: 3 | S84: =IF(P76>P92,O76,IF(P92>P76,O92,IF(Q76>Q92,O76,IF(Q92>Q1182,O92,"??????????")))) -> GOOSSENS CHRIS | U84: 146
B85: 11 | C85: =RANKING!C13 -> JORIS GIANNI | D85: 1 | R85: 6 | S85: Individueel doel | U85: Lijn
B86: x | C86: Doel | F86: 11 | G86: =IF(D85>D87,C85,IF(D87>D85,C87,IF(E85>E87,C85,IF(E87>E85,C87,"??????????")))) -> JORIS GIANNI | H86: 1 | I86: 145
B87: 54 | C87: =RANKING!C56 -> bye | G87: Individueel doel | H87: A | I87: Lijn
J88: 11 | K88: =IF(H86>H90,G86,IF(H90>H86,G90,IF(I86>I90,G86,IF(I90>I1186,G90,"??????????")))) -> JORIS GIANNI | L88: 1 | M88: 141
B89: 43 | C89: =RANKING!C45 -> VAN DER VENNE RUBEN | G89: Individueel doel | H89: B | I89: Lijn | K89: Individueel doel | L89: A | M89: Lijn
B90: x | C90: Doel | F90: 22 | G90: =IF(D89>D91,C89,IF(D91>D89,C91,IF(E89>E91,C89,IF(E91>E89,C91,"??????????")))) -> STAS JOS | I90: 0
B91: 22 | C91: =RANKING!C24 -> STAS JOS | D91: 1 | N91: 6 | O91: Individueel doel | Q91: Lijn
N92: 6 | O92: =IF(L88>L96,K88,IF(L96>L88,K96,IF(M88>M96,K88,IF(M96>M1190,K96,"??????????")))) -> JORIS GIANNI | Q92: 144
B93: 27 | C93: =RANKING!C29 -> SEGHERS DIRK | D93: 1
B94: x | C94: Doel | F94: 27 | G94: =IF(D93>D95,C93,IF(D95>D93,C95,IF(E93>E95,C93,IF(E95>E93,C95,"??????????")))) -> SEGHERS DIRK | I94: 138
B95: 38 | C95: =RANKING!C40 -> MAES LUCIEN | G95: Individueel doel | H95: A | I95: Lijn | K95: Individueel doel | L95: B | M95: Lijn
J96: 6 | K96: =IF(H94>H98,G94,IF(H98>H94,G98,IF(I94>I98,G94,IF(I98>I1194,G98,"??????????")))) -> SOETAERT STEFAAN | M96: 142
B97: 59 | C97: =RANKING!C61 -> bye | G97: Individueel doel | H97: B | I97: Lijn
B98: x | C98: Doel | F98: 6 | G98: =IF(D97>D99,C97,IF(D99>D97,C99,IF(E97>E99,C97,IF(E99>E97,C99,"??????????")))) -> SOETAERT STEFAAN | H98: 1 | I98: 143
B99: 6 | C99: =RANKING!C8 -> SOETAERT STEFAAN | D99: 1 | V99: 3 | W99: Individueel doel | Y99: Lijn
V100: 2 | W100: =IF(T84>T116,S84,IF(T116>T84,S116,IF(U84>U116,S84,IF(U116>U1198,S116,"??????????")))) -> GOOSSENS CHRIS | Y100: 146
B101: 7 | C101: =RANKING!C9 -> ACKX ENZO | D101: 1
...

Sheet EINDSTAND
C1: =RANKING!C1 -> BAIC Rumst 15 nov 2014 COMPOUND MEN
A2: Rank | B2: Doel | C2: Naam | D2: Club | E2: R/C | F2: H/D | G2: categorie | H2: Lid nr | I2: BETAALD | J2: R1 | K2: 10 | L2: 9 | M2: R2 | N2: 10 | O2: 9 | P2: Totaal | Q2: 10 | R2: 9 | S2: 1/16 | T2: 0.125 | U2: 0.25 | V2: 0.5 | W2: Brons | X2: Goud
A3: 1 | C3: KOOLS REGINALD | D3: DNM | E3: Compound | F3: Men | G3: Senior 1 | H3: 105083 | J3: 296 | K3: 26 | L3: 4 | M3: 297 | N3: 27 | O3: 3 | P3: 593 | Q3: 53 | R3: 7 | S3: 147 | T3: 148 | U3: 148 | V3: 147 | X3: 147
A4: 2 | C4: GOOSSENS CHRIS | D4: NVL | E4: Compound | F4: Men | G4: Senior 2 | H4: 120007 | J4: 294 | K4: 24 | L4: 6 | M4: 288 | N4: 18 | O4: 12 | P4: 582 | Q4: 42 | R4: 18 | S4: 147 | T4: 145 | U4: 144 | V4: 146 | X4: 146
A5: 3 | C5: ACKX ENZO | D5: SKE | E5: Compound | F5: Men | G5: Senior | H5: 513100 | J5: 290 | K5: 20 | L5: 10 | M5: 287 | N5: 17 | O5: 13 | P5: 577 | Q5: 37 | R5: 23 | S5: 148 | T5: 148 | U5: 144 | V5: 143 | W5: 147
A6: 4 | C6: RENARD ALEXANDER | D6: XAT | E6: Compound | F6: Men | G6: Senior 1 | H6: 113078 | J6: 286 | K6: 16 | L6: 14 | M6: 295 | N6: 25 | O6: 5 | P6: 581 | Q6: 41 | R6: 19 | S6: 144 | T6: 146 | U6: 145 | V6: 144 | W6: 146
A7: 5 | C7: JORIS GIANNI | D7: EAB | E7: Compound | F7: Men | G7: Junior | H7: 960015 | J7: 281 | K7: 13 | L7: 17 | M7: 290 | N7: 20 | O7: 10 | P7: 571 | Q7: 33 | R7: 27 | S7: 145 | T7: 141 | U7: 144
A8: 6 | C8: FLEURINCK MICK | D8: GSW | E8: Compound | F8: Men | G8: Senior 2 | H8: 804042 | J8: 282 | K8: 12 | L8: 18 | M8: 284 | N8: 14 | O8: 16 | P8: 566 | Q8: 26 | R8: 34 | S8: 144 | T8: 146 | U8: 143
A9: 7 | C9: VRACHTEN DIRK | D9: SSV | E9: Compound | F9: Men | G9: Senior 2 | H9: 517041 | J9: 286 | K9: 16 | L9: 14 | M9: 288 | N9: 18 | O9: 12 | P9: 574 | Q9: 34 | R9: 26 | S9: 147 | T9: 142 | U9: 140
A10: 8 | C10: VAN DEN HOECKE MAURICE | D10: GPE | E10: Compound | F10: Men | G10: Veteran | H10: 204015 | J10: 278 | K10: 8 | L10: 22 | M10: 278 | N10: 8 | O10: 22 | P10: 556 | Q10: 16 | R10: 44 | S10: 142.1 | T10: 142 | U10: 138
A11: 9 | C11: SOETAERT STEFAAN | D11: WTK | E11: Compound | F11: Men | G11: Senior 1 | H11: 9058 | J11: 287 | K11: 17 | L11: 13 | M11: 291 | N11: 21 | O11: 9 | P11: 578 | Q11: 38 | R11: 22 | S11: 143 | T11: 142
A12: 10 | C12: VERMEIREN AMBROOS | D12: KSM | E12: Compound | F12: Men | G12: Cadet | H12: 116005 | J12: 288 | K12: 18 | L12: 12 | M12: 279 | N12: 9 | O12: 21 | P12: 567 | Q12: 27 | R12: 33 | S12: 142 | T12: 142
A13: 11 | C13: MARTENS PATRICK | D13: SSA | E13: Compound | F13: Men | G13: Senior | H13: 515040 | J13: 282 | K13: 12 | L13: 18 | M13: 282 | N13: 13 | O13: 16 | P13: 564 | Q13: 25 | R13: 34 | S13: 139 | T13: 142
A14: 12 | C14: REYNTIENS KRISTOF | D14: DEH | E14: Compound | F14: Men | G14: Junior | H14: 103111 | J14: 286 | K14: 16 | L14: 14 | M14: 288 | N14: 18 | O14: 12 | P14: 574 | Q14: 34 | R14: 26 | S14: 143 | T14: 141
A15: 13 | C15: VERBAETEN JOS | D15: DNM | E15: Compound | F15: Men | G15: Master | H15: 105030 | J15: 296 | K15: 26 | L15: 4 | M15: 290 | N15: 20 | O15: 10 | P15: 586 | Q15: 46 | R15: 14 | S15: 140 | T15: 141
A16: 14 | C16: VAN DESSEL WILLEM | D16: NSS | E16: Compound | F16: Men | G16: Senior 2 | H16: 131097 | J16: 282 | K16: 12 | L16: 18 | M16: 282 | N16: 12 | O16: 17 | P16: 564 | Q16: 24 | R16: 35 | S16: 142 | T16: 140
A17: 15 | C17: MEYNEN DEGRYSE ALAIN | D17: COP | E17: Compound | F17: Men | G17: Senior | H17: 502115 | J17: 283 | K17: 13 | L17: 17 | M17: 279 | N17: 10 | O17: 19 | P17: 562 | Q17: 23 | R17: 36 | S17: 146 | T17: 139
A18: 16 | C18: KOOLS JONATHAN | D18: DNM | E18: Compound | F18: Men | G18: Junior | H18: 105084 | J18: 283 | K18: 13 | L18: 17 | M18: 281 | N18: 11 | O18: 19 | P18: 564 | Q18: 24 | R18: 36 | S18: 139 | T18: 139
A19: 17 | C19: JANNIS LEVI | D19: COP | E19: Compound | F19: Men | G19: Senior 1 | H19: 502066 | J19: 284 | K19: 14 | L19: 16 | M19: 288 | N19: 18 | O19: 12 | P19: 572 | Q19: 32 | R19: 28 | S19: 144
A20: 18 | C20: VERDEYEN LUC | D20: SLB | E20: Compound | F20: Men | G20: Master | H20: 916029 | J20: 289 | K20: 19 | L20: 11 | M20: 290 | N20: 20 | O20: 10 | P20: 579 | Q20: 39 | R20: 21 | S20: 142
A21: 19 | C21: WOUTERS RUDY | D21: SLB | E21: Compound | F21: Men | G21: Master | H21: 916050 | J21: 283 | K21: 14 | L21: 15 | M21: 286 | N21: 15 | O21: 14 | P21: 569 | Q21: 29 | R21: 29 | S21: 142
A22: 20 | C22: FIERS HANS | D22: KJS | E22: Compound | F22: Men | G22: Senior 2 | H22: 115242 | J22: 279 | K22: 11 | L22: 18 | M22: 282 | N22: 12 | O22: 18 | P22: 561 | Q22: 23 | R22: 36 | S22: 142
A23: 21 | C23: BOSMANS LEOPOLD | D23: SKE | E23: Compound | F23: Men | G23: Senior | H23: 513102 | J23: 283 | K23: 13 | L23: 17 | M23: 288 | N23: 18 | O23: 12 | P23: 571 | Q23: 31 | R23: 29 | S23: 141
A24: 22 | C24: GENAR RENE | D24: SKE | E24: Compound | F24: Men | G24: Master | H24: 513108 | J24: 281 | K24: 16 | L24: 10 | M24: 285 | N24: 15 | O24: 15 | P24: 566 | Q24: 31 | R24: 25 | S24: 141
A25: 23 | C25: PRIEELS PHILIPPE | D25: GSR | E25: Compound | F25: Men | G25: Veteran | H25: 203055 | J25: 274 | K25: 6 | L25: 22 | M25: 277 | N25: 8 | O25: 21 | P25: 551 | Q25: 14 | R25: 43 | S25: 141
A26: 24 | C26: ALEXANDRE JEAN | D26: SKE | E26: Compound | F26: Men | G26: Master | H26: 513082 | J26: 279 | K26: 11 | L26: 17 | M26: 270 | N26: 5 | O26: 22 | P26: 549 | Q26: 16 | R26: 39 | S26: 141
A27: 25 | C27: FREDERICKX JORAN | D27: SHT | E27: Compound | F27: Men | G27: Benjamin | H27: 512066 | J27: 276 | K27: 8 | L27: 20 | M27: 278 | N27: 8 | O27: 22 | P27: 554 | Q27: 16 | R27: 42 | S27: 139
A28: 26 | C28: PAESMANS GLENN | D28: EAB | E28: Compound | F28: Men | G28: Senior | H28: 960005 | J28: 285 | K28: 15 | L28: 15 | M28: 286 | N28: 16 | O28: 14 | P28: 571 | Q28: 31 | R28: 29 | S28: 138
A29: 27 | C29: SEGHERS DIRK | D29: NSS | E29: Compound | F29: Men | G29: Senior 2 | H29: 131092 | J29: 280 | K29: 11 | L29: 18 | M29: 279 | N29: 9 | O29: 21 | P29: 559 | Q29: 20 | R29: 39 | S29: 138
A30: 28 | C30: VOORTMANS BEN | D30: WVS | E30: Compound | F30: Men | G30: Junior | H30: 521147 | J30: 283 | K30: 13 | L30: 17 | M30: 288 | N30: 18 | O30: 12 | P30: 571 | Q30: 31 | R30: 29 | S30: 137
... A34: 32 | C34: STAS JOS | D34: LEL | E34: Compound | F34: Men | G34: Senior 2 | H34: 504147 | J34: 280 | K34: 11 | L34: 18 | M34: 282 | N34: 12 | O34: 18 | P34: 562 | Q34: 23 | R34: 36 | S34: 0
A35: 33 | C35: BEERLANDT JURGEN | D35: XAT | E35: Compound | F35: Men | G35: Senior | H35: 133069 | J35: 272 | K35: 6 | L35: 20 | M35: 276 | N35: 8 | O35: 20 | P35: 548 | Q35: 14 | R35: 40
A36: 34 | C36: VERSWIJVELEN ANDRE | D36: USK | E36: Compound | F36: Men | G36: Senior | H36: 129148 | J36: 273 | K36: 7 | L36: 19 | M36: 274 | N36: 5 | O36: 24 | P36: 547 | Q36: 12 | R36: 43
A37: 35 | C37: DELLEMANS BJARNE | D37: EAB | E37: Compound | F37: Men | G37: Benjamin | H37: 960027 | J37: 274 | K37: 9 | L37: 17 | M37: 271 | N37: 6 | O37: 20 | P37: 545 | Q37: 15 | R37: 37
A38: 36 | C38: JANSSENS NIELS | D38: HSK | E38: Compound | F38: Men | G38: Senior 1 | H38: 134046 | J38: 268 | K38: 4 | L38: 21 | M38: 276 | N38: 8 | O38: 21 | P38: 544 | Q38: 12 | R38: 42
A39: 37 | C39: KOOLS PETER | D39: DNM | E39: Compound | F39: Men | G39: Senior 2 | H39: 105085 | J39: 271 | K39: 6 | L39: 20 | M39: 273 | N39: 6 | O39: 21 | P39: 544 | Q39: 12 | R39: 41
A40: 38 | C40: MAES LUCIEN | D40: RHB | E40: Compound | F40: Men | G40: Veteran | H40: 122126 | J40: 270 | K40: 7 | L40: 16 | M40: 272 | N40: 7 | O40: 19 | P40: 542 | Q40: 14 | R40: 35
A41: 39 | C41: JORIS ACHILLE | D41: EAB | E41: Compound | F41: Men | G41: Master | H41: 960014 | J41: 271 | K41: 6 | L41: 20 | M41: 268 | N41: 6 | O41: 19 | P41: 539 | Q41: 12 | R41: 39
A42: 40 | C42: VAN GASTEL JEROEN | D42: XAT | E42: Compound | F42: Men | G42: Cadet | H42: 133076 | J42: 271 | K42: 8 | L42: 15 | M42: 268 | N42: 4 | O42: 20 | P42: 539 | Q42: 12 | R42: 35
A43: 41 | C43: PEETERMANS FONS | D43: NVL | E43: Compound | F43: Men | G43: Veteran | H43: 120009 | J43: 265 | K43: 5 | L43: 17 | M43: 273 | N43: 10 | O43: 13 | P43: 538 | Q43: 15 | R43: 30
A44: 42 | C44: VAN HAVERMAET RON | D44: RHB | E44: Compound | F44: Men | G44: Veteran | H44: 122200 | J44: 263 | K44: 6 | L44: 19 | M44: 266 | N44: 4 | O44: 20 | P44: 529 | Q44: 10 | R44: 39
A45: 43 | C45: VAN DER VENNE RUBEN | D45: SBM | E45: Compound | F45: Men | G45: Cadet | H45: 815011 | J45: 267 | K45: 6 | L45: 18 | M45: 261 | N45: 3 | O45: 18 | P45: 528 | Q45: 9 | R45: 36
A46: 44 | C46: BAEK RONNY | D46: USK | E46: Compound | F46: Men | G46: Senior | H46: 129114 | J46: 256 | K46: 6 | L46: 15 | M46: 262 | N46: 6 | O46: 18 | P46: 518 | Q46: 12 | R46: 33
... A48: 46 | C48: SEGERS YOERI | D48: SBM | E48: Compound | F48: Men | G48: Junior | H48: 815006 | J48: 246 | K48: 1 | L48: 12 | M48: 210 | N48: 4 | O48: 9 | P48: 456 | Q48: 5 | R48: 21
A49: 47 | C49: bye | P49: 0 | Q49: 0 | R49: 0
A50: 48 | C50: bye | P50: 0 | Q50: 0 | R50: 0
A51: 49 | C51: bye | P51: 0 | Q51: 0 | R51: 0
A52: 50 | C52: bye | P52: =J52+M52 -> 0 | Q52: =K52+N52 -> 0 | R52: =L52+O52 -> 0
A53: 51 | C53: bye | P53: =J53+M53 -> 0 | Q53: =K53+N53 -> 0 | R53: =L53+O53 -> 0
A54: 52 | C54: bye | P54: =J54+M54 -> 0 | Q54: =K54+N54 -> 0 | R54: =L54+O54 -> 0
A55: 53 | C55: bye | P55: =J55+M55 -> 0 | Q55: =K55+N55 -> 0 | R55: =L55+O55 -> 0
A56: 54 | C56: bye | P56: =J56+M56 -> 0 | Q56: =K56+N56 -> 0 | R56: =L56+O56 -> 0
A57: 55 | C57: bye | P57: =J57+M57 -> 0 | Q57: =K57+N57 -> 0 | R57: =L57+O57 -> 0
A58: 56 | C58: bye | P58: =J58+M58 -> 0 | Q58: =K58+N58 -> 0 | R58: =L58+O58 -> 0
A59: 57 | C59: bye | P59: =J59+M59 -> 0 | Q59: =K59+N59 -> 0 | R59: =L59+O59 -> 0
A60: 58 | C60: bye | P60: =J60+M60 -> 0 | Q60: =K60+N60 -> 0 | R60: =L60+O60 -> 0
A61: 59 | C61: bye | P61: =J61+M61 -> 0 | Q61: =K61+N61 -> 0 | R61: =L61+O61 -> 0
A62: 60 | C62: bye | P62: =J62+M62 -> 0 | Q62: =K62+N62 -> 0 | R62: =L62+O62 -> 0
A63: 61 | C63: bye | P63: =J63+M63 -> 0 | Q63: =K63+N63 -> 0 | R63: =L63+O63 -> 0
... A66: 64 | C66: bye | P66: =J66+M66 -> 0 | Q66: =K66+N66 -> 0 | R66: =L66+O66 -> 0

Sheet Schema finale
B1: 1/32 finales | G1: 2 oefen series 1° reeks A-B/C-D 2° reeks C-D/A-B
B2: 1 | C2: 2 | D2: 3 | E2: 4 | F2: 5 | G2: 6 | H2: 7 | I2: 8 | J2: 9 | K2: 10 | L2: 11 | M2: 12 | N2: 13 | O2: 14 | P2: 15 | Q2: 16 | R2: 17 | S2: 18 | T2: 19 | U2: 20 | V2: 21 | W2: 22 | X2: 23 | Y2: 24 | Z2: 25 | AA2: 26 | AB2: 27 | AC2: 28 | AD2: 29 | AE2: 30 | AF2: 31 | AG2: 32
B3: CH | C3: CH | D3: CH | E3: CH | F3: CH | G3: CH | H3: CH | I3: CH | J3: CH | K3: CH | L3: CH | M3: CH | N3: CH | O3: CH | P3: CH | Q3: CH | R3: RH | S3: RH | T3: RH | U3: RH | V3: RH | W3: RH | X3: RH | Y3: RH | Z3: RH | AA3: RH | AB3: RH | AC3: RH | AD3: RH | AE3: RH | AF3: RH | AG3: RH
A4: A | B4: 1 | C4: 49 | D4: 9 | E4: 57 | F4: 5 | G4: 53 | H4: 13 | I4: 61 | J4: 3 | K4: 51 | L4: 11 | M4: 59 | N4: 7 | O4: 55 | P4: 15 | Q4: 63 | R4: 1 | S4: 49 | T4: 9 | U4: 57 | V4: 5 | W4: 53 | X4: 13 | Y4: 61 | Z4: 3 | AA4: 51 | AB4: 11 | AC4: 59 | AD4: 7 | AE4: 55 | AF4: 15 | AG4: 63
A5: B | B5: 64 | C5: 16 | D5: 56 | E5: 8 | F5: 60 | G5: 12 | H5: 52 | I5: 4 | J5: 62 | K5: 14 | L5: 54 | M5: 6 | N5: 58 | O5: 10 | P5: 50 | Q5: 2 | R5: 64 | S5: 16 | T5: 56 | U5: 8 | V5: 60 | W5: 12 | X5: 52 | Y5: 4 | Z5: 62 | AA5: 14 | AB5: 54 | AC5: 6 | AD5: 58 | AE5: 10 | AF5: 50 | AG5: 2
A6: C | B6: 33 | C6: 17 | D6: 41 | E6: 25 | F6: 37 | G6: 21 | H6: 45 | I6: 29 | J6: 35 | K6: 19 | L6: 43 | M6: 27 | N6: 39 | O6: 23 | P6: 47 | Q6: 31 | R6: 33 | S6: 17 | T6: 41 | U6: 25 | V6: 37 | W6: 21 | X6: 45 | Y6: 29 | Z6: 35 | AA6: 19 | AB6: 43 | AC6: 27 | AD6: 39 | AE6: 23 | AF6: 47 | AG6: 31
A7: D | B7: 32 | C7: 48 | D7: 24 | E7: 40 | F7: 28 | G7: 44 | H7: 20 | I7: 36 | J7: 30 | K7: 46 | L7: 22 | M7: 38 | N7: 26 | O7: 42 | P7: 18 | Q7: 34 | R7: 32 | S7: 48 | T7: 24 | U7: 40 | V7: 28 | W7: 44 | X7: 20 | Y7: 36 | Z7: 30 | AA7: 46 | AB7: 22 | AC7: 38 | AD7: 26 | AE7: 42 | AF7: 18 | AG7: 34
B9: 1/32 finales
B10: 1 | C10: 2 | D10: 3 | E10: 4 | F10: 5 | G10: 6 | H10: 7 | I10: 8 | J10: 9 | K10: 10 | L10: 11 | M10: 12 | N10: 13 | O10: 14 | P10: 15 | Q10: 16 | R10: 17 | S10: 18 | T10: 19 | U10: 20 | V10: 21 | W10: 22 | X10: 23 | Y10: 24 | Z10: 25 | AA10: 26 | AB10: 27 | AC10: 28 | AD10: 29 | AE10: 30 | AF10: 31 | AG10: 32
B11: CH | C11: CH | D11: CH | E11: CH | F11: CH | G11: CH | H11: CH | I11: CH | J11: CH | K11: CH | L11: CH | M11: CH | N11: CH | O11: CH | P11: CH | Q11: CH | R11: RH | S11: RH | T11: RH | U11: RH | V11: RH | W11: RH | X11: RH | Y11: RH | Z11: RH | AA11: RH | AB11: RH | AC11: RH | AD11: RH | AE11: RH | AF11: RH | AG11: RH
A12: A | B12: 33 | C12: 17 | D12: 41 | E12: 25 | F12: 37 | G12: 21 | H12: 45 | I12: 29 | J12: 35 | K12: 19 | L12: 43 | M12: 27 | N12: 39 | O12: 23 | P12: 47 | Q12: 31 | R12: 33 | S12: 17 | T12: 41 | U12: 25 | V12: 37 | W12: 21 | X12: 45 | Y12: 29 | Z12: 35 | AA12: 19 | AB12: 43 | AC12: 27 | AD12: 39 | AE12: 23 | AF12: 47 | AG12: 31
A13: B | B13: 32 | C13: 48 | D13: 24 | E13: 40 | F13: 28 | G13: 44 | H13: 20 | I13: 36 | J13: 30 | K13: 46 | L13: 22 | M13: 38 | N13: 26 | O13: 42 | P13: 18 | Q13: 34 | R13: 32 | S13: 48 | T13: 24 | U13: 40 | V13: 28 | W13: 44 | X13: 20 | Y13: 36 | Z13: 30 | AA13: 46 | AB13: 22 | AC13: 38 | AD13: 26 | AE13: 42 | AF13: 18 | AG13: 34
B15: 1/16 finales
B16: 1 | C16: 2 | D16: 3 | E16: 4 | F16: 5 | G16: 6 | H16: 7 | I16: 8 | J16: 9 | K16: 10 | L16: 11 | M16: 12 | N16: 13 | O16: 14 | P16: 15 | Q16: 16 | R16: 17 | S16: 18 | T16: 19 | U16: 20 | V16: 21 | W16: 22 | X16: 23 | Y16: 24 | Z16: 25 | AA16: 26 | AB16: 27 | AC16: 28 | AD16: 29 | AE16: 30 | AF16: 31 | AG16: 32
B17: CH | C17: CH | D17: CH | E17: CH | F17: CH | G17: CH | H17: CH | I17: CH | J17: CH | K17: CH | L17: CH | M17: CH | N17: CH | O17: CH | P17: CH | Q17: CH | R17: RH | S17: RH | T17: RH | U17: RH | V17: RH | W17: RH | X17: RH | Y17: RH | Z17: RH | AA17: RH | AB17: RH | AC17: RH | AD17: RH | AE17: RH | AF17: RH | AG17: RH
A18: A | B18: 1 | C18: 17 | D18: 9 | E18: 25 | F18: 5 | G18: 21 | H18: 13 | I18: 29 | J18: 3 | K18: 19 | L18: 11 | M18: 27 | N18: 7 | O18: 23 | P18: 15 | Q18: 31 | R18: 1 | S18: 17 | T18: 9 | U18: 25 | V18: 5 | W18: 21 | X18: 13 | Y18: 29 | Z18: 3 | AA18: 19 | AB18: 11 | AC18: 27 | AD18: 7 | AE18: 23 | AF18: 15 | AG18: 31
A19: B | B19: 32 | C19: 16 | D19: 24 | E19: 8 | F19: 28 | G19: 12 | H19: 20 | I19: 4 | J19: 30 | K19: 14 | L19: 22 | M19: 6 | N19: 26 | O19: 10 | P19: 18 | Q19: 2 | R19: 32 | S19: 16 | T19: 24 | U19: 8 | V19: 28 | W19: 12 | X19: 20 | Y19: 4 | Z19: 30 | AA19: 14 | AB19: 22 | AC19: 6 | AD19: 26 | AE19: 10 | AF19: 18 | AG19: 2
B21: opwarming | G21: 2 oefen series 1° reeks A-B/C-D 2° reeks C-D/A-B
B22: 1 | C22: 2 | D22: 3 | E22: 4 | F22: 5 | G22: 6 | H22: 7 | I22: 8 | J22: 9 | K22: 10 | L22: 11 | M22: 12 | N22: 13 | O22: 14 | P22: 15 | Q22: 16 | R22: 17 | S22: 18 | T22: 19 | U22: 20 | V22: 21 | W22: 22 | X22: 23 | Y22: 24 | Z22: 25 | AA22: 26 | AB22: 27 | AC22: 28 | AD22: 29 | AE22: 30 | AF22: 31 | AG22: 32
B23: CD | C23: CD | D23: CD | E23: CD | F23: CD | G23: CD | H23: CD | I23: CD | J23: CH | K23: CH | L23: CH | M23: CH | N23: CH | O23: CH | P23: CH | Q23: CH | R23: RH | S23: RH | T23: RH | U23: RH | V23: RH | W23: RH | X23: RH | Y23: RH | Z23: RD | AA23: RD | AB23: RD | AC23: RD | AD23: RD | AE23: RD | AF23: RD | AG23: RD
A24: A | B24: 1 | C24: 9 | D24: 5 | E24: 13 | F24: 3 | G24: 11 | H24: 7 | I24: 15 | K24: PAUSE | S24: PAUSE | Z24: 1 | AA24: 9 | AB24: 5 | AC24: 13 | AD24: 3 | AE24: 11 | AF24: 7 | AG24: 15
A25: B | B25: 16 | C25: 8 | D25: 12 | E25: 4 | F25: 14 | G25: 6 | H25: 10 | I25: 2 | Z25: 16 | AA25: 8 | AB25: 12 | AC25: 4 | AD25: 14 | AE25: 6 | AF25: 10 | AG25: 2
B27: 1/8 finales
B28: 1 | C28: 2 | D28: 3 | E28: 4 | F28: 5 | G28: 6 | H28: 7 | I28: 8 | J28: 9 | K28: 10 | L28: 11 | M28: 12 | N28: 13 | O28: 14 | P28: 15 | Q28: 16 | R28: 17 | S28: 18 | T28: 19 | U28: 20 | V28: 21 | W28: 22 | X28: 23 | Y28: 24 | Z28: 25 | AA28: 26 | AB28: 27 | AC28: 28 | AD28: 29 | AE28: 30 | AF28: 31 | AG28: 32
B29: CD | C29: CD | D29: CD | E29: CD | F29: CD | G29: CD | H29: CD | I29: CD | J29: CH | K29: CH | L29: CH | M29: CH | N29: CH | O29: CH | P29: CH | Q29: CH | R29: RH | S29: RH | T29: RH | U29: RH | V29: RH | W29: RH | X29: RH | Y29: RH | Z29: RD | AA29: RD | AB29: RD | AC29: RD | AD29: RD | AE29: RD | AF29: RD | AG29: RD
A30: A | B30: 1 | C30: 9 | D30: 5 | E30: 13 | F30: 3 | G30: 11 | H30: 7 | I30: 15 | J30: 1 | K30: 9 | L30: 5 | M30: 13 | N30: 3 | O30: 11 | P30: 7 | Q30: 15 | R30: 1 | S30: 9 | T30: 5 | U30: 13 | V30: 3 | W30: 11 | X30: 7 | Y30: 15 | Z30: 1 | AA30: 9 | AB30: 5 | AC30: 13 | AD30: 3 | AE30: 11 | AF30: 7 | AG30: 15
A31: B | B31: 16 | C31: 8 | D31: 12 | E31: 4 | F31: 14 | G31: 6 | H31: 10 | I31: 2 | J31: 16 | K31: 8 | L31: 12 | M31: 4 | N31: 14 | O31: 6 | P31: 10 | Q31: 2 | R31: 16 | S31: 8 | T31: 12 | U31: 4 | V31: 14 | W31: 6 | X31: 10 | Y31: 2 | Z31: 16 | AA31: 8 | AB31: 12 | AC31: 4 | AD31: 14 | AE31: 6 | AF31: 10 | AG31: 2
B33: 1/4 finales
B34: 1 | C34: 2 | D34: 3 | E34: 4 | F34: 5 | G34: 6 | H34: 7 | I34: 8 | J34: 9 | K34: 10 | L34: 11 | M34: 12 | N34: 13 | O34: 14 | P34: 15 | Q34: 16 | R34: 17 | S34: 18 | T34: 19 | U34: 20 | V34: 21 | W34: 22 | X34: 23 | Y34: 24 | Z34: 25 | AA34: 26 | AB34: 27 | AC34: 28 | AD34: 29 | AE34: 30 | AF34: 31 | AG34: 32
B35: CD | C35: CD | D35: CD | E35: CD | F35: CD | G35: CD | H35: CD | I35: CD | J35: CH | K35: CH | L35: CH | M35: CH | N35: CH | O35: CH | P35: CH | Q35: CH | R35: RH | S35: RH | T35: RH | U35: RH | V35: RH | W35: RH | X35: RH | Y35: RH | Z35: RD | AA35: RD | AB35: RD | AC35: RD | AD35: RD | AE35: RD | AF35: RD | AG35: RD
A36: A | B36: 1 | C36: 8 | D36: 5 | E36: 4 | F36: 3 | G36: 6 | H36: 7 | I36: 2 | J36: 1 | K36: 8 | L36: 5 | M36: 4 | N36: 3 | O36: 6 | P36: 7 | Q36: 2 | R36: 1 | S36: 8 | T36: 5 | U36: 4 | V36: 3 | W36: 6 | X36: 7 | Y36: 2 | Z36: 1 | AA36: 8 | AB36: 5 | AC36: 4 | AD36: 3 | AE36: 6 | AF36: 7 | AG36: 2
B38: 1/2 finales
B39: 1 | C39: 2 | D39: 3 | E39: 4 | F39: 5 | G39: 6 | H39: 7 | I39: 8 | J39: 9 | K39: 10 | L39: 11 | M39: 12 | N39: 13 | O39: 14 | P39: 15 | Q39: 16 | R39: 17 | S39: 18 | T39: 19 | U39: 20 | V39: 21 | W39: 22 | X39: 23 | Y39: 24 | Z39: 25 | AA39: 26 | AB39: 27 | AC39: 28 | AD39: 29 | AE39: 30 | AF39: 31 | AG39: 32
B40: CD | C40: CD | D40: CD | E40: CD | F40: CD | G40: CD | H40: CD | I40: CD | J40: CH | K40: CH | L40: CH | M40: CH | N40: CH | O40: CH | P40: CH | Q40: CH | R40: RH | S40: RH | T40: RH | U40: RH | V40: RH | W40: RH | X40: RH | Y40: RH | Z40: RD | AA40: RD | AB40: RD | AC40: RD | AD40: RD | AE40: RD | AF40: RD | AG40: RD
A41: A | C41: 1 | D41: 4 | G41: 3 | H41: 2 | K41: 1 | L41: 4 | O41: 3 | P41: 2 | S41: 1 | T41: 4 | W41: 3 | X41: 2 | AA41: 1 | AB41: 4 | AE41: 3 | AF41: 2
B43: Finales
B44: 1 | C44: 2 | D44: 3 | E44: 4 | F44: 5 | G44: 6 | H44: 7 | I44: 8 | J44: 9 | K44: 10 | L44: 11 | M44: 12 | N44: 13 | O44: 14 | P44: 15 | Q44: 16 | R44: 17 | S44: 18 | T44: 19 | U44: 20 | V44: 21 | W44: 22 | X44: 23 | Y44: 24 | Z44: 25 | AA44: 26 | AB44: 27 | AC44: 28 | AD44: 29 | AE44: 30 | AF44: 31 | AG44: 32
B45: CD | C45: CD | D45: CD | E45: CD | F45: CD | G45: CD | H45: CD | I45: CD | J45: CH | K45: CH | L45: CH | M45: CH | N45: CH | O45: CH | P45: CH | Q45: CH | R45: RH | S45: RH | T45: RH | U45: RH | V45: RH | W45: RH | X45: RH | Y45: RH | Z45: RD | AA45: RD | AB45: RD | AC45: RD | AD45: RD | AE45: RD | AF45: RD | AG45: RD
A46: A | C46: 1 | D46: 2 | G46: 4 | H46: 3 | K46: 1 | L46: 2 | O46: 4 | P46: 3 | S46: 1 | T46: 2 | W46: 4 | X46: 3 | AA46: 1 | AB46: 2 | AE46: 4 | AF46: 3
C47: goud | G47: brons | K47: goud | O47: brons | S47: goud | W47: brons | AA47: goud | AE47: brons

Sheet 1
A1: =inschrijving!A2 -> B.A.I.C. Compound
A2: Datum : | C2: =inschrijving!E2 -> 41958 | G2: Plaats : | I2: =inschrijving!F2 -> Terhagen
A4: Ranking | C4: =RANKING!A3 -> 1
A6: Naam & Voornaam : | F6: =RANKING!C3 -> KOOLS REGINALD
A8: Lidnummer | D8: =RANKING!H3 -> 105083 | J8: Club | L8: =RANKING!D3 -> DNM | N8: Categorie | P8: =RANKING!E3 -> Compound | T8: =RANKING!F3 -> Men | W8: =RANKING!G3 -> Senior 1
A10: 1/32e finale 64 schutters | D10: Doel N° | F10: =AFKAMPING!B6 -> x | H10: =AFKAMPING!A5 -> 0 | J10: 1/16e finale 32 schutters | M10: Doel N° | O10: =IF(AFKAMPING!F7<=0,AFKAMPING!F8,IF(AFKAMPING!F8>=0,AFKAMPING!F7)) -> 0 | Q10: =AFKAMPING!H7 -> A | S10: 1/8e finale 16 schutters | V10: Doel N° | X10: =IF(AFKAMPING!J9<=0,AFKAMPING!J12,IF(AFKAMPING!J12>=0,AFKAMPING!J9)) -> 0 | Z10: =AFKAMPING!L9 -> A
B12: 1 | C12: 2 | D12: 3 | E12: subtotaal | G12: totaal | K12: 1 | L12: 2 | M12: 3 | N12: subtotaal | P12: totaal | T12: 1 | U12: 2 | V12: 3 | W12: subtotaal | Y12: totaal
A13: 1 | J13: 1 | S13: 1
A14: 2 | J14: 2 | S14: 2
A15: 3 | J15: 3 | S15: 3
A16: Indien nodig | J16: Indien nodig | S16: Indien nodig
A17: 4 | J17: 4 | S17: 4
A18: Indien nodig | J18: Indien nodig | S18: Indien nodig
A19: 5 | J19: 5 | S19: 5
C20: Alg. Totaal | L20: Alg. Totaal | U20: Alg. Totaal
A22: MATCH | E22: SHOOT-OFF | J22: MATCH | N22: SHOOT-OFF | S22: MATCH | W22: SHOOT-OFF
A23: Verloren | C23: Gewonnen | E23: Verloren | G23: Gewonnen | J23: Verloren | L23: Gewonnen | N23: Verloren | P23: Gewonnen | S23: Verloren | U23: Gewonnen | W23: Verloren | Y23: Gewonnen
A24: Handtekening schutter | E24: Handtekening schrijver | J24: Handtekening schutter | N24: Handtekening schrijver | S24: Handtekening schutter | W24: Handtekening schrijver
A28: 1/4e finale 8 schutters | D28: Doel N° | F28: =IF(AFKAMPING!N13<=0,AFKAMPING!N20,IF(AFKAMPING!N20>=0,AFKAMPING!N13)) -> 1 | H28: =AFKAMPING!P13 -> 0 | J28: 1/2e finale 4 schutters | M28: Doel N° | O28: =IF(AFKAMPING!R21<=0,AFKAMPING!R36,IF(AFKAMPING!R36>=0,AFKAMPING!R21)) -> 2 | Q28: =AFKAMPING!T21 -> 0 | S28: Finale GOUD | V28: Doel N° | X28: =IF(AFKAMPING!V36<=0,AFKAMPING!V67,IF(AFKAMPING!V67>=0,AFKAMPING!V36)) -> 2
S29: Finale Brons | V29: Doel N° | X29: =IF(AFKAMPING!R67<=0,AFKAMPING!R68,IF(AFKAMPING!R68>=0,AFKAMPING!R67)) -> 6
B30: 1 | C30: 2 | D30: 3 | E30: subtotaal | G30: totaal | K30: 1 | L30: 2 | M30: 3 | N30: subtotaal | P30: totaal | T30: 1 | U30: 2 | V30: 3 | W30: subtotaal | Y30: totaal
A31: 1 | J31: 1 | S31: 1
A32: 2 | J32: 2 | S32: 2
A33: 3 | J33: 3 | S33: 3
A34: Indien nodig | J34: Indien nodig | S34: Indien nodig
A35: 4 | J35: 4 | S35: 4
A36: Indien nodig | J36: Indien nodig | S36: Indien nodig
A37: 5 | J37: 5 | S37: 5
C38: Alg. Totaal | L38: Alg. Totaal | U38: Alg. Totaal
A40: MATCH | E40: SHOOT-OFF | J40: MATCH | N40: SHOOT-OFF | S40: MATCH | W40: SHOOT-OFF
A41: Verloren | C41: Gewonnen | E41: Verloren | G41: Gewonnen | J41: Verloren | L41: Gewonnen | N41: Verloren | P41: Gewonnen | S41: Verloren | U41: Gewonnen | W41: Verloren | Y41: Gewonnen
A42: Handtekening schutter | E42: Handtekening schrijver | J42: Handtekening schutter | N42: Handtekening schrijver | S42: Handtekening schutter | W42: Handtekening schrijver
A46: De winnaar behoud zijn scoreblad, de verliezer laat zijn scoreblad op de grond.
A47: Shoot-off 1 pijl per schutter in 40 sec. , dichts bij het center wint.

Sheet 64
A1: =inschrijving!A2 -> B.A.I.C. Compound
A2: Datum : | C2: =inschrijving!E2 -> 41958 | G2: Plaats : | I2: =inschrijving!F2 -> Terhagen
A4: Ranking | C4: =RANKING!A66 -> 64
A6: Naam & Voornaam : | F6: =RANKING!C66 -> bye
A8: Lidnummer | D8: =RANKING!H66 -> 0 | J8: Club | L8: =RANKING!D66 -> 0 | N8: Categorie | P8: =RANKING!E66 -> 0 | T8: =RANKING!F66 -> 0 | W8: =RANKING!G66 -> 0
A10: 1/32e finale 64 schutters | D10: Doel N° | F10: =AFKAMPING!B6 -> x | H10: =AFKAMPING!A7 -> 0 | J10: 1/16e finale 32 schutters | M10: Doel N° | O10: =IF(AFKAMPING!F7<=0,AFKAMPING!F8,IF(AFKAMPING!F8>=0,AFKAMPING!F7)) -> 0 | Q10: =AFKAMPING!H7 -> A | S10: 1/8e finale 16 schutters | V10: Doel N° | X10: =IF(AFKAMPING!J9<=0,AFKAMPING!J12,IF(AFKAMPING!J12>=0,AFKAMPING!J9)) -> 0 | Z10: =AFKAMPING!L9 -> A
B12: 1 | C12: 2 | D12: 3 | E12: subtotaal | G12: totaal | K12: 1 | L12: 2 | M12: 3 | N12: subtotaal | P12: totaal | T12: 1 | U12: 2 | V12: 3 | W12: subtotaal | Y12: totaal
A13: 1 | J13: 1 | S13: 1
A14: 2 | J14: 2 | S14: 2
A15: 3 | J15: 3 | S15: 3
A16: Indien nodig | J16: Indien nodig | S16: Indien nodig
A17: 4 | J17: 4 | S17: 4
A18: Indien nodig | J18: Indien nodig | S18: Indien nodig
A19: 5 | J19: 5 | S19: 5
C20: Alg. Totaal | L20: Alg. Totaal | U20: Alg. Totaal
A22: MATCH | E22: SHOOT-OFF | J22: MATCH | N22: SHOOT-OFF | S22: MATCH | W22: SHOOT-OFF
A23: Verloren | C23: Gewonnen | E23: Verloren | G23: Gewonnen | J23: Verloren | L23: Gewonnen | N23: Verloren | P23: Gewonnen | S23: Verloren | U23: Gewonnen | W23: Verloren | Y23: Gewonnen
A24: Handtekening schutter | E24: Handtekening schrijver | J24: Handtekening schutter | N24: Handtekening schrijver | S24: Handtekening schutter | W24: Handtekening schrijver
A28: 1/4e finale 8 schutters | D28: Doel N° | F28: =IF(AFKAMPING!N13<=0,AFKAMPING!N20,IF(AFKAMPING!N20>=0,AFKAMPING!N13)) -> 1 | H28: =AFKAMPING!P13 -> 0 | J28: 1/2e finale 4 schutters | M28: Doel N° | O28: =IF(AFKAMPING!R21<=0,AFKAMPING!R36,IF(AFKAMPING!R36>=0,AFKAMPING!R21)) -> 2 | Q28: =AFKAMPING!T21 -> 0 | S28: Finale GOUD | V28: Doel N° | X28: =IF(AFKAMPING!V36<=0,AFKAMPING!V67,IF(AFKAMPING!V67>=0,AFKAMPING!V36)) -> 2
S29: Finale Brons | V29: Doel N° | X29: =IF(AFKAMPING!R67<=0,AFKAMPING!R68,IF(AFKAMPING!R68>=0,AFKAMPING!R67)) -> 6
B30: 1 | C30: 2 | D30: 3 | E30: subtotaal | G30: totaal | K30: 1 | L30: 2 | M30: 3 | N30: subtotaal | P30: totaal | T30: 1 | U30: 2 | V30: 3 | W30: subtotaal | Y30: totaal
A31: 1 | J31: 1 | S31: 1
A32: 2 | J32: 2 | S32: 2
A33: 3 | J33: 3 | S33: 3
A34: Indien nodig | J34: Indien nodig | S34: Indien nodig
A35: 4 | J35: 4 | S35: 4
A36: Indien nodig | J36: Indien nodig | S36: Indien nodig
A37: 5 | J37: 5 | S37: 5
C38: Alg. Totaal | L38: Alg. Totaal | U38: Alg. Totaal
A40: MATCH | E40: SHOOT-OFF | J40: MATCH | N40: SHOOT-OFF | S40: MATCH | W40: SHOOT-OFF
A41: Verloren | C41: Gewonnen | E41: Verloren | G41: Gewonnen | J41: Verloren | L41: Gewonnen | N41: Verloren | P41: Gewonnen | S41: Verloren | U41: Gewonnen | W41: Verloren | Y41: Gewonnen
A42: Handtekening schutter | E42: Handtekening schrijver | J42: Handtekening schutter | N42: Handtekening schrijver | S42: Handtekening schutter | W42: Handtekening schrijver
A46: De winnaar behoud zijn scoreblad, de verliezer laat zijn scoreblad op de grond.
A47: Shoot-off 1 pijl per schutter in 40 sec. , dichts bij het center wint.

Sheet 33
A1: =inschrijving!A2 -> B.A.I.C. Compound
A2: Datum : | C2: =inschrijving!E2 -> 41958 | G2: Plaats : | I2: =inschrijving!F2 -> Terhagen
A4: Ranking | C4: =RANKING!A35 -> 33
A6: Naam & Voornaam : | F6: =RANKING!C35 -> BEERLANDT JURGEN
A8: Lidnummer | D8: =RANKING!H35 -> 133069 | J8: Club | L8: =RANKING!D35 -> XAT | N8: Categorie | P8: =RANKING!E35 -> Compound | T8: =RANKING!F35 -> Men | W8: =RANKING!G35 -> Senior
A10: 1/32e finale 64 schutters | D10: Doel N° | F10: =AFKAMPING!B10 -> x | H10: =AFKAMPING!A9 -> 0 | J10: 1/16e finale 32 schutters | M10: Doel N° | O10: =IF(AFKAMPING!F9<=0,AFKAMPING!F8,IF(AFKAMPING!F8>=0,AFKAMPING!F9)) -> 0 | Q10: =AFKAMPING!H9 -> B | S10: 1/8e finale 16 schutters | V10: Doel N° | X10: =IF(AFKAMPING!J9<=0,AFKAMPING!J12,IF(AFKAMPING!J12>=0,AFKAMPING!J9)) -> 0 | Z10: =AFKAMPING!L9 -> A
B12: 1 | C12: 2 | D12: 3 | E12: subtotaal | G12: totaal | K12: 1 | L12: 2 | M12: 3 | N12: subtotaal | P12: totaal | T12: 1 | U12: 2 | V12: 3 | W12: subtotaal | Y12: totaal
A13: 1 | J13: 1 | S13: 1
A14: 2 | J14: 2 | S14: 2
A15: 3 | J15: 3 | S15: 3
A16: Indien nodig | J16: Indien nodig | S16: Indien nodig
A17: 4 | J17: 4 | S17: 4
A18: Indien nodig | J18: Indien nodig | S18: Indien nodig
A19: 5 | J19: 5 | S19: 5
C20: Alg. Totaal | L20: Alg. Totaal | U20: Alg. Totaal
A22: MATCH | E22: SHOOT-OFF | J22: MATCH | N22: SHOOT-OFF | S22: MATCH | W22: SHOOT-OFF
A23: Verloren | C23: Gewonnen | E23: Verloren | G23: Gewonnen | J23: Verloren | L23: Gewonnen | N23: Verloren | P23: Gewonnen | S23: Verloren | U23: Gewonnen | W23: Verloren | Y23: Gewonnen
A24: Handtekening schutter | E24: Handtekening schrijver | J24: Handtekening schutter | N24: Handtekening schrijver | S24: Handtekening schutter | W24: Handtekening schrijver
A28: 1/4e finale 8 schutters | D28: Doel N° | F28: =IF(AFKAMPING!N13<=0,AFKAMPING!N20,IF(AFKAMPING!N20>=0,AFKAMPING!N13)) -> 1 | H28: =AFKAMPING!P13 -> 0 | J28: 1/2e finale 4 schutters | M28: Doel N° | O28: =IF(AFKAMPING!R21<=0,AFKAMPING!R36,IF(AFKAMPING!R36>=0,AFKAMPING!R21)) -> 2 | Q28: =AFKAMPING!T21 -> 0 | S28: Finale GOUD | V28: Doel N° | X28: =IF(AFKAMPING!V36<=0,AFKAMPING!V67,IF(AFKAMPING!V67>=0,AFKAMPING!V36)) -> 2
S29: Finale Brons | V29: Doel N° | X29: =IF(AFKAMPING!R67<=0,AFKAMPING!R68,IF(AFKAMPING!R68>=0,AFKAMPING!R67)) -> 6
B30: 1 | C30: 2 | D30: 3 | E30: subtotaal | G30: totaal | K30: 1 | L30: 2 | M30: 3 | N30: subtotaal | P30: totaal | T30: 1 | U30: 2 | V30: 3 | W30: subtotaal | Y30: totaal
A31: 1 | J31: 1 | S31: 1
A32: 2 | J32: 2 | S32: 2
A33: 3 | J33: 3 | S33: 3
A34: Indien nodig | J34: Indien nodig | S34: Indien nodig
A35: 4 | J35: 4 | S35: 4
A36: Indien nodig | J36: Indien nodig | S36: Indien nodig
A37: 5 | J37: 5 | S37: 5
C38: Alg. Totaal | L38: Alg. Totaal | U38: Alg. Totaal
A40: MATCH | E40: SHOOT-OFF | J40: MATCH | N40: SHOOT-OFF | S40: MATCH | W40: SHOOT-OFF
A41: Verloren | C41: Gewonnen | E41: Verloren | G41: Gewonnen | J41: Verloren | L41: Gewonnen | N41: Verloren | P41: Gewonnen | S41: Verloren | U41: Gewonnen | W41: Verloren | Y41: Gewonnen
A42: Handtekening schutter | E42: Handtekening schrijver | J42: Handtekening schutter | N42: Handtekening schrijver | S42: Handtekening schutter | W42: Handtekening schrijver
A46: De winnaar behoud zijn scoreblad, de verliezer laat zijn scoreblad op de grond.
A47: Shoot-off 1 pijl per schutter in 40 sec. , dichts bij het center wint.

Sheet 32
A1: =inschrijving!A2 -> B.A.I.C. Compound
A2: Datum : | C2: =inschrijving!E2 -> 41958 | G2: Plaats : | I2: =inschrijving!F2 -> Terhagen
A4: Ranking | C4: =RANKING!A34 -> 32
A6: Naam & Voornaam : | F6: =RANKING!C34 -> ALEXANDRE JEAN
A8: Lidnummer | D8: =RANKING!H34 -> 513082 | J8: Club | L8: =RANKING!D34 -> SKE | N8: Categorie | P8: =RANKING!E34 -> Compound | T8: =RANKING!F34 -> Men | W8: =RANKING!G34 -> Master
A10: 1/32e finale 64 schutters | D10: Doel N° | F10: =AFKAMPING!B10 -> x | H10: =AFKAMPING!A11 -> 0 | J10: 1/16e finale 32 schutters | M10: Doel N° | O10: =IF(AFKAMPING!F9<=0,AFKAMPING!F8,IF(AFKAMPING!F8>=0,AFKAMPING!F9)) -> 0 | Q10: =AFKAMPING!H9 -> B | S10: 1/8e finale 16 schutters | V10: Doel N° | X10: =IF(AFKAMPING!J9<=0,AFKAMPING!J12,IF(AFKAMPING!J12>=0,AFKAMPING!J9)) -> 0 | Z10: =AFKAMPING!L9 -> A
B12: 1 | C12: 2 | D12: 3 | E12: subtotaal | G12: totaal | K12: 1 | L12: 2 | M12: 3 | N12: subtotaal | P12: totaal | T12: 1 | U12: 2 | V12: 3 | W12: subtotaal | Y12: totaal
A13: 1 | J13: 1 | S13: 1
A14: 2 | J14: 2 | S14: 2
A15: 3 | J15: 3 | S15: 3
A16: Indien nodig | J16: Indien nodig | S16: Indien nodig
A17: 4 | J17: 4 | S17: 4
A18: Indien nodig | J18: Indien nodig | S18: Indien nodig
A19: 5 | J19: 5 | S19: 5
C20: Alg. Totaal | L20: Alg. Totaal | U20: Alg. Totaal
A22: MATCH | E22: SHOOT-OFF | J22: MATCH | N22: SHOOT-OFF | S22: MATCH | W22: SHOOT-OFF
A23: Verloren | C23: Gewonnen | E23: Verloren | G23: Gewonnen | J23: Verloren | L23: Gewonnen | N23: Verloren | P23: Gewonnen | S23: Verloren | U23: Gewonnen | W23: Verloren | Y23: Gewonnen
A24: Handtekening schutter | E24: Handtekening schrijver | J24: Handtekening schutter | N24: Handtekening schrijver | S24: Handtekening schutter | W24: Handtekening schrijver
A28: 1/4e finale 8 schutters | D28: Doel N° | F28: =IF(AFKAMPING!N13<=0,AFKAMPING!N20,IF(AFKAMPING!N20>=0,AFKAMPING!N13)) -> 1 | H28: =AFKAMPING!P13 -> 0 | J28: 1/2e finale 4 schutters | M28: Doel N° | O28: =IF(AFKAMPING!R21<=0,AFKAMPING!R36,IF(AFKAMPING!R36>=0,AFKAMPING!R21)) -> 2 | Q28: =AFKAMPING!T21 -> 0 | S28: Finale GOUD | V28: Doel N° | X28: =IF(AFKAMPING!V36<=0,AFKAMPING!V67,IF(AFKAMPING!V67>=0,AFKAMPING!V36)) -> 2
S29: Finale Brons | V29: Doel N° | X29: =IF(AFKAMPING!R67<=0,AFKAMPING!R68,IF(AFKAMPING!R68>=0,AFKAMPING!R67)) -> 6
B30: 1 | C30: 2 | D30: 3 | E30: subtotaal | G30: totaal | K30: 1 | L30: 2 | M30: 3 | N30: subtotaal | P30: totaal | T30: 1 | U30: 2 | V30: 3 | W30: subtotaal | Y30: totaal
A31: 1 | J31: 1 | S31: 1
A32: 2 | J32: 2 | S32: 2
A33: 3 | J33: 3 | S33: 3
A34: Indien nodig | J34: Indien nodig | S34: Indien nodig
A35: 4 | J35: 4 | S35: 4
A36: Indien nodig | J36: Indien nodig | S36: Indien nodig
A37: 5 | J37: 5 | S37: 5
C38: Alg. Totaal | L38: Alg. Totaal | U38: Alg. Totaal
A40: MATCH | E40: SHOOT-OFF | J40: MATCH | N40: SHOOT-OFF | S40: MATCH | W40: SHOOT-OFF
A41: Verloren | C41: Gewonnen | E41: Verloren | G41: Gewonnen | J41: Verloren | L41: Gewonnen | N41: Verloren | P41: Gewonnen | S41: Verloren | U41: Gewonnen | W41: Verloren | Y41: Gewonnen
A42: Handtekening schutter | E42: Handtekening schrijver | J42: Handtekening schutter | N42: Handtekening schrijver | S42: Handtekening schutter | W42: Handtekening schrijver
A46: De winnaar behoud zijn scoreblad, de verliezer laat zijn scoreblad op de grond.
A47: Shoot-off 1 pijl per schutter in 40 sec. , dichts bij het center wint.

Sheet 17
A1: =inschrijving!A2 -> B.A.I.C. Compound
A2: Datum : | C2: =inschrijving!E2 -> 41958 | G2: Plaats : | I2: =inschrijving!F2 -> Terhagen
A4: Ranking | C4: =RANKING!A19 -> 17
A6: Naam & Voornaam : | F6: =RANKING!C19 -> GENAR RENE
A8: Lidnummer | D8: =RANKING!H19 -> 513108 | J8: Club | L8: =RANKING!D19 -> SKE | N8: Categorie | P8: =RANKING!E19 -> Compound | T8: =RANKING!F19 -> Men | W8: =RANKING!G19 -> Master
A10: 1/32e finale 64 schutters | D10: Doel N° | F10: =AFKAMPING!B14 -> x | H10: =AFKAMPING!A13 -> 0 | J10: 1/16e finale 32 schutters | M10: Doel N° | O10: =IF(AFKAMPING!F15<=0,AFKAMPING!F16,IF(AFKAMPING!F16>=0,AFKAMPING!F15)) -> 0 | Q10: =AFKAMPING!H15 -> A | S10: 1/8e finale 16 schutters | V10: Doel N° | X10: =IF(AFKAMPING!J15<=0,AFKAMPING!J12,IF(AFKAMPING!J12>=0,AFKAMPING!J15)) -> 0 | Z10: =AFKAMPING!L15 -> B
B12: 1 | C12: 2 | D12: 3 | E12: subtotaal | G12: totaal | K12: 1 | L12: 2 | M12: 3 | N12: subtotaal | P12: totaal | T12: 1 | U12: 2 | V12: 3 | W12: subtotaal | Y12: totaal
A13: 1 | J13: 1 | S13: 1
A14: 2 | J14: 2 | S14: 2
A15: 3 | J15: 3 | S15: 3
A16: Indien nodig | J16: Indien nodig | S16: Indien nodig
A17: 4 | J17: 4 | S17: 4
A18: Indien nodig | J18: Indien nodig | S18: Indien nodig
A19: 5 | J19: 5 | S19: 5
C20: Alg. Totaal | L20: Alg. Totaal | U20: Alg. Totaal
A22: MATCH | E22: SHOOT-OFF | J22: MATCH | N22: SHOOT-OFF | S22: MATCH | W22: SHOOT-OFF
A23: Verloren | C23: Gewonnen | E23: Verloren | G23: Gewonnen | J23: Verloren | L23: Gewonnen | N23: Verloren | P23: Gewonnen | S23: Verloren | U23: Gewonnen | W23: Verloren | Y23: Gewonnen
A24: Handtekening schutter | E24: Handtekening schrijver | J24: Handtekening schutter | N24: Handtekening schrijver | S24: Handtekening schutter | W24: Handtekening schrijver
A28: 1/4e finale 8 schutters | D28: Doel N° | F28: =IF(AFKAMPING!N13<=0,AFKAMPING!N20,IF(AFKAMPING!N20>=0,AFKAMPING!N13)) -> 1 | H28: =AFKAMPING!P13 -> 0 | J28: 1/2e finale 4 schutters | M28: Doel N° | O28: =IF(AFKAMPING!R21<=0,AFKAMPING!R36,IF(AFKAMPING!R36>=0,AFKAMPING!R21)) -> 2 | Q28: =AFKAMPING!T21 -> 0 | S28: Finale GOUD | V28: Doel N° | X28: =IF(AFKAMPING!V36<=0,AFKAMPING!V67,IF(AFKAMPING!V67>=0,AFKAMPING!V36)) -> 2
S29: Finale Brons | V29: Doel N° | X29: =IF(AFKAMPING!R67<=0,AFKAMPING!R68,IF(AFKAMPING!R68>=0,AFKAMPING!R67)) -> 6
B30: 1 | C30: 2 | D30: 3 | E30: subtotaal | G30: totaal | K30: 1 | L30: 2 | M30: 3 | N30: subtotaal | P30: totaal | T30: 1 | U30: 2 | V30: 3 | W30: subtotaal | Y30: totaal
A31: 1 | J31: 1 | S31: 1
A32: 2 | J32: 2 | S32: 2
A33: 3 | J33: 3 | S33: 3
A34: Indien nodig | J34: Indien nodig | S34: Indien nodig
A35: 4 | J35: 4 | S35: 4
A36: Indien nodig | J36: Indien nodig | S36: Indien nodig
A37: 5 | J37: 5 | S37: 5
C38: Alg. Totaal | L38: Alg. Totaal | U38: Alg. Totaal
A40: MATCH | E40: SHOOT-OFF | J40: MATCH | N40: SHOOT-OFF | S40: MATCH | W40: SHOOT-OFF
A41: Verloren | C41: Gewonnen | E41: Verloren | G41: Gewonnen | J41: Verloren | L41: Gewonnen | N41: Verloren | P41: Gewonnen | S41: Verloren | U41: Gewonnen | W41: Verloren | Y41: Gewonnen
A42: Handtekening schutter | E42: Handtekening schrijver | J42: Handtekening schutter | N42: Handtekening schrijver | S42: Handtekening schutter | W42: Handtekening schrijver
A46: De winnaar behoud zijn scoreblad, de verliezer laat zijn scoreblad op de grond.
A47: Shoot-off 1 pijl per schutter in 40 sec. , dichts bij het center wint.

Sheet 48
A1: =inschrijving!A2 -> B.A.I.C. Compound
A2: Datum : | C2: =inschrijving!E2 -> 41958 | G2: Plaats : | I2: =inschrijving!F2 -> Terhagen
A4: Ranking | C4: =RANKING!A50 -> 48
A6: Naam & Voornaam : | F6: =RANKING!C50 -> bye
A8: Lidnummer | D8: =RANKING!H50 -> 0 | J8: Club | L8: =RANKING!D50 -> 0 | N8: Categorie | P8: =RANKING!E50 -> 0 | T8: =RANKING!F50 -> 0 | W8: =RANKING!G50 -> 0
A10: 1/32e finale 64 schutters | D10: Doel N° | F10: =AFKAMPING!B14 -> x | H10: =AFKAMPING!A15 -> 0 | J10: 1/16e finale 32 schutters | M10: Doel N° | O10: =IF(AFKAMPING!F15<=0,AFKAMPING!F16,IF(AFKAMPING!F16>=0,AFKAMPING!F15)) -> 0 | Q10: =AFKAMPING!H15 -> A | S10: 1/8e finale 16 schutters | V10: Doel N° | X10: =IF(AFKAMPING!J15<=0,AFKAMPING!J12,IF(AFKAMPING!J12>=0,AFKAMPING!J15)) -> 0 | Z10: =AFKAMPING!L15 -> B
B12: 1 | C12: 2 | D12: 3 | E12: subtotaal | G12: totaal | K12: 1 | L12: 2 | M12: 3 | N12: subtotaal | P12: totaal | T12: 1 | U12: 2 | V12: 3 | W12: subtotaal | Y12: totaal
A13: 1 | J13: 1 | S13: 1
A14: 2 | J14: 2 | S14: 2
A15: 3 | J15: 3 | S15: 3
A16: Indien nodig | J16: Indien nodig | S16: Indien nodig
A17: 4 | J17: 4 | S17: 4
A18: Indien nodig | J18: Indien nodig | S18: Indien nodig
A19: 5 | J19: 5 | S19: 5
C20: Alg. Totaal | L20: Alg. Totaal | U20: Alg. Totaal
A22: MATCH | E22: SHOOT-OFF | J22: MATCH | N22: SHOOT-OFF | S22: MATCH | W22: SHOOT-OFF
A23: Verloren | C23: Gewonnen | E23: Verloren | G23: Gewonnen | J23: Verloren | L23: Gewonnen | N23: Verloren | P23: Gewonnen | S23: Verloren | U23: Gewonnen | W23: Verloren | Y23: Gewonnen
A24: Handtekening schutter | E24: Handtekening schrijver | J24: Handtekening schutter | N24: Handtekening schrijver | S24: Handtekening schutter | W24: Handtekening schrijver
A28: 1/4e finale 8 schutters | D28: Doel N° | F28: =IF(AFKAMPING!N13<=0,AFKAMPING!N20,IF(AFKAMPING!N20>=0,AFKAMPING!N13)) -> 1 | H28: =AFKAMPING!P13 -> 0 | J28: 1/2e finale 4 schutters | M28: Doel N° | O28: =IF(AFKAMPING!R21<=0,AFKAMPING!R36,IF(AFKAMPING!R36>=0,AFKAMPING!R21)) -> 2 | Q28: =AFKAMPING!T21 -> 0 | S28: Finale GOUD | V28: Doel N° | X28: =IF(AFKAMPING!V36<=0,AFKAMPING!V67,IF(AFKAMPING!V67>=0,AFKAMPING!V36)) -> 2
S29: Finale Brons | V29: Doel N° | X29: =IF(AFKAMPING!R67<=0,AFKAMPING!R68,IF(AFKAMPING!R68>=0,AFKAMPING!R67)) -> 6
B30: 1 | C30: 2 | D30: 3 | E30: subtotaal | G30: totaal | K30: 1 | L30: 2 | M30: 3 | N30: subtotaal | P30: totaal | T30: 1 | U30: 2 | V30: 3 | W30: subtotaal | Y30: totaal
A31: 1 | J31: 1 | S31: 1
A32: 2 | J32: 2 | S32: 2
A33: 3 | J33: 3 | S33: 3
A34: Indien nodig | J34: Indien nodig | S34: Indien nodig
A35: 4 | J35: 4 | S35: 4
A36: Indien nodig | J36: Indien nodig | S36: Indien nodig
A37: 5 | J37: 5 | S37: 5
C38: Alg. Totaal | L38: Alg. Totaal | U38: Alg. Totaal
A40: MATCH | E40: SHOOT-OFF | J40: MATCH | N40: SHOOT-OFF | S40: MATCH | W40: SHOOT-OFF
A41: Verloren | C41: Gewonnen | E41: Verloren | G41: Gewonnen | J41: Verloren | L41: Gewonnen | N41: Verloren | P41: Gewonnen | S41: Verloren | U41: Gewonnen | W41: Verloren | Y41: Gewonnen
A42: Handtekening schutter | E42: Handtekening schrijver | J42: Handtekening schutter | N42: Handtekening schrijver | S42: Handtekening schutter | W42: Handtekening schrijver
A46: De winnaar behoud zijn scoreblad, de verliezer laat zijn scoreblad op de grond.
A47: Shoot-off 1 pijl per schutter in 40 sec. , dichts bij het center wint.

Sheet 49
A1: =inschrijving!A2 -> B.A.I.C. Compound
A2: Datum : | C2: =inschrijving!E2 -> 41958 | G2: Plaats : | I2: =inschrijving!F2 -> Terhagen
A4: Ranking | C4: =RANKING!A51 -> 49
A6: Naam & Voornaam : | F6: =RANKING!C51 -> bye
A8: Lidnummer | D8: =RANKING!H51 -> 0 | J8: Club | L8: =RANKING!D51 -> 0 | N8: Categorie | P8: =RANKING!E51 -> 0 | T8: =RANKING!F51 -> 0 | W8: =RANKING!G51 -> 0
A10: 1/32e finale 64 schutters | D10: Doel N° | F10: =AFKAMPING!B18 -> x | H10: =AFKAMPING!A17 -> 0 | J10: 1/16e finale 32 schutters | M10: Doel N° | O10: =IF(AFKAMPING!F17>=0,AFKAMPING!F16,IF(AFKAMPING!F16>=0,AFKAMPING!F17)) -> 0 | Q10: =AFKAMPING!H17 -> B | S10: 1/8e finale 16 schutters | V10: Doel N° | X10: =IF(AFKAMPING!J15<=0,AFKAMPING!J12,IF(AFKAMPING!J12>=0,AFKAMPING!J15)) -> 0 | Z10: =AFKAMPING!L15 -> B
B12: 1 | C12: 2 | D12: 3 | E12: subtotaal | G12: totaal | K12: 1 | L12: 2 | M12: 3 | N12: subtotaal | P12: totaal | T12: 1 | U12: 2 | V12: 3 | W12: subtotaal | Y12: totaal
A13: 1 | J13: 1 | S13: 1
A14: 2 | J14: 2 | S14: 2
A15: 3 | J15: 3 | S15: 3
A16: Indien nodig | J16: Indien nodig | S16: Indien nodig
A17: 4 | J17: 4 | S17: 4
A18: Indien nodig | J18: Indien nodig | S18: Indien nodig
A19: 5 | J19: 5 | S19: 5
C20: Alg. Totaal | L20: Alg. Totaal | U20: Alg. Totaal
A22: MATCH | E22: SHOOT-OFF | J22: MATCH | N22: SHOOT-OFF | S22: MATCH | W22: SHOOT-OFF
A23: Verloren | C23: Gewonnen | E23: Verloren | G23: Gewonnen | J23: Verloren | L23: Gewonnen | N23: Verloren | P23: Gewonnen | S23: Verloren | U23: Gewonnen | W23: Verloren | Y23: Gewonnen
A24: Handtekening schutter | E24: Handtekening schrijver | J24: Handtekening schutter | N24: Handtekening schrijver | S24: Handtekening schutter | W24: Handtekening schrijver
A28: 1/4e finale 8 schutters | D28: Doel N° | F28: =IF(AFKAMPING!N13<=0,AFKAMPING!N20,IF(AFKAMPING!N20>=0,AFKAMPING!N13)) -> 1 | H28: =AFKAMPING!P13 -> 0 | J28: 1/2e finale 4 schutters | M28: Doel N° | O28: =IF(AFKAMPING!R21<=0,AFKAMPING!R36,IF(AFKAMPING!R36>=0,AFKAMPING!R21)) -> 2 | Q28: =AFKAMPING!T21 -> 0 | S28: Finale GOUD | V28: Doel N° | X28: =IF(AFKAMPING!V36<=0,AFKAMPING!V67,IF(AFKAMPING!V67>=0,AFKAMPING!V36)) -> 2
S29: Finale Brons | V29: Doel N° | X29: =IF(AFKAMPING!R67<=0,AFKAMPING!R68,IF(AFKAMPING!R68>=0,AFKAMPING!R67)) -> 6
B30: 1 | C30: 2 | D30: 3 | E30: subtotaal | G30: totaal | K30: 1 | L30: 2 | M30: 3 | N30: subtotaal | P30: totaal | T30: 1 | U30: 2 | V30: 3 | W30: subtotaal | Y30: totaal
A31: 1 | J31: 1 | S31: 1
A32: 2 | J32: 2 | S32: 2
A33: 3 | J33: 3 | S33: 3
A34: Indien nodig | J34: Indien nodig | S34: Indien nodig
A35: 4 | J35: 4 | S35: 4
A36: Indien nodig | J36: Indien nodig | S36: Indien nodig
A37: 5 | J37: 5 | S37: 5
C38: Alg. Totaal | L38: Alg. Totaal | U38: Alg. Totaal
A40: MATCH | E40: SHOOT-OFF | J40: MATCH | N40: SHOOT-OFF | S40: MATCH | W40: SHOOT-OFF
A41: Verloren | C41: Gewonnen | E41: Verloren | G41: Gewonnen | J41: Verloren | L41: Gewonnen | N41: Verloren | P41: Gewonnen | S41: Verloren | U41: Gewonnen | W41: Verloren | Y41: Gewonnen
A42: Handtekening schutter | E42: Handtekening schrijver | J42: Handtekening schutter | N42: Handtekening schrijver | S42: Handtekening schutter | W42: Handtekening schrijver
A46: De winnaar behoud zijn scoreblad, de verliezer laat zijn scoreblad op de grond.
A47: Shoot-off 1 pijl per schutter in 40 sec. , dichts bij het center wint.

Sheet 16
A1: =inschrijving!A2 -> B.A.I.C. Compound
A2: Datum : | C2: =inschrijving!E2 -> 41958 | G2: Plaats : | I2: =inschrijving!F2 -> Terhagen
A4: Ranking | C4: =RANKING!A18 -> 16
A6: Naam & Voornaam : | F6: =RANKING!C18 -> VERMEIREN AMBROOS
A8: Lidnummer | D8: =RANKING!H18 -> 116005 | J8: Club | L8: =RANKING!D18 -> KSM | N8: Categorie | P8: =RANKING!E18 -> Compound | T8: =RANKING!F18 -> Men | W8: =RANKING!G18 -> Cadet
A10: 1/32e finale 64 schutters | D10: Doel N° | F10: =AFKAMPING!B18 -> x | H10: =AFKAMPING!A19 -> 0 | J10: 1/16e finale 32 schutters | M10: Doel N° | O10: =IF(AFKAMPING!F17>=0,AFKAMPING!F16,IF(AFKAMPING!F16>=0,AFKAMPING!F17)) -> 0 | Q10: =AFKAMPING!H17 -> B | S10: 1/8e finale 16 schutters | V10: Doel N° | X10: =IF(AFKAMPING!J15<=0,AFKAMPING!J12,IF(AFKAMPING!J12>=0,AFKAMPING!J15)) -> 0 | Z10: =AFKAMPING!L15 -> B
B12: 1 | C12: 2 | D12: 3 | E12: subtotaal | G12: totaal | K12: 1 | L12: 2 | M12: 3 | N12: subtotaal | P12: totaal | T12: 1 | U12: 2 | V12: 3 | W12: subtotaal | Y12: totaal
A13: 1 | J13: 1 | S13: 1
A14: 2 | J14: 2 | S14: 2
A15: 3 | J15: 3 | S15: 3
A16: Indien nodig | J16: Indien nodig | S16: Indien nodig
A17: 4 | J17: 4 | S17: 4
A18: Indien nodig | J18: Indien nodig | S18: Indien nodig
A19: 5 | J19: 5 | S19: 5
C20: Alg. Totaal | L20: Alg. Totaal | U20: Alg. Totaal
A22: MATCH | E22: SHOOT-OFF | J22: MATCH | N22: SHOOT-OFF | S22: MATCH | W22: SHOOT-OFF
A23: Verloren | C23: Gewonnen | E23: Verloren | G23: Gewonnen | J23: Verloren | L23: Gewonnen | N23: Verloren | P23: Gewonnen | S23: Verloren | U23: Gewonnen | W23: Verloren | Y23: Gewonnen
A24: Handtekening schutter | E24: Handtekening schrijver | J24: Handtekening schutter | N24: Handtekening schrijver | S24: Handtekening schutter | W24: Handtekening schrijver
A28: 1/4e finale 8 schutters | D28: Doel N° | F28: =IF(AFKAMPING!N13<=0,AFKAMPING!N20,IF(AFKAMPING!N20>=0,AFKAMPING!N13)) -> 1 | H28: =AFKAMPING!P13 -> 0 | J28: 1/2e finale 4 schutters | M28: Doel N° | O28: =IF(AFKAMPING!R21<=0,AFKAMPING!R36,IF(AFKAMPING!R36>=0,AFKAMPING!R21)) -> 2 | Q28: =AFKAMPING!T21 -> 0 | S28: Finale GOUD | V28: Doel N° | X28: =IF(AFKAMPING!V36<=0,AFKAMPING!V67,IF(AFKAMPING!V67>=0,AFKAMPING!V36)) -> 2
S29: Finale Brons | V29: Doel N° | X29: =IF(AFKAMPING!R67<=0,AFKAMPING!R68,IF(AFKAMPING!R68>=0,AFKAMPING!R67)) -> 6
B30: 1 | C30: 2 | D30: 3 | E30: subtotaal | G30: totaal | K30: 1 | L30: 2 | M30: 3 | N30: subtotaal | P30: totaal | T30: 1 | U30: 2 | V30: 3 | W30: subtotaal | Y30: totaal
A31: 1 | J31: 1 | S31: 1
A32: 2 | J32: 2 | S32: 2
A33: 3 | J33: 3 | S33: 3
A34: Indien nodig | J34: Indien nodig | S34: Indien nodig
A35: 4 | J35: 4 | S35: 4
A36: Indien nodig | J36: Indien nodig | S36: Indien nodig
A37: 5 | J37: 5 | S37: 5
C38: Alg. Totaal | L38: Alg. Totaal | U38: Alg. Totaal
A40: MATCH | E40: SHOOT-OFF | J40: MATCH | N40: SHOOT-OFF | S40: MATCH | W40: SHOOT-OFF
A41: Verloren | C41: Gewonnen | E41: Verloren | G41: Gewonnen | J41: Verloren | L41: Gewonnen | N41: Verloren | P41: Gewonnen | S41: Verloren | U41: Gewonnen | W41: Verloren | Y41: Gewonnen
A42: Handtekening schutter | E42: Handtekening schrijver | J42: Handtekening schutter | N42: Handtekening schrijver | S42: Handtekening schutter | W42: Handtekening schrijver
A46: De winnaar behoud zijn scoreblad, de verliezer laat zijn scoreblad op de grond.
A47: Shoot-off 1 pijl per schutter in 40 sec. , dichts bij het center wint.

Sheet 9
A1: =inschrijving!A2 -> B.A.I.C. Compound
A2: Datum : | C2: =inschrijving!E2 -> 41958 | G2: Plaats : | I2: =inschrijving!F2 -> Terhagen
A4: Ranking | C4: =RANKING!A11 -> 9
A6: Naam & Voornaam : | F6: =RANKING!C11 -> REYNTIENS KRISTOF
A8: Lidnummer | D8: =RANKING!H11 -> 103111 | J8: Club | L8: =RANKING!D11 -> DEH | N8: Categorie | P8: =RANKING!E11 -> Compound | T8: =RANKING!F11 -> Men | W8: =RANKING!G11 -> Junior
A10: 1/32e finale 64 schutters | D10: Doel N° | F10: =AFKAMPING!B22 -> x | H10: =AFKAMPING!A21 -> 0 | J10: 1/16e finale 32 schutters | M10: Doel N° | O10: =IF(AFKAMPING!F23<=0,AFKAMPING!F24,IF(AFKAMPING!F24>=0,AFKAMPING!F23)) -> 0 | Q10: =AFKAMPING!H23 -> A | S10: 1/8e finale 16 schutters | V10: Doel N° | X10: =IF(AFKAMPING!J25<=0,AFKAMPING!J28,IF(AFKAMPING!J28>=0,AFKAMPING!J25)) -> 0 | Z10: =AFKAMPING!L25 -> A
B12: 1 | C12: 2 | D12: 3 | E12: subtotaal | G12: totaal | K12: 1 | L12: 2 | M12: 3 | N12: subtotaal | P12: totaal | T12: 1 | U12: 2 | V12: 3 | W12: subtotaal | Y12: totaal
A13: 1 | J13: 1 | S13: 1
A14: 2 | J14: 2 | S14: 2
A15: 3 | J15: 3 | S15: 3
A16: Indien nodig | J16: Indien nodig | S16: Indien nodig
A17: 4 | J17: 4 | S17: 4
A18: Indien nodig | J18: Indien nodig | S18: Indien nodig
A19: 5 | J19: 5 | S19: 5
C20: Alg. Totaal | L20: Alg. Totaal | U20: Alg. Totaal
A22: MATCH | E22: SHOOT-OFF | J22: MATCH | N22: SHOOT-OFF | S22: MATCH | W22: SHOOT-OFF
A23: Verloren | C23: Gewonnen | E23: Verloren | G23: Gewonnen | J23: Verloren | L23: Gewonnen | N23: Verloren | P23: Gewonnen | S23: Verloren | U23: Gewonnen | W23: Verloren | Y23: Gewonnen
A24: Handtekening schutter | E24: Handtekening schrijver | J24: Handtekening schutter | N24: Handtekening schrijver | S24: Handtekening schutter | W24: Handtekening schrijver
A28: 1/4e finale 8 schutters | D28: Doel N° | F28: =IF(AFKAMPING!N27<=0,AFKAMPING!N20,IF(AFKAMPING!N20>=0,AFKAMPING!N27)) -> 2 | H28: =AFKAMPING!P27 -> 0 | J28: 1/2e finale 4 schutters | M28: Doel N° | O28: =IF(AFKAMPING!R21<=0,AFKAMPING!R36,IF(AFKAMPING!R36>=0,AFKAMPING!R21)) -> 2 | Q28: =AFKAMPING!T21 -> 0 | S28: Finale GOUD | V28: Doel N° | X28: =IF(AFKAMPING!V36<=0,AFKAMPING!V67,IF(AFKAMPING!V67>=0,AFKAMPING!V36)) -> 2
S29: Finale Brons | V29: Doel N° | X29: =IF(AFKAMPING!R67<=0,AFKAMPING!R68,IF(AFKAMPING!R68>=0,AFKAMPING!R67)) -> 6
B30: 1 | C30: 2 | D30: 3 | E30: subtotaal | G30: totaal | K30: 1 | L30: 2 | M30: 3 | N30: subtotaal | P30: totaal | T30: 1 | U30: 2 | V30: 3 | W30: subtotaal | Y30: totaal
A31: 1 | J31: 1 | S31: 1
A32: 2 | J32: 2 | S32: 2
A33: 3 | J33: 3 | S33: 3
A34: Indien nodig | J34: Indien nodig | S34: Indien nodig
A35: 4 | J35: 4 | S35: 4
A36: Indien nodig | J36: Indien nodig | S36: Indien nodig
A37: 5 | J37: 5 | S37: 5
C38: Alg. Totaal | L38: Alg. Totaal | U38: Alg. Totaal
A40: MATCH | E40: SHOOT-OFF | J40: MATCH | N40: SHOOT-OFF | S40: MATCH | W40: SHOOT-OFF
A41: Verloren | C41: Gewonnen | E41: Verloren | G41: Gewonnen | J41: Verloren | L41: Gewonnen | N41: Verloren | P41: Gewonnen | S41: Verloren | U41: Gewonnen | W41: Verloren | Y41: Gewonnen
A42: Handtekening schutter | E42: Handtekening schrijver | J42: Handtekening schutter | N42: Handtekening schrijver | S42: Handtekening schutter | W42: Handtekening schrijver
A46: De winnaar behoud zijn scoreblad, de verliezer laat zijn scoreblad op de grond.
A47: Shoot-off 1 pijl per schutter in 40 sec. , dichts bij het center wint.

Sheet 56
A1: =inschrijving!A2 -> B.A.I.C. Compound
A2: Datum : | C2: =inschrijving!E2 -> 41958 | G2: Plaats : | I2: =inschrijving!F2 -> Terhagen
A4: Ranking | C4: =RANKING!A58 -> 56
A6: Naam & Voornaam : | F6: =RANKING!C58 -> bye
A8: Lidnummer | D8: =RANKING!H58 -> 0 | J8: Club | L8: =RANKING!D58 -> 0 | N8: Categorie | P8: =RANKING!E58 -> 0 | T8: =RANKING!F58 -> 0 | W8: =RANKING!G58 -> 0
A10: 1/32e finale 64 schutters | D10: Doel N° | F10: =AFKAMPING!B22 -> x | H10: =AFKAMPING!A23 -> 0 | J10: 1/16e finale 32 schutters | M10: Doel N° | O10: =IF(AFKAMPING!F23<=0,AFKAMPING!F24,IF(AFKAMPING!F24>=0,AFKAMPING!F23)) -> 0 | Q10: =AFKAMPING!H23 -> A | S10: 1/8e finale 16 schutters | V10: Doel N° | X10: =IF(AFKAMPING!J25<=0,AFKAMPING!J28,IF(AFKAMPING!J28>=0,AFKAMPING!J25)) -> 0 | Z10: =AFKAMPING!L25 -> A
B12: 1 | C12: 2 | D12: 3 | E12: subtotaal | G12: totaal | K12: 1 | L12: 2 | M12: 3 | N12: subtotaal | P12: totaal | T12: 1 | U12: 2 | V12: 3 | W12: subtotaal | Y12: totaal
A13: 1 | J13: 1 | S13: 1
A14: 2 | J14: 2 | S14: 2
A15: 3 | J15: 3 | S15: 3
A16: Indien nodig | J16: Indien nodig | S16: Indien nodig
A17: 4 | J17: 4 | S17: 4
A18: Indien nodig | J18: Indien nodig | S18: Indien nodig
A19: 5 | J19: 5 | S19: 5
C20: Alg. Totaal | L20: Alg. Totaal | U20: Alg. Totaal
A22: MATCH | E22: SHOOT-OFF | J22: MATCH | N22: SHOOT-OFF | S22: MATCH | W22: SHOOT-OFF
A23: Verloren | C23: Gewonnen | E23: Verloren | G23: Gewonnen | J23: Verloren | L23: Gewonnen | N23: Verloren | P23: Gewonnen | S23: Verloren | U23: Gewonnen | W23: Verloren | Y23: Gewonnen
A24: Handtekening schutter | E24: Handtekening schrijver | J24: Handtekening schutter | N24: Handtekening schrijver | S24: Handtekening schutter | W24: Handtekening schrijver
A28: 1/4e finale 8 schutters | D28: Doel N° | F28: =IF(AFKAMPING!N27<=0,AFKAMPING!N20,IF(AFKAMPING!N20>=0,AFKAMPING!N27)) -> 2 | H28: =AFKAMPING!P27 -> 0 | J28: 1/2e finale 4 schutters | M28: Doel N° | O28: =IF(AFKAMPING!R21<=0,AFKAMPING!R36,IF(AFKAMPING!R36>=0,AFKAMPING!R21)) -> 2 | Q28: =AFKAMPING!T21 -> 0 | S28: Finale GOUD | V28: Doel N° | X28: =IF(AFKAMPING!V36<=0,AFKAMPING!V67,IF(AFKAMPING!V67>=0,AFKAMPING!V36)) -> 2
S29: Finale Brons | V29: Doel N° | X29: =IF(AFKAMPING!R67<=0,AFKAMPING!R68,IF(AFKAMPING!R68>=0,AFKAMPING!R67)) -> 6
B30: 1 | C30: 2 | D30: 3 | E30: subtotaal | G30: totaal | K30: 1 | L30: 2 | M30: 3 | N30: subtotaal | P30: totaal | T30: 1 | U30: 2 | V30: 3 | W30: subtotaal | Y30: totaal
A31: 1 | J31: 1 | S31: 1
A32: 2 | J32: 2 | S32: 2
A33: 3 | J33: 3 | S33: 3
A34: Indien nodig | J34: Indien nodig | S34: Indien nodig
A35: 4 | J35: 4 | S35: 4
A36: Indien nodig | J36: Indien nodig | S36: Indien nodig
A37: 5 | J37: 5 | S37: 5
C38: Alg. Totaal | L38: Alg. Totaal | U38: Alg. Totaal
A40: MATCH | E40: SHOOT-OFF | J40: MATCH | N40: SHOOT-OFF | S40: MATCH | W40: SHOOT-OFF
A41: Verloren | C41: Gewonnen | E41: Verloren | G41: Gewonnen | J41: Verloren | L41: Gewonnen | N41: Verloren | P41: Gewonnen | S41: Verloren | U41: Gewonnen | W41: Verloren | Y41: Gewonnen
A42: Handtekening schutter | E42: Handtekening schrijver | J42: Handtekening schutter | N42: Handtekening schrijver | S42: Handtekening schutter | W42: Handtekening schrijver
A46: De winnaar behoud zijn scoreblad, de verliezer laat zijn scoreblad op de grond.
A47: Shoot-off 1 pijl per schutter in 40 sec. , dichts bij het center wint.

Sheet 41
A1: =inschrijving!A2 -> B.A.I.C. Compound
A2: Datum : | C2: =inschrijving!E2 -> 41958 | G2: Plaats : | I2: =inschrijving!F2 -> Terhagen
A4: Ranking | C4: =RANKING!A43 -> 41
A6: Naam & Voornaam : | F6: =RANKING!C43 -> PEETERMANS FONS
A8: Lidnummer | D8: =RANKING!H43 -> 120009 | J8: Club | L8: =RANKING!D43 -> NVL | N8: Categorie | P8: =RANKING!E43 -> Compound | T8: =RANKING!F43 -> Men | W8: =RANKING!G43 -> Veteran
A10: 1/32e finale 64 schutters | D10: Doel N° | F10: =AFKAMPING!B26 -> x | H10: =AFKAMPING!A25 -> 0 | J10: 1/16e finale 32 schutters | M10: Doel N° | O10: =IF(AFKAMPING!F25<=0,AFKAMPING!F24,IF(AFKAMPING!F24>=0,AFKAMPING!F25)) -> 0 | Q10: =AFKAMPING!H25 -> B | S10: 1/8e finale 16 schutters | V10: Doel N° | X10: =IF(AFKAMPING!J25<=0,AFKAMPING!J28,IF(AFKAMPING!J28>=0,AFKAMPING!J25)) -> 0 | Z10: =AFKAMPING!L25 -> A
B12: 1 | C12: 2 | D12: 3 | E12: subtotaal | G12: totaal | K12: 1 | L12: 2 | M12: 3 | N12: subtotaal | P12: totaal | T12: 1 | U12: 2 | V12: 3 | W12: subtotaal | Y12: totaal
A13: 1 | J13: 1 | S13: 1
A14: 2 | J14: 2 | S14: 2
A15: 3 | J15: 3 | S15: 3
A16: Indien nodig | J16: Indien nodig | S16: Indien nodig
A17: 4 | J17: 4 | S17: 4
A18: Indien nodig | J18: Indien nodig | S18: Indien nodig
A19: 5 | J19: 5 | S19: 5
C20: Alg. Totaal | L20: Alg. Totaal | U20: Alg. Totaal
A22: MATCH | E22: SHOOT-OFF | J22: MATCH | N22: SHOOT-OFF | S22: MATCH | W22: SHOOT-OFF
A23: Verloren | C23: Gewonnen | E23: Verloren | G23: Gewonnen | J23: Verloren | L23: Gewonnen | N23: Verloren | P23: Gewonnen | S23: Verloren | U23: Gewonnen | W23: Verloren | Y23: Gewonnen
A24: Handtekening schutter | E24: Handtekening schrijver | J24: Handtekening schutter | N24: Handtekening schrijver | S24: Handtekening schutter | W24: Handtekening schrijver
A28: 1/4e finale 8 schutters | D28: Doel N° | F28: =IF(AFKAMPING!N27<=0,AFKAMPING!N20,IF(AFKAMPING!N20>=0,AFKAMPING!N27)) -> 2 | H28: =AFKAMPING!P27 -> 0 | J28: 1/2e finale 4 schutters | M28: Doel N° | O28: =IF(AFKAMPING!R21<=0,AFKAMPING!R36,IF(AFKAMPING!R36>=0,AFKAMPING!R21)) -> 2 | Q28: =AFKAMPING!T21 -> 0 | S28: Finale GOUD | V28: Doel N° | X28: =IF(AFKAMPING!V36<=0,AFKAMPING!V67,IF(AFKAMPING!V67>=0,AFKAMPING!V36)) -> 2
S29: Finale Brons | V29: Doel N° | X29: =IF(AFKAMPING!R67<=0,AFKAMPING!R68,IF(AFKAMPING!R68>=0,AFKAMPING!R67)) -> 6
B30: 1 | C30: 2 | D30: 3 | E30: subtotaal | G30: totaal | K30: 1 | L30: 2 | M30: 3 | N30: subtotaal | P30: totaal | T30: 1 | U30: 2 | V30: 3 | W30: subtotaal | Y30: totaal
A31: 1 | J31: 1 | S31: 1
A32: 2 | J32: 2 | S32: 2
A33: 3 | J33: 3 | S33: 3
A34: Indien nodig | J34: Indien nodig | S34: Indien nodig
A35: 4 | J35: 4 | S35: 4
A36: Indien nodig | J36: Indien nodig | S36: Indien nodig
A37: 5 | J37: 5 | S37: 5
C38: Alg. Totaal | L38: Alg. Totaal | U38: Alg. Totaal
A40: MATCH | E40: SHOOT-OFF | J40: MATCH | N40: SHOOT-OFF | S40: MATCH | W40: SHOOT-OFF
A41: Verloren | C41: Gewonnen | E41: Verloren | G41: Gewonnen | J41: Verloren | L41: Gewonnen | N41: Verloren | P41: Gewonnen | S41: Verloren | U41: Gewonnen | W41: Verloren | Y41: Gewonnen
A42: Handtekening schutter | E42: Handtekening schrijver | J42: Handtekening schutter | N42: Handtekening schrijver | S42: Handtekening schutter | W42: Handtekening schrijver
A46: De winnaar behoud zijn scoreblad, de verliezer laat zijn scoreblad op de grond.
A47: Shoot-off 1 pijl per schutter in 40 sec. , dichts bij het center wint.

Sheet 24
A1: =inschrijving!A2 -> B.A.I.C. Compound
A2: Datum : | C2: =inschrijving!E2 -> 41958 | G2: Plaats : | I2: =inschrijving!F2 -> Terhagen
A4: Ranking | C4: =RANKING!A26 -> 24
A6: Naam & Voornaam : | F6: =RANKING!C26 -> FIERS HANS
A8: Lidnummer | D8: =RANKING!H26 -> 115242 | J8: Club | L8: =RANKING!D26 -> KJS | N8: Categorie | P8: =RANKING!E26 -> Compound | T8: =RANKING!F26 -> Men | W8: =RANKING!G26 -> Senior 2
A10: 1/32e finale 64 schutters | D10: Doel N° | F10: =AFKAMPING!B26 -> x | H10: =AFKAMPING!A27 -> 0 | J10: 1/16e finale 32 schutters | M10: Doel N° | O10: =IF(AFKAMPING!F25<=0,AFKAMPING!F24,IF(AFKAMPING!F24>=0,AFKAMPING!F25)) -> 0 | Q10: =AFKAMPING!H25 -> B | S10: 1/8e finale 16 schutters | V10: Doel N° | X10: =IF(AFKAMPING!J25<=0,AFKAMPING!J28,IF(AFKAMPING!J28>=0,AFKAMPING!J25)) -> 0 | Z10: =AFKAMPING!L25 -> A
B12: 1 | C12: 2 | D12: 3 | E12: subtotaal | G12: totaal | K12: 1 | L12: 2 | M12: 3 | N12: subtotaal | P12: totaal | T12: 1 | U12: 2 | V12: 3 | W12: subtotaal | Y12: totaal
A13: 1 | J13: 1 | S13: 1
A14: 2 | J14: 2 | S14: 2
A15: 3 | J15: 3 | S15: 3
A16: Indien nodig | J16: Indien nodig | S16: Indien nodig
A17: 4 | J17: 4 | S17: 4
A18: Indien nodig | J18: Indien nodig | S18: Indien nodig
A19: 5 | J19: 5 | S19: 5
C20: Alg. Totaal | L20: Alg. Totaal | U20: Alg. Totaal
A22: MATCH | E22: SHOOT-OFF | J22: MATCH | N22: SHOOT-OFF | S22: MATCH | W22: SHOOT-OFF
A23: Verloren | C23: Gewonnen | E23: Verloren | G23: Gewonnen | J23: Verloren | L23: Gewonnen | N23: Verloren | P23: Gewonnen | S23: Verloren | U23: Gewonnen | W23: Verloren | Y23: Gewonnen
A24: Handtekening schutter | E24: Handtekening schrijver | J24: Handtekening schutter | N24: Handtekening schrijver | S24: Handtekening schutter | W24: Handtekening schrijver
A28: 1/4e finale 8 schutters | D28: Doel N° | F28: =IF(AFKAMPING!N27<=0,AFKAMPING!N20,IF(AFKAMPING!N20>=0,AFKAMPING!N27)) -> 2 | H28: =AFKAMPING!P27 -> 0 | J28: 1/2e finale 4 schutters | M28: Doel N° | O28: =IF(AFKAMPING!R21<=0,AFKAMPING!R36,IF(AFKAMPING!R36>=0,AFKAMPING!R21)) -> 2 | Q28: =AFKAMPING!T21 -> 0 | S28: Finale GOUD | V28: Doel N° | X28: =IF(AFKAMPING!V36<=0,AFKAMPING!V67,IF(AFKAMPING!V67>=0,AFKAMPING!V36)) -> 2
S29: Finale Brons | V29: Doel N° | X29: =IF(AFKAMPING!R67<=0,AFKAMPING!R68,IF(AFKAMPING!R68>=0,AFKAMPING!R67)) -> 6
B30: 1 | C30: 2 | D30: 3 | E30: subtotaal | G30: totaal | K30: 1 | L30: 2 | M30: 3 | N30: subtotaal | P30: totaal | T30: 1 | U30: 2 | V30: 3 | W30: subtotaal | Y30: totaal
A31: 1 | J31: 1 | S31: 1
A32: 2 | J32: 2 | S32: 2
A33: 3 | J33: 3 | S33: 3
A34: Indien nodig | J34: Indien nodig | S34: Indien nodig
A35: 4 | J35: 4 | S35: 4
A36: Indien nodig | J36: Indien nodig | S36: Indien nodig
A37: 5 | J37: 5 | S37: 5
C38: Alg. Totaal | L38: Alg. Totaal | U38: Alg. Totaal
A40: MATCH | E40: SHOOT-OFF | J40: MATCH | N40: SHOOT-OFF | S40: MATCH | W40: SHOOT-OFF
A41: Verloren | C41: Gewonnen | E41: Verloren | G41: Gewonnen | J41: Verloren | L41: Gewonnen | N41: Verloren | P41: Gewonnen | S41: Verloren | U41: Gewonnen | W41: Verloren | Y41: Gewonnen
A42: Handtekening schutter | E42: Handtekening schrijver | J42: Handtekening schutter | N42: Handtekening schrijver | S42: Handtekening schutter | W42: Handtekening schrijver
A46: De winnaar behoud zijn scoreblad, de verliezer laat zijn scoreblad op de grond.
A47: Shoot-off 1 pijl per schutter in 40 sec. , dichts bij het center wint.

Sheet 25
A1: =inschrijving!A2 -> B.A.I.C. Compound
A2: Datum : | C2: =inschrijving!E2 -> 41958 | G2: Plaats : | I2: =inschrijving!F2 -> Terhagen
A4: Ranking | C4: =RANKING!A27 -> 25
A6: Naam & Voornaam : | F6: =RANKING!C27 -> AMEEL TOM
A8: Lidnummer | D8: =RANKING!H27 -> 11003 | J8: Club | L8: =RANKING!D27 -> WVH | N8: Categorie | P8: =RANKING!E27 -> Compound | T8: =RANKING!F27 -> Men | W8: =RANKING!G27 -> Senior
A10: 1/32e finale 64 schutters | D10: Doel N° | F10: =AFKAMPING!B30 -> x | H10: =AFKAMPING!A29 -> 0 | J10: 1/16e finale 32 schutters | M10: Doel N° | O10: =IF(AFKAMPING!F31<=0,AFKAMPING!F32,IF(AFKAMPING!F32>=0,AFKAMPING!F31)) -> 0 | Q10: =AFKAMPING!H31 -> A | S10: 1/8e finale 16 schutters | V10: Doel N° | X10: =IF(AFKAMPING!J31<=0,AFKAMPING!J28,IF(AFKAMPING!J28>=0,AFKAMPING!J31)) -> 0 | Z10: =AFKAMPING!L31 -> B
B12: 1 | C12: 2 | D12: 3 | E12: subtotaal | G12: totaal | K12: 1 | L12: 2 | M12: 3 | N12: subtotaal | P12: totaal | T12: 1 | U12: 2 | V12: 3 | W12: subtotaal | Y12: totaal
A13: 1 | J13: 1 | S13: 1
A14: 2 | J14: 2 | S14: 2
A15: 3 | J15: 3 | S15: 3
A16: Indien nodig | J16: Indien nodig | S16: Indien nodig
A17: 4 | J17: 4 | S17: 4
A18: Indien nodig | J18: Indien nodig | S18: Indien nodig
A19: 5 | J19: 5 | S19: 5
C20: Alg. Totaal | L20: Alg. Totaal | U20: Alg. Totaal
A22: MATCH | E22: SHOOT-OFF | J22: MATCH | N22: SHOOT-OFF | S22: MATCH | W22: SHOOT-OFF
A23: Verloren | C23: Gewonnen | E23: Verloren | G23: Gewonnen | J23: Verloren | L23: Gewonnen | N23: Verloren | P23: Gewonnen | S23: Verloren | U23: Gewonnen | W23: Verloren | Y23: Gewonnen
A24: Handtekening schutter | E24: Handtekening schrijver | J24: Handtekening schutter | N24: Handtekening schrijver | S24: Handtekening schutter | W24: Handtekening schrijver
A28: 1/4e finale 8 schutters | D28: Doel N° | F28: =IF(AFKAMPING!N27<=0,AFKAMPING!N20,IF(AFKAMPING!N20>=0,AFKAMPING!N27)) -> 2 | H28: =AFKAMPING!P27 -> 0 | J28: 1/2e finale 4 schutters | M28: Doel N° | O28: =IF(AFKAMPING!R21<=0,AFKAMPING!R36,IF(AFKAMPING!R36>=0,AFKAMPING!R21)) -> 2 | Q28: =AFKAMPING!T21 -> 0 | S28: Finale GOUD | V28: Doel N° | X28: =IF(AFKAMPING!V36<=0,AFKAMPING!V67,IF(AFKAMPING!V67>=0,AFKAMPING!V36)) -> 2
S29: Finale Brons | V29: Doel N° | X29: =IF(AFKAMPING!R67<=0,AFKAMPING!R68,IF(AFKAMPING!R68>=0,AFKAMPING!R67)) -> 6
B30: 1 | C30: 2 | D30: 3 | E30: subtotaal | G30: totaal | K30: 1 | L30: 2 | M30: 3 | N30: subtotaal | P30: totaal | T30: 1 | U30: 2 | V30: 3 | W30: subtotaal | Y30: totaal
A31: 1 | J31: 1 | S31: 1
A32: 2 | J32: 2 | S32: 2
A33: 3 | J33: 3 | S33: 3
A34: Indien nodig | J34: Indien nodig | S34: Indien nodig
A35: 4 | J35: 4 | S35: 4
A36: Indien nodig | J36: Indien nodig | S36: Indien nodig
A37: 5 | J37: 5 | S37: 5
C38: Alg. Totaal | L38: Alg. Totaal | U38: Alg. Totaal
A40: MATCH | E40: SHOOT-OFF | J40: MATCH | N40: SHOOT-OFF | S40: MATCH | W40: SHOOT-OFF
A41: Verloren | C41: Gewonnen | E41: Verloren | G41: Gewonnen | J41: Verloren | L41: Gewonnen | N41: Verloren | P41: Gewonnen | S41: Verloren | U41: Gewonnen | W41: Verloren | Y41: Gewonnen
A42: Handtekening schutter | E42: Handtekening schrijver | J42: Handtekening schutter | N42: Handtekening schrijver | S42: Handtekening schutter | W42: Handtekening schrijver
A46: De winnaar behoud zijn scoreblad, de verliezer laat zijn scoreblad op de grond.
A47: Shoot-off 1 pijl per schutter in 40 sec. , dichts bij het center wint.

Sheet 40
A1: =inschrijving!A2 -> B.A.I.C. Compound
A2: Datum : | C2: =inschrijving!E2 -> 41958 | G2: Plaats : | I2: =inschrijving!F2 -> Terhagen
A4: Ranking | C4: =RANKING!A42 -> 40
A6: Naam & Voornaam : | F6: =RANKING!C42 -> VAN GASTEL JEROEN
A8: Lidnummer | D8: =RANKING!H42 -> 133076 | J8: Club | L8: =RANKING!D42 -> XAT | N8: Categorie | P8: =RANKING!E42 -> Compound | T8: =RANKING!F42 -> Men | W8: =RANKING!G42 -> Cadet
A10: 1/32e finale 64 schutters | D10: Doel N° | F10: =AFKAMPING!B30 -> x | H10: =AFKAMPING!A31 -> 0 | J10: 1/16e finale 32 schutters | M10: Doel N° | O10: =IF(AFKAMPING!F31<=0,AFKAMPING!F32,IF(AFKAMPING!F32>=0,AFKAMPING!F31)) -> 0 | Q10: =AFKAMPING!H31 -> A | S10: 1/8e finale 16 schutters | V10: Doel N° | X10: =IF(AFKAMPING!J31<=0,AFKAMPING!J28,IF(AFKAMPING!J28>=0,AFKAMPING!J31)) -> 0 | Z10: =AFKAMPING!L31 -> B
B12: 1 | C12: 2 | D12: 3 | E12: subtotaal | G12: totaal | K12: 1 | L12: 2 | M12: 3 | N12: subtotaal | P12: totaal | T12: 1 | U12: 2 | V12: 3 | W12: subtotaal | Y12: totaal
A13: 1 | J13: 1 | S13: 1
A14: 2 | J14: 2 | S14: 2
A15: 3 | J15: 3 | S15: 3
A16: Indien nodig | J16: Indien nodig | S16: Indien nodig
A17: 4 | J17: 4 | S17: 4
A18: Indien nodig | J18: Indien nodig | S18: Indien nodig
A19: 5 | J19: 5 | S19: 5
C20: Alg. Totaal | L20: Alg. Totaal | U20: Alg. Totaal
A22: MATCH | E22: SHOOT-OFF | J22: MATCH | N22: SHOOT-OFF | S22: MATCH | W22: SHOOT-OFF
A23: Verloren | C23: Gewonnen | E23: Verloren | G23: Gewonnen | J23: Verloren | L23: Gewonnen | N23: Verloren | P23: Gewonnen | S23: Verloren | U23: Gewonnen | W23: Verloren | Y23: Gewonnen
A24: Handtekening schutter | E24: Handtekening schrijver | J24: Handtekening schutter | N24: Handtekening schrijver | S24: Handtekening schutter | W24: Handtekening schrijver
A28: 1/4e finale 8 schutters | D28: Doel N° | F28: =IF(AFKAMPING!N27<=0,AFKAMPING!N20,IF(AFKAMPING!N20>=0,AFKAMPING!N27)) -> 2 | H28: =AFKAMPING!P27 -> 0 | J28: 1/2e finale 4 schutters | M28: Doel N° | O28: =IF(AFKAMPING!R21<=0,AFKAMPING!R36,IF(AFKAMPING!R36>=0,AFKAMPING!R21)) -> 2 | Q28: =AFKAMPING!T21 -> 0 | S28: Finale GOUD | V28: Doel N° | X28: =IF(AFKAMPING!V36<=0,AFKAMPING!V67,IF(AFKAMPING!V67>=0,AFKAMPING!V36)) -> 2
S29: Finale Brons | V29: Doel N° | X29: =IF(AFKAMPING!R67<=0,AFKAMPING!R68,IF(AFKAMPING!R68>=0,AFKAMPING!R67)) -> 6
B30: 1 | C30: 2 | D30: 3 | E30: subtotaal | G30: totaal | K30: 1 | L30: 2 | M30: 3 | N30: subtotaal | P30: totaal | T30: 1 | U30: 2 | V30: 3 | W30: subtotaal | Y30: totaal
A31: 1 | J31: 1 | S31: 1
A32: 2 | J32: 2 | S32: 2
A33: 3 | J33: 3 | S33: 3
A34: Indien nodig | J34: Indien nodig | S34: Indien nodig
A35: 4 | J35: 4 | S35: 4
A36: Indien nodig | J36: Indien nodig | S36: Indien nodig
A37: 5 | J37: 5 | S37: 5
C38: Alg. Totaal | L38: Alg. Totaal | U38: Alg. Totaal
A40: MATCH | E40: SHOOT-OFF | J40: MATCH | N40: SHOOT-OFF | S40: MATCH | W40: SHOOT-OFF
A41: Verloren | C41: Gewonnen | E41: Verloren | G41: Gewonnen | J41: Verloren | L41: Gewonnen | N41: Verloren | P41: Gewonnen | S41: Verloren | U41: Gewonnen | W41: Verloren | Y41: Gewonnen
A42: Handtekening schutter | E42: Handtekening schrijver | J42: Handtekening schutter | N42: Handtekening schrijver | S42: Handtekening schutter | W42: Handtekening schrijver
A46: De winnaar behoud zijn scoreblad, de verliezer laat zijn scoreblad op de grond.
A47: Shoot-off 1 pijl per schutter in 40 sec. , dichts bij het center wint.

Sheet 57
A1: =inschrijving!A2 -> B.A.I.C. Compound
A2: Datum : | C2: =inschrijving!E2 -> 41958 | G2: Plaats : | I2: =inschrijving!F2 -> Terhagen
A4: Ranking | C4: =RANKING!A59 -> 57
A6: Naam & Voornaam : | F6: =RANKING!C59 -> bye
A8: Lidnummer | D8: =RANKING!H59 -> 0 | J8: Club | L8: =RANKING!D59 -> 0 | N8: Categorie | P8: =RANKING!E59 -> 0 | T8: =RANKING!F59 -> 0 | W8: =RANKING!G59 -> 0
A10: 1/32e finale 64 schutters | D10: Doel N° | F10: =AFKAMPING!B34 -> x | H10: =AFKAMPING!A33 -> 0 | J10: 1/16e finale 32 schutters | M10: Doel N° | O10: =IF(AFKAMPING!F33<=0,AFKAMPING!F32,IF(AFKAMPING!F32>=0,AFKAMPING!F33)) -> 0 | Q10: =AFKAMPING!H33 -> B | S10: 1/8e finale 16 schutters | V10: Doel N° | X10: =IF(AFKAMPING!J31<=0,AFKAMPING!J28,IF(AFKAMPING!J28>=0,AFKAMPING!J31)) -> 0 | Z10: =AFKAMPING!L31 -> B
B12: 1 | C12: 2 | D12: 3 | E12: subtotaal | G12: totaal | K12: 1 | L12: 2 | M12: 3 | N12: subtotaal | P12: totaal | T12: 1 | U12: 2 | V12: 3 | W12: subtotaal | Y12: totaal
A13: 1 | J13: 1 | S13: 1
A14: 2 | J14: 2 | S14: 2
A15: 3 | J15: 3 | S15: 3
A16: Indien nodig | J16: Indien nodig | S16: Indien nodig
A17: 4 | J17: 4 | S17: 4
A18: Indien nodig | J18: Indien nodig | S18: Indien nodig
A19: 5 | J19: 5 | S19: 5
C20: Alg. Totaal | L20: Alg. Totaal | U20: Alg. Totaal
A22: MATCH | E22: SHOOT-OFF | J22: MATCH | N22: SHOOT-OFF | S22: MATCH | W22: SHOOT-OFF
A23: Verloren | C23: Gewonnen | E23: Verloren | G23: Gewonnen | J23: Verloren | L23: Gewonnen | N23: Verloren | P23: Gewonnen | S23: Verloren | U23: Gewonnen | W23: Verloren | Y23: Gewonnen
A24: Handtekening schutter | E24: Handtekening schrijver | J24: Handtekening schutter | N24: Handtekening schrijver | S24: Handtekening schutter | W24: Handtekening schrijver
A28: 1/4e finale 8 schutters | D28: Doel N° | F28: =IF(AFKAMPING!N27<=0,AFKAMPING!N20,IF(AFKAMPING!N20>=0,AFKAMPING!N27)) -> 2 | H28: =AFKAMPING!P27 -> 0 | J28: 1/2e finale 4 schutters | M28: Doel N° | O28: =IF(AFKAMPING!R21<=0,AFKAMPING!R36,IF(AFKAMPING!R36>=0,AFKAMPING!R21)) -> 2 | Q28: =AFKAMPING!T21 -> 0 | S28: Finale GOUD | V28: Doel N° | X28: =IF(AFKAMPING!V36<=0,AFKAMPING!V67,IF(AFKAMPING!V67>=0,AFKAMPING!V36)) -> 2
S29: Finale Brons | V29: Doel N° | X29: =IF(AFKAMPING!R67<=0,AFKAMPING!R68,IF(AFKAMPING!R68>=0,AFKAMPING!R67)) -> 6
B30: 1 | C30: 2 | D30: 3 | E30: subtotaal | G30: totaal | K30: 1 | L30: 2 | M30: 3 | N30: subtotaal | P30: totaal | T30: 1 | U30: 2 | V30: 3 | W30: subtotaal | Y30: totaal
A31: 1 | J31: 1 | S31: 1
A32: 2 | J32: 2 | S32: 2
A33: 3 | J33: 3 | S33: 3
A34: Indien nodig | J34: Indien nodig | S34: Indien nodig
A35: 4 | J35: 4 | S35: 4
A36: Indien nodig | J36: Indien nodig | S36: Indien nodig
A37: 5 | J37: 5 | S37: 5
C38: Alg. Totaal | L38: Alg. Totaal | U38: Alg. Totaal
A40: MATCH | E40: SHOOT-OFF | J40: MATCH | N40: SHOOT-OFF | S40: MATCH | W40: SHOOT-OFF
A41: Verloren | C41: Gewonnen | E41: Verloren | G41: Gewonnen | J41: Verloren | L41: Gewonnen | N41: Verloren | P41: Gewonnen | S41: Verloren | U41: Gewonnen | W41: Verloren | Y41: Gewonnen
A42: Handtekening schutter | E42: Handtekening schrijver | J42: Handtekening schutter | N42: Handtekening schrijver | S42: Handtekening schutter | W42: Handtekening schrijver
A46: De winnaar behoud zijn scoreblad, de verliezer laat zijn scoreblad op de grond.
A47: Shoot-off 1 pijl per schutter in 40 sec. , dichts bij het center wint.

Sheet 8
A1: =inschrijving!A2 -> B.A.I.C. Compound
A2: Datum : | C2: =inschrijving!E2 -> 41958 | G2: Plaats : | I2: =inschrijving!F2 -> Terhagen
A4: Ranking | C4: =RANKING!A10 -> 8
A6: Naam & Voornaam : | F6: =RANKING!C10 -> VRACHTEN DIRK
A8: Lidnummer | D8: =RANKING!H10 -> 517041 | J8: Club | L8: =RANKING!D10 -> SSV | N8: Categorie | P8: =RANKING!E10 -> Compound | T8: =RANKING!F10 -> Men | W8: =RANKING!G10 -> Senior 2
A10: 1/32e finale 64 schutters | D10: Doel N° | F10: =AFKAMPING!B34 -> x | H10: =AFKAMPING!A35 -> 0 | J10: 1/16e finale 32 schutters | M10: Doel N° | O10: =IF(AFKAMPING!F33<=0,AFKAMPING!F32,IF(AFKAMPING!F32>=0,AFKAMPING!F33)) -> 0 | Q10: =AFKAMPING!H33 -> B | S10: 1/8e finale 16 schutters | V10: Doel N° | X10: =IF(AFKAMPING!J31<=0,AFKAMPING!J28,IF(AFKAMPING!J28>=0,AFKAMPING!J31)) -> 0 | Z10: =AFKAMPING!L31 -> B
B12: 1 | C12: 2 | D12: 3 | E12: subtotaal | G12: totaal | K12: 1 | L12: 2 | M12: 3 | N12: subtotaal | P12: totaal | T12: 1 | U12: 2 | V12: 3 | W12: subtotaal | Y12: totaal
A13: 1 | J13: 1 | S13: 1
A14: 2 | J14: 2 | S14: 2
A15: 3 | J15: 3 | S15: 3
A16: Indien nodig | J16: Indien nodig | S16: Indien nodig
A17: 4 | J17: 4 | S17: 4
A18: Indien nodig | J18: Indien nodig | S18: Indien nodig
A19: 5 | J19: 5 | S19: 5
C20: Alg. Totaal | L20: Alg. Totaal | U20: Alg. Totaal
A22: MATCH | E22: SHOOT-OFF | J22: MATCH | N22: SHOOT-OFF | S22: MATCH | W22: SHOOT-OFF
A23: Verloren | C23: Gewonnen | E23: Verloren | G23: Gewonnen | J23: Verloren | L23: Gewonnen | N23: Verloren | P23: Gewonnen | S23: Verloren | U23: Gewonnen | W23: Verloren | Y23: Gewonnen
A24: Handtekening schutter | E24: Handtekening schrijver | J24: Handtekening schutter | N24: Handtekening schrijver | S24: Handtekening schutter | W24: Handtekening schrijver
A28: 1/4e finale 8 schutters | D28: Doel N° | F28: =IF(AFKAMPING!N27<=0,AFKAMPING!N20,IF(AFKAMPING!N20>=0,AFKAMPING!N27)) -> 2 | H28: =AFKAMPING!P27 -> 0 | J28: 1/2e finale 4 schutters | M28: Doel N° | O28: =IF(AFKAMPING!R21<=0,AFKAMPING!R36,IF(AFKAMPING!R36>=0,AFKAMPING!R21)) -> 2 | Q28: =AFKAMPING!T21 -> 0 | S28: Finale GOUD | V28: Doel N° | X28: =IF(AFKAMPING!V36<=0,AFKAMPING!V67,IF(AFKAMPING!V67>=0,AFKAMPING!V36)) -> 2
S29: Finale Brons | V29: Doel N° | X29: =IF(AFKAMPING!R67<=0,AFKAMPING!R68,IF(AFKAMPING!R68>=0,AFKAMPING!R67)) -> 6
B30: 1 | C30: 2 | D30: 3 | E30: subtotaal | G30: totaal | K30: 1 | L30: 2 | M30: 3 | N30: subtotaal | P30: totaal | T30: 1 | U30: 2 | V30: 3 | W30: subtotaal | Y30: totaal
A31: 1 | J31: 1 | S31: 1
A32: 2 | J32: 2 | S32: 2
A33: 3 | J33: 3 | S33: 3
A34: Indien nodig | J34: Indien nodig | S34: Indien nodig
A35: 4 | J35: 4 | S35: 4
A36: Indien nodig | J36: Indien nodig | S36: Indien nodig
A37: 5 | J37: 5 | S37: 5
C38: Alg. Totaal | L38: Alg. Totaal | U38: Alg. Totaal
A40: MATCH | E40: SHOOT-OFF | J40: MATCH | N40: SHOOT-OFF | S40: MATCH | W40: SHOOT-OFF
A41: Verloren | C41: Gewonnen | E41: Verloren | G41: Gewonnen | J41: Verloren | L41: Gewonnen | N41: Verloren | P41: Gewonnen | S41: Verloren | U41: Gewonnen | W41: Verloren | Y41: Gewonnen
A42: Handtekening schutter | E42: Handtekening schrijver | J42: Handtekening schutter | N42: Handtekening schrijver | S42: Handtekening schutter | W42: Handtekening schrijver
A46: De winnaar behoud zijn scoreblad, de verliezer laat zijn scoreblad op de grond.
A47: Shoot-off 1 pijl per schutter in 40 sec. , dichts bij het center wint.

Sheet 5
A1: =inschrijving!A2 -> B.A.I.C. Compound
A2: Datum : | C2: =inschrijving!E2 -> 41958 | G2: Plaats : | I2: =inschrijving!F2 -> Terhagen
A4: Ranking | C4: =RANKING!A7 -> 5
A6: Naam & Voornaam : | F6: =RANKING!C7 -> VERDEYEN LUC
A8: Lidnummer | D8: =RANKING!H7 -> 916029 | J8: Club | L8: =RANKING!D7 -> SLB | N8: Categorie | P8: =RANKING!E7 -> Compound | T8: =RANKING!F7 -> Men | W8: =RANKING!G7 -> Master
A10: 1/32e finale 64 schutters | D10: Doel N° | F10: =AFKAMPING!B38 -> x | H10: =AFKAMPING!A37 -> 0 | J10: 1/16e finale 32 schutters | M10: Doel N° | O10: =IF(AFKAMPING!F39<=0,AFKAMPING!F40,IF(AFKAMPING!F40>=0,AFKAMPING!F3)) -> 0 | Q10: =AFKAMPING!H39 -> A | S10: 1/8e finale 16 schutters | V10: Doel N° | X10: =IF(AFKAMPING!J41<=0,AFKAMPING!J44,IF(AFKAMPING!J44>=0,AFKAMPING!J41)) -> 0 | Z10: =AFKAMPING!L41 -> A
B12: 1 | C12: 2 | D12: 3 | E12: subtotaal | G12: totaal | K12: 1 | L12: 2 | M12: 3 | N12: subtotaal | P12: totaal | T12: 1 | U12: 2 | V12: 3 | W12: subtotaal | Y12: totaal
A13: 1 | J13: 1 | S13: 1
A14: 2 | J14: 2 | S14: 2
A15: 3 | J15: 3 | S15: 3
A16: Indien nodig | J16: Indien nodig | S16: Indien nodig
A17: 4 | J17: 4 | S17: 4
A18: Indien nodig | J18: Indien nodig | S18: Indien nodig
A19: 5 | J19: 5 | S19: 5
C20: Alg. Totaal | L20: Alg. Totaal | U20: Alg. Totaal
A22: MATCH | E22: SHOOT-OFF | J22: MATCH | N22: SHOOT-OFF | S22: MATCH | W22: SHOOT-OFF
A23: Verloren | C23: Gewonnen | E23: Verloren | G23: Gewonnen | J23: Verloren | L23: Gewonnen | N23: Verloren | P23: Gewonnen | S23: Verloren | U23: Gewonnen | W23: Verloren | Y23: Gewonnen
A24: Handtekening schutter | E24: Handtekening schrijver | J24: Handtekening schutter | N24: Handtekening schrijver | S24: Handtekening schutter | W24: Handtekening schrijver
A28: 1/4e finale 8 schutters | D28: Doel N° | F28: =IF(AFKAMPING!N45<=0,AFKAMPING!N52,IF(AFKAMPING!N52>=0,AFKAMPING!N45)) -> 3 | H28: =AFKAMPING!P45 -> 0 | J28: 1/2e finale 4 schutters | M28: Doel N° | O28: =IF(AFKAMPING!R51<=0,AFKAMPING!R36,IF(AFKAMPING!R36>=0,AFKAMPING!R51)) -> 3 | Q28: =AFKAMPING!T51 -> 0 | S28: Finale GOUD | V28: Doel N° | X28: =IF(AFKAMPING!V36<=0,AFKAMPING!V67,IF(AFKAMPING!V67>=0,AFKAMPING!V36)) -> 2
S29: Finale Brons | V29: Doel N° | X29: =IF(AFKAMPING!R67<=0,AFKAMPING!R68,IF(AFKAMPING!R68>=0,AFKAMPING!R67)) -> 6
B30: 1 | C30: 2 | D30: 3 | E30: subtotaal | G30: totaal | K30: 1 | L30: 2 | M30: 3 | N30: subtotaal | P30: totaal | T30: 1 | U30: 2 | V30: 3 | W30: subtotaal | Y30: totaal
A31: 1 | J31: 1 | S31: 1
A32: 2 | J32: 2 | S32: 2
A33: 3 | J33: 3 | S33: 3
A34: Indien nodig | J34: Indien nodig | S34: Indien nodig
A35: 4 | J35: 4 | S35: 4
A36: Indien nodig | J36: Indien nodig | S36: Indien nodig
A37: 5 | J37: 5 | S37: 5
C38: Alg. Totaal | L38: Alg. Totaal | U38: Alg. Totaal
A40: MATCH | E40: SHOOT-OFF | J40: MATCH | N40: SHOOT-OFF | S40: MATCH | W40: SHOOT-OFF
A41: Verloren | C41: Gewonnen | E41: Verloren | G41: Gewonnen | J41: Verloren | L41: Gewonnen | N41: Verloren | P41: Gewonnen | S41: Verloren | U41: Gewonnen | W41: Verloren | Y41: Gewonnen
A42: Handtekening schutter | E42: Handtekening schrijver | J42: Handtekening schutter | N42: Handtekening schrijver | S42: Handtekening schutter | W42: Handtekening schrijver
A46: De winnaar behoud zijn scoreblad, de verliezer laat zijn scoreblad op de grond.
A47: Shoot-off 1 pijl per schutter in 40 sec. , dichts bij het center wint.

Sheet 60
A1: =inschrijving!A2 -> B.A.I.C. Compound
A2: Datum : | C2: =inschrijving!E2 -> 41958 | G2: Plaats : | I2: =inschrijving!F2 -> Terhagen
A4: Ranking | C4: =RANKING!A62 -> 60
A6: Naam & Voornaam : | F6: =RANKING!C62 -> bye
A8: Lidnummer | D8: =RANKING!H62 -> 0 | J8: Club | L8: =RANKING!D62 -> 0 | N8: Categorie | P8: =RANKING!E62 -> 0 | T8: =RANKING!F62 -> 0 | W8: =RANKING!G62 -> 0
A10: 1/32e finale 64 schutters | D10: Doel N° | F10: =AFKAMPING!B38 -> x | H10: =AFKAMPING!A39 -> 0 | J10: 1/16e finale 32 schutters | M10: Doel N° | O10: =IF(AFKAMPING!F39<=0,AFKAMPING!F40,IF(AFKAMPING!F40>=0,AFKAMPING!F3)) -> 0 | Q10: =AFKAMPING!H39 -> A | S10: 1/8e finale 16 schutters | V10: Doel N° | X10: =IF(AFKAMPING!J41<=0,AFKAMPING!J44,IF(AFKAMPING!J44>=0,AFKAMPING!J41)) -> 0 | Z10: =AFKAMPING!L41 -> A
B12: 1 | C12: 2 | D12: 3 | E12: subtotaal | G12: totaal | K12: 1 | L12: 2 | M12: 3 | N12: subtotaal | P12: totaal | T12: 1 | U12: 2 | V12: 3 | W12: subtotaal | Y12: totaal
A13: 1 | J13: 1 | S13: 1
A14: 2 | J14: 2 | S14: 2
A15: 3 | J15: 3 | S15: 3
A16: Indien nodig | J16: Indien nodig | S16: Indien nodig
A17: 4 | J17: 4 | S17: 4
A18: Indien nodig | J18: Indien nodig | S18: Indien nodig
A19: 5 | J19: 5 | S19: 5
C20: Alg. Totaal | L20: Alg. Totaal | U20: Alg. Totaal
A22: MATCH | E22: SHOOT-OFF | J22: MATCH | N22: SHOOT-OFF | S22: MATCH | W22: SHOOT-OFF
A23: Verloren | C23: Gewonnen | E23: Verloren | G23: Gewonnen | J23: Verloren | L23: Gewonnen | N23: Verloren | P23: Gewonnen | S23: Verloren | U23: Gewonnen | W23: Verloren | Y23: Gewonnen
A24: Handtekening schutter | E24: Handtekening schrijver | J24: Handtekening schutter | N24: Handtekening schrijver | S24: Handtekening schutter | W24: Handtekening schrijver
A28: 1/4e finale 8 schutters | D28: Doel N° | F28: =IF(AFKAMPING!N45<=0,AFKAMPING!N52,IF(AFKAMPING!N52>=0,AFKAMPING!N45)) -> 3 | H28: =AFKAMPING!P45 -> 0 | J28: 1/2e finale 4 schutters | M28: Doel N° | O28: =IF(AFKAMPING!R51<=0,AFKAMPING!R36,IF(AFKAMPING!R36>=0,AFKAMPING!R51)) -> 3 | Q28: =AFKAMPING!T51 -> 0 | S28: Finale GOUD | V28: Doel N° | X28: =IF(AFKAMPING!V36<=0,AFKAMPING!V67,IF(AFKAMPING!V67>=0,AFKAMPING!V36)) -> 2
S29: Finale Brons | V29: Doel N° | X29: =IF(AFKAMPING!R67<=0,AFKAMPING!R68,IF(AFKAMPING!R68>=0,AFKAMPING!R67)) -> 6
B30: 1 | C30: 2 | D30: 3 | E30: subtotaal | G30: totaal | K30: 1 | L30: 2 | M30: 3 | N30: subtotaal | P30: totaal | T30: 1 | U30: 2 | V30: 3 | W30: subtotaal | Y30: totaal
A31: 1 | J31: 1 | S31: 1
A32: 2 | J32: 2 | S32: 2
A33: 3 | J33: 3 | S33: 3
A34: Indien nodig | J34: Indien nodig | S34: Indien nodig
A35: 4 | J35: 4 | S35: 4
A36: Indien nodig | J36: Indien nodig | S36: Indien nodig
A37: 5 | J37: 5 | S37: 5
C38: Alg. Totaal | L38: Alg. Totaal | U38: Alg. Totaal
A40: MATCH | E40: SHOOT-OFF | J40: MATCH | N40: SHOOT-OFF | S40: MATCH | W40: SHOOT-OFF
A41: Verloren | C41: Gewonnen | E41: Verloren | G41: Gewonnen | J41: Verloren | L41: Gewonnen | N41: Verloren | P41: Gewonnen | S41: Verloren | U41: Gewonnen | W41: Verloren | Y41: Gewonnen
A42: Handtekening schutter | E42: Handtekening schrijver | J42: Handtekening schutter | N42: Handtekening schrijver | S42: Handtekening schutter | W42: Handtekening schrijver
A46: De winnaar behoud zijn scoreblad, de verliezer laat zijn scoreblad op de grond.
A47: Shoot-off 1 pijl per schutter in 40 sec. , dichts bij het center wint.

Sheet 37
A1: =inschrijving!A2 -> B.A.I.C. Compound
A2: Datum : | C2: =inschrijving!E2 -> 41958 | G2: Plaats : | I2: =inschrijving!F2 -> Terhagen
A4: Ranking | C4: =RANKING!A39 -> 37
A6: Naam & Voornaam : | F6: =RANKING!C39 -> KOOLS PETER
A8: Lidnummer | D8: =RANKING!H39 -> 105085 | J8: Club | L8: =RANKING!D39 -> DNM | N8: Categorie | P8: =RANKING!E39 -> Compound | T8: =RANKING!F39 -> Men | W8: =RANKING!G39 -> Senior 2
A10: 1/32e finale 64 schutters | D10: Doel N° | F10: =AFKAMPING!B42 -> x | H10: =AFKAMPING!A41 -> 0 | J10: 1/16e finale 32 schutters | M10: Doel N° | O10: =IF(AFKAMPING!F41<=0,AFKAMPING!F40,IF(AFKAMPING!F40>=0,AFKAMPING!F41)) -> 0 | Q10: =AFKAMPING!H41 -> B | S10: 1/8e finale 16 schutters | V10: Doel N° | X10: =IF(AFKAMPING!J41<=0,AFKAMPING!J44,IF(AFKAMPING!J44>=0,AFKAMPING!J41)) -> 0 | Z10: =AFKAMPING!L41 -> A
B12: 1 | C12: 2 | D12: 3 | E12: subtotaal | G12: totaal | K12: 1 | L12: 2 | M12: 3 | N12: subtotaal | P12: totaal | T12: 1 | U12: 2 | V12: 3 | W12: subtotaal | Y12: totaal
A13: 1 | J13: 1 | S13: 1
A14: 2 | J14: 2 | S14: 2
A15: 3 | J15: 3 | S15: 3
A16: Indien nodig | J16: Indien nodig | S16: Indien nodig
A17: 4 | J17: 4 | S17: 4
A18: Indien nodig | J18: Indien nodig | S18: Indien nodig
A19: 5 | J19: 5 | S19: 5
C20: Alg. Totaal | L20: Alg. Totaal | U20: Alg. Totaal
A22: MATCH | E22: SHOOT-OFF | J22: MATCH | N22: SHOOT-OFF | S22: MATCH | W22: SHOOT-OFF
A23: Verloren | C23: Gewonnen | E23: Verloren | G23: Gewonnen | J23: Verloren | L23: Gewonnen | N23: Verloren | P23: Gewonnen | S23: Verloren | U23: Gewonnen | W23: Verloren | Y23: Gewonnen
A24: Handtekening schutter | E24: Handtekening schrijver | J24: Handtekening schutter | N24: Handtekening schrijver | S24: Handtekening schutter | W24: Handtekening schrijver
A28: 1/4e finale 8 schutters | D28: Doel N° | F28: =IF(AFKAMPING!N45<=0,AFKAMPING!N52,IF(AFKAMPING!N52>=0,AFKAMPING!N45)) -> 3 | H28: =AFKAMPING!P45 -> 0 | J28: 1/2e finale 4 schutters | M28: Doel N° | O28: =IF(AFKAMPING!R51<=0,AFKAMPING!R36,IF(AFKAMPING!R36>=0,AFKAMPING!R51)) -> 3 | Q28: =AFKAMPING!T51 -> 0 | S28: Finale GOUD | V28: Doel N° | X28: =IF(AFKAMPING!V36<=0,AFKAMPING!V67,IF(AFKAMPING!V67>=0,AFKAMPING!V36)) -> 2
S29: Finale Brons | V29: Doel N° | X29: =IF(AFKAMPING!R67<=0,AFKAMPING!R68,IF(AFKAMPING!R68>=0,AFKAMPING!R67)) -> 6
B30: 1 | C30: 2 | D30: 3 | E30: subtotaal | G30: totaal | K30: 1 | L30: 2 | M30: 3 | N30: subtotaal | P30: totaal | T30: 1 | U30: 2 | V30: 3 | W30: subtotaal | Y30: totaal
A31: 1 | J31: 1 | S31: 1
A32: 2 | J32: 2 | S32: 2
A33: 3 | J33: 3 | S33: 3
A34: Indien nodig | J34: Indien nodig | S34: Indien nodig
A35: 4 | J35: 4 | S35: 4
A36: Indien nodig | J36: Indien nodig | S36: Indien nodig
A37: 5 | J37: 5 | S37: 5
C38: Alg. Totaal | L38: Alg. Totaal | U38: Alg. Totaal
A40: MATCH | E40: SHOOT-OFF | J40: MATCH | N40: SHOOT-OFF | S40: MATCH | W40: SHOOT-OFF
A41: Verloren | C41: Gewonnen | E41: Verloren | G41: Gewonnen | J41: Verloren | L41: Gewonnen | N41: Verloren | P41: Gewonnen | S41: Verloren | U41: Gewonnen | W41: Verloren | Y41: Gewonnen
A42: Handtekening schutter | E42: Handtekening schrijver | J42: Handtekening schutter | N42: Handtekening schrijver | S42: Handtekening schutter | W42: Handtekening schrijver
A46: De winnaar behoud zijn scoreblad, de verliezer laat zijn scoreblad op de grond.
A47: Shoot-off 1 pijl per schutter in 40 sec. , dichts bij het center wint.

Sheet 28
A1: =inschrijving!A2 -> B.A.I.C. Compound
A2: Datum : | C2: =inschrijving!E2 -> 41958 | G2: Plaats : | I2: =inschrijving!F2 -> Terhagen
A4: Ranking | C4: =RANKING!A30 -> 28
A6: Naam & Voornaam : | F6: =RANKING!C30 -> VAN DEN HOECKE MAURICE
A8: Lidnummer | D8: =RANKING!H30 -> 204015 | J8: Club | L8: =RANKING!D30 -> GPE | N8: Categorie | P8: =RANKING!E30 -> Compound | T8: =RANKING!F30 -> Men | W8: =RANKING!G30 -> Veteran
A10: 1/32e finale 64 schutters | D10: Doel N° | F10: =AFKAMPING!B42 -> x | H10: =AFKAMPING!A43 -> 0 | J10: 1/16e finale 32 schutters | M10: Doel N° | O10: =IF(AFKAMPING!F41<=0,AFKAMPING!F40,IF(AFKAMPING!F40>=0,AFKAMPING!F41)) -> 0 | Q10: =AFKAMPING!H41 -> B | S10: 1/8e finale 16 schutters | V10: Doel N° | X10: =IF(AFKAMPING!J41<=0,AFKAMPING!J44,IF(AFKAMPING!J44>=0,AFKAMPING!J41)) -> 0 | Z10: =AFKAMPING!L41 -> A
B12: 1 | C12: 2 | D12: 3 | E12: subtotaal | G12: totaal | K12: 1 | L12: 2 | M12: 3 | N12: subtotaal | P12: totaal | T12: 1 | U12: 2 | V12: 3 | W12: subtotaal | Y12: totaal
A13: 1 | J13: 1 | S13: 1
A14: 2 | J14: 2 | S14: 2
A15: 3 | J15: 3 | S15: 3
A16: Indien nodig | J16: Indien nodig | S16: Indien nodig
A17: 4 | J17: 4 | S17: 4
A18: Indien nodig | J18: Indien nodig | S18: Indien nodig
A19: 5 | J19: 5 | S19: 5
C20: Alg. Totaal | L20: Alg. Totaal | U20: Alg. Totaal
A22: MATCH | E22: SHOOT-OFF | J22: MATCH | N22: SHOOT-OFF | S22: MATCH | W22: SHOOT-OFF
A23: Verloren | C23: Gewonnen | E23: Verloren | G23: Gewonnen | J23: Verloren | L23: Gewonnen | N23: Verloren | P23: Gewonnen | S23: Verloren | U23: Gewonnen | W23: Verloren | Y23: Gewonnen
A24: Handtekening schutter | E24: Handtekening schrijver | J24: Handtekening schutter | N24: Handtekening schrijver | S24: Handtekening schutter | W24: Handtekening schrijver
A28: 1/4e finale 8 schutters | D28: Doel N° | F28: =IF(AFKAMPING!N45<=0,AFKAMPING!N52,IF(AFKAMPING!N52>=0,AFKAMPING!N45)) -> 3 | H28: =AFKAMPING!P45 -> 0 | J28: 1/2e finale 4 schutters | M28: Doel N° | O28: =IF(AFKAMPING!R51<=0,AFKAMPING!R36,IF(AFKAMPING!R36>=0,AFKAMPING!R51)) -> 3 | Q28: =AFKAMPING!T51 -> 0 | S28: Finale GOUD | V28: Doel N° | X28: =IF(AFKAMPING!V36<=0,AFKAMPING!V67,IF(AFKAMPING!V67>=0,AFKAMPING!V36)) -> 2
S29: Finale Brons | V29: Doel N° | X29: =IF(AFKAMPING!R67<=0,AFKAMPING!R68,IF(AFKAMPING!R68>=0,AFKAMPING!R67)) -> 6
B30: 1 | C30: 2 | D30: 3 | E30: subtotaal | G30: totaal | K30: 1 | L30: 2 | M30: 3 | N30: subtotaal | P30: totaal | T30: 1 | U30: 2 | V30: 3 | W30: subtotaal | Y30: totaal
A31: 1 | J31: 1 | S31: 1
A32: 2 | J32: 2 | S32: 2
A33: 3 | J33: 3 | S33: 3
A34: Indien nodig | J34: Indien nodig | S34: Indien nodig
A35: 4 | J35: 4 | S35: 4
A36: Indien nodig | J36: Indien nodig | S36: Indien nodig
A37: 5 | J37: 5 | S37: 5
C38: Alg. Totaal | L38: Alg. Totaal | U38: Alg. Totaal
A40: MATCH | E40: SHOOT-OFF | J40: MATCH | N40: SHOOT-OFF | S40: MATCH | W40: SHOOT-OFF
A41: Verloren | C41: Gewonnen | E41: Verloren | G41: Gewonnen | J41: Verloren | L41: Gewonnen | N41: Verloren | P41: Gewonnen | S41: Verloren | U41: Gewonnen | W41: Verloren | Y41: Gewonnen
A42: Handtekening schutter | E42: Handtekening schrijver | J42: Handtekening schutter | N42: Handtekening schrijver | S42: Handtekening schutter | W42: Handtekening schrijver
A46: De winnaar behoud zijn scoreblad, de verliezer laat zijn scoreblad op de grond.
A47: Shoot-off 1 pijl per schutter in 40 sec. , dichts bij het center wint.

Sheet 21
A1: =inschrijving!A2 -> B.A.I.C. Compound
A2: Datum : | C2: =inschrijving!E2 -> 41958 | G2: Plaats : | I2: =inschrijving!F2 -> Terhagen
A4: Ranking | C4: =RANKING!A23 -> 21
A6: Naam & Voornaam : | F6: =RANKING!C23 -> VAN DESSEL WILLEM
A8: Lidnummer | D8: =RANKING!H23 -> 131097 | J8: Club | L8: =RANKING!D23 -> NSS | N8: Categorie | P8: =RANKING!E23 -> Compound | T8: =RANKING!F23 -> Men | W8: =RANKING!G23 -> Senior 2
A10: 1/32e finale 64 schutters | D10: Doel N° | F10: =AFKAMPING!B46 -> x | H10: =AFKAMPING!A45 -> 0 | J10: 1/16e finale 32 schutters | M10: Doel N° | O10: =IF(AFKAMPING!F47<=0,AFKAMPING!F48,IF(AFKAMPING!F48>=0,AFKAMPING!F47)) -> 0 | Q10: =AFKAMPING!H47 -> A | S10: 1/8e finale 16 schutters | V10: Doel N° | X10: =IF(AFKAMPING!J41<=0,AFKAMPING!J44,IF(AFKAMPING!J44>=0,AFKAMPING!J41)) -> 0 | Z10: =AFKAMPING!L47 -> B
B12: 1 | C12: 2 | D12: 3 | E12: subtotaal | G12: totaal | K12: 1 | L12: 2 | M12: 3 | N12: subtotaal | P12: totaal | T12: 1 | U12: 2 | V12: 3 | W12: subtotaal | Y12: totaal
A13: 1 | J13: 1 | S13: 1
A14: 2 | J14: 2 | S14: 2
A15: 3 | J15: 3 | S15: 3
A16: Indien nodig | J16: Indien nodig | S16: Indien nodig
A17: 4 | J17: 4 | S17: 4
A18: Indien nodig | J18: Indien nodig | S18: Indien nodig
A19: 5 | J19: 5 | S19: 5
C20: Alg. Totaal | L20: Alg. Totaal | U20: Alg. Totaal
A22: MATCH | E22: SHOOT-OFF | J22: MATCH | N22: SHOOT-OFF | S22: MATCH | W22: SHOOT-OFF
A23: Verloren | C23: Gewonnen | E23: Verloren | G23: Gewonnen | J23: Verloren | L23: Gewonnen | N23: Verloren | P23: Gewonnen | S23: Verloren | U23: Gewonnen | W23: Verloren | Y23: Gewonnen
A24: Handtekening schutter | E24: Handtekening schrijver | J24: Handtekening schutter | N24: Handtekening schrijver | S24: Handtekening schutter | W24: Handtekening schrijver
A28: 1/4e finale 8 schutters | D28: Doel N° | F28: =IF(AFKAMPING!N45<=0,AFKAMPING!N52,IF(AFKAMPING!N52>=0,AFKAMPING!N45)) -> 3 | H28: =AFKAMPING!P45 -> 0 | J28: 1/2e finale 4 schutters | M28: Doel N° | O28: =IF(AFKAMPING!R51<=0,AFKAMPING!R36,IF(AFKAMPING!R36>=0,AFKAMPING!R51)) -> 3 | Q28: =AFKAMPING!T51 -> 0 | S28: Finale GOUD | V28: Doel N° | X28: =IF(AFKAMPING!V36<=0,AFKAMPING!V67,IF(AFKAMPING!V67>=0,AFKAMPING!V36)) -> 2
S29: Finale Brons | V29: Doel N° | X29: =IF(AFKAMPING!R67<=0,AFKAMPING!R68,IF(AFKAMPING!R68>=0,AFKAMPING!R67)) -> 6
B30: 1 | C30: 2 | D30: 3 | E30: subtotaal | G30: totaal | K30: 1 | L30: 2 | M30: 3 | N30: subtotaal | P30: totaal | T30: 1 | U30: 2 | V30: 3 | W30: subtotaal | Y30: totaal
A31: 1 | J31: 1 | S31: 1
A32: 2 | J32: 2 | S32: 2
A33: 3 | J33: 3 | S33: 3
A34: Indien nodig | J34: Indien nodig | S34: Indien nodig
A35: 4 | J35: 4 | S35: 4
A36: Indien nodig | J36: Indien nodig | S36: Indien nodig
A37: 5 | J37: 5 | S37: 5
C38: Alg. Totaal | L38: Alg. Totaal | U38: Alg. Totaal
A40: MATCH | E40: SHOOT-OFF | J40: MATCH | N40: SHOOT-OFF | S40: MATCH | W40: SHOOT-OFF
A41: Verloren | C41: Gewonnen | E41: Verloren | G41: Gewonnen | J41: Verloren | L41: Gewonnen | N41: Verloren | P41: Gewonnen | S41: Verloren | U41: Gewonnen | W41: Verloren | Y41: Gewonnen
A42: Handtekening schutter | E42: Handtekening schrijver | J42: Handtekening schutter | N42: Handtekening schrijver | S42: Handtekening schutter | W42: Handtekening schrijver
A46: De winnaar behoud zijn scoreblad, de verliezer laat zijn scoreblad op de grond.
A47: Shoot-off 1 pijl per schutter in 40 sec. , dichts bij het center wint.

Sheet 44
A1: =inschrijving!A2 -> B.A.I.C. Compound
A2: Datum : | C2: =inschrijving!E2 -> 41958 | G2: Plaats : | I2: =inschrijving!F2 -> Terhagen
A4: Ranking | C4: =RANKING!A46 -> 44
A6: Naam & Voornaam : | F6: =RANKING!C46 -> BAEK RONNY
A8: Lidnummer | D8: =RANKING!H46 -> 129114 | J8: Club | L8: =RANKING!D46 -> USK | N8: Categorie | P8: =RANKING!E46 -> Compound | T8: =RANKING!F46 -> Men | W8: =RANKING!G46 -> Senior
A10: 1/32e finale 64 schutters | D10: Doel N° | F10: =AFKAMPING!B46 -> x | H10: =AFKAMPING!A47 -> 0 | J10: 1/16e finale 32 schutters | M10: Doel N° | O10: =IF(AFKAMPING!F47<=0,AFKAMPING!F48,IF(AFKAMPING!F48>=0,AFKAMPING!F47)) -> 0 | Q10: =AFKAMPING!H47 -> A | S10: 1/8e finale 16 schutters | V10: Doel N° | X10: =IF(AFKAMPING!J41<=0,AFKAMPING!J44,IF(AFKAMPING!J44>=0,AFKAMPING!J41)) -> 0 | Z10: =AFKAMPING!L47 -> B
B12: 1 | C12: 2 | D12: 3 | E12: subtotaal | G12: totaal | K12: 1 | L12: 2 | M12: 3 | N12: subtotaal | P12: totaal | T12: 1 | U12: 2 | V12: 3 | W12: subtotaal | Y12: totaal
A13: 1 | J13: 1 | S13: 1
A14: 2 | J14: 2 | S14: 2
A15: 3 | J15: 3 | S15: 3
A16: Indien nodig | J16: Indien nodig | S16: Indien nodig
A17: 4 | J17: 4 | S17: 4
A18: Indien nodig | J18: Indien nodig | S18: Indien nodig
A19: 5 | J19: 5 | S19: 5
C20: Alg. Totaal | L20: Alg. Totaal | U20: Alg. Totaal
A22: MATCH | E22: SHOOT-OFF | J22: MATCH | N22: SHOOT-OFF | S22: MATCH | W22: SHOOT-OFF
A23: Verloren | C23: Gewonnen | E23: Verloren | G23: Gewonnen | J23: Verloren | L23: Gewonnen | N23: Verloren | P23: Gewonnen | S23: Verloren | U23: Gewonnen | W23: Verloren | Y23: Gewonnen
A24: Handtekening schutter | E24: Handtekening schrijver | J24: Handtekening schutter | N24: Handtekening schrijver | S24: Handtekening schutter | W24: Handtekening schrijver
A28: 1/4e finale 8 schutters | D28: Doel N° | F28: =IF(AFKAMPING!N45<=0,AFKAMPING!N52,IF(AFKAMPING!N52>=0,AFKAMPING!N45)) -> 3 | H28: =AFKAMPING!P45 -> 0 | J28: 1/2e finale 4 schutters | M28: Doel N° | O28: =IF(AFKAMPING!R51<=0,AFKAMPING!R36,IF(AFKAMPING!R36>=0,AFKAMPING!R51)) -> 3 | Q28: =AFKAMPING!T51 -> 0 | S28: Finale GOUD | V28: Doel N° | X28: =IF(AFKAMPING!V36<=0,AFKAMPING!V67,IF(AFKAMPING!V67>=0,AFKAMPING!V36)) -> 2
S29: Finale Brons | V29: Doel N° | X29: =IF(AFKAMPING!R67<=0,AFKAMPING!R68,IF(AFKAMPING!R68>=0,AFKAMPING!R67)) -> 6
B30: 1 | C30: 2 | D30: 3 | E30: subtotaal | G30: totaal | K30: 1 | L30: 2 | M30: 3 | N30: subtotaal | P30: totaal | T30: 1 | U30: 2 | V30: 3 | W30: subtotaal | Y30: totaal
A31: 1 | J31: 1 | S31: 1
A32: 2 | J32: 2 | S32: 2
A33: 3 | J33: 3 | S33: 3
A34: Indien nodig | J34: Indien nodig | S34: Indien nodig
A35: 4 | J35: 4 | S35: 4
A36: Indien nodig | J36: Indien nodig | S36: Indien nodig
A37: 5 | J37: 5 | S37: 5
C38: Alg. Totaal | L38: Alg. Totaal | U38: Alg. Totaal
A40: MATCH | E40: SHOOT-OFF | J40: MATCH | N40: SHOOT-OFF | S40: MATCH | W40: SHOOT-OFF
A41: Verloren | C41: Gewonnen | E41: Verloren | G41: Gewonnen | J41: Verloren | L41: Gewonnen | N41: Verloren | P41: Gewonnen | S41: Verloren | U41: Gewonnen | W41: Verloren | Y41: Gewonnen
A42: Handtekening schutter | E42: Handtekening schrijver | J42: Handtekening schutter | N42: Handtekening schrijver | S42: Handtekening schutter | W42: Handtekening schrijver
A46: De winnaar behoud zijn scoreblad, de verliezer laat zijn scoreblad op de grond.
A47: Shoot-off 1 pijl per schutter in 40 sec. , dichts bij het center wint.

Sheet 53
A1: =inschrijving!A2 -> B.A.I.C. Compound
A2: Datum : | C2: =inschrijving!E2 -> 41958 | G2: Plaats : | I2: =inschrijving!F2 -> Terhagen
A4: Ranking | C4: =RANKING!A55 -> 53
A6: Naam & Voornaam : | F6: =RANKING!C55 -> bye
A8: Lidnummer | D8: =RANKING!H55 -> 0 | J8: Club | L8: =RANKING!D55 -> 0 | N8: Categorie | P8: =RANKING!E55 -> 0 | T8: =RANKING!F55 -> 0 | W8: =RANKING!G55 -> 0
A10: 1/32e finale 64 schutters | D10: Doel N° | F10: =AFKAMPING!B50 -> x | H10: =AFKAMPING!A49 -> 0 | J10: 1/16e finale 32 schutters | M10: Doel N° | O10: =IF(AFKAMPING!F49<=0,AFKAMPING!F48,IF(AFKAMPING!F48>=0,AFKAMPING!F49)) -> 0 | Q10: =AFKAMPING!H49 -> B | S10: 1/8e finale 16 schutters | V10: Doel N° | X10: =IF(AFKAMPING!J41<=0,AFKAMPING!J44,IF(AFKAMPING!J44>=0,AFKAMPING!J41)) -> 0 | Z10: =AFKAMPING!L47 -> B
B12: 1 | C12: 2 | D12: 3 | E12: subtotaal | G12: totaal | K12: 1 | L12: 2 | M12: 3 | N12: subtotaal | P12: totaal | T12: 1 | U12: 2 | V12: 3 | W12: subtotaal | Y12: totaal
A13: 1 | J13: 1 | S13: 1
A14: 2 | J14: 2 | S14: 2
A15: 3 | J15: 3 | S15: 3
A16: Indien nodig | J16: Indien nodig | S16: Indien nodig
A17: 4 | J17: 4 | S17: 4
A18: Indien nodig | J18: Indien nodig | S18: Indien nodig
A19: 5 | J19: 5 | S19: 5
C20: Alg. Totaal | L20: Alg. Totaal | U20: Alg. Totaal
A22: MATCH | E22: SHOOT-OFF | J22: MATCH | N22: SHOOT-OFF | S22: MATCH | W22: SHOOT-OFF
A23: Verloren | C23: Gewonnen | E23: Verloren | G23: Gewonnen | J23: Verloren | L23: Gewonnen | N23: Verloren | P23: Gewonnen | S23: Verloren | U23: Gewonnen | W23: Verloren | Y23: Gewonnen
A24: Handtekening schutter | E24: Handtekening schrijver | J24: Handtekening schutter | N24: Handtekening schrijver | S24: Handtekening schutter | W24: Handtekening schrijver
A28: 1/4e finale 8 schutters | D28: Doel N° | F28: =IF(AFKAMPING!N45<=0,AFKAMPING!N52,IF(AFKAMPING!N52>=0,AFKAMPING!N45)) -> 3 | H28: =AFKAMPING!P45 -> 0 | J28: 1/2e finale 4 schutters | M28: Doel N° | O28: =IF(AFKAMPING!R51<=0,AFKAMPING!R36,IF(AFKAMPING!R36>=0,AFKAMPING!R51)) -> 3 | Q28: =AFKAMPING!T51 -> 0 | S28: Finale GOUD | V28: Doel N° | X28: =IF(AFKAMPING!V36<=0,AFKAMPING!V67,IF(AFKAMPING!V67>=0,AFKAMPING!V36)) -> 2
S29: Finale Brons | V29: Doel N° | X29: =IF(AFKAMPING!R67<=0,AFKAMPING!R68,IF(AFKAMPING!R68>=0,AFKAMPING!R67)) -> 6
B30: 1 | C30: 2 | D30: 3 | E30: subtotaal | G30: totaal | K30: 1 | L30: 2 | M30: 3 | N30: subtotaal | P30: totaal | T30: 1 | U30: 2 | V30: 3 | W30: subtotaal | Y30: totaal
A31: 1 | J31: 1 | S31: 1
A32: 2 | J32: 2 | S32: 2
A33: 3 | J33: 3 | S33: 3
A34: Indien nodig | J34: Indien nodig | S34: Indien nodig
A35: 4 | J35: 4 | S35: 4
A36: Indien nodig | J36: Indien nodig | S36: Indien nodig
A37: 5 | J37: 5 | S37: 5
C38: Alg. Totaal | L38: Alg. Totaal | U38: Alg. Totaal
A40: MATCH | E40: SHOOT-OFF | J40: MATCH | N40: SHOOT-OFF | S40: MATCH | W40: SHOOT-OFF
A41: Verloren | C41: Gewonnen | E41: Verloren | G41: Gewonnen | J41: Verloren | L41: Gewonnen | N41: Verloren | P41: Gewonnen | S41: Verloren | U41: Gewonnen | W41: Verloren | Y41: Gewonnen
A42: Handtekening schutter | E42: Handtekening schrijver | J42: Handtekening schutter | N42: Handtekening schrijver | S42: Handtekening schutter | W42: Handtekening schrijver
A46: De winnaar behoud zijn scoreblad, de verliezer laat zijn scoreblad op de grond.
A47: Shoot-off 1 pijl per schutter in 40 sec. , dichts bij het center wint.

Sheet 12
A1: =inschrijving!A2 -> B.A.I.C. Compound
A2: Datum : | C2: =inschrijving!E2 -> 41958 | G2: Plaats : | I2: =inschrijving!F2 -> Terhagen
A4: Ranking | C4: =RANKING!A14 -> 12
A6: Naam & Voornaam : | F6: =RANKING!C14 -> BOSMANS LEOPOLD
A8: Lidnummer | D8: =RANKING!H14 -> 513102 | J8: Club | L8: =RANKING!D14 -> SKE | N8: Categorie | P8: =RANKING!E16 -> Compound | T8: =RANKING!F16 -> Men | W8: =RANKING!G14 -> Senior
A10: 1/32e finale 64 schutters | D10: Doel N° | F10: =AFKAMPING!B50 -> x | H10: =AFKAMPING!A51 -> 0 | J10: 1/16e finale 32 schutters | M10: Doel N° | O10: =IF(AFKAMPING!F49<=0,AFKAMPING!F48,IF(AFKAMPING!F48>=0,AFKAMPING!F49)) -> 0 | Q10: =AFKAMPING!H49 -> B | S10: 1/8e finale 16 schutters | V10: Doel N° | X10: =IF(AFKAMPING!J41<=0,AFKAMPING!J44,IF(AFKAMPING!J44>=0,AFKAMPING!J41)) -> 0 | Z10: =AFKAMPING!L47 -> B
B12: 1 | C12: 2 | D12: 3 | E12: subtotaal | G12: totaal | K12: 1 | L12: 2 | M12: 3 | N12: subtotaal | P12: totaal | T12: 1 | U12: 2 | V12: 3 | W12: subtotaal | Y12: totaal
A13: 1 | J13: 1 | S13: 1
A14: 2 | J14: 2 | S14: 2
A15: 3 | J15: 3 | S15: 3
A16: Indien nodig | J16: Indien nodig | S16: Indien nodig
A17: 4 | J17: 4 | S17: 4
A18: Indien nodig | J18: Indien nodig | S18: Indien nodig
A19: 5 | J19: 5 | S19: 5
C20: Alg. Totaal | L20: Alg. Totaal | U20: Alg. Totaal
A22: MATCH | E22: SHOOT-OFF | J22: MATCH | N22: SHOOT-OFF | S22: MATCH | W22: SHOOT-OFF
A23: Verloren | C23: Gewonnen | E23: Verloren | G23: Gewonnen | J23: Verloren | L23: Gewonnen | N23: Verloren | P23: Gewonnen | S23: Verloren | U23: Gewonnen | W23: Verloren | Y23: Gewonnen
A24: Handtekening schutter | E24: Handtekening schrijver | J24: Handtekening schutter | N24: Handtekening schrijver | S24: Handtekening schutter | W24: Handtekening schrijver
A28: 1/4e finale 8 schutters | D28: Doel N° | F28: =IF(AFKAMPING!N45<=0,AFKAMPING!N52,IF(AFKAMPING!N52>=0,AFKAMPING!N45)) -> 3 | H28: =AFKAMPING!P45 -> 0 | J28: 1/2e finale 4 schutters | M28: Doel N° | O28: =IF(AFKAMPING!R51<=0,AFKAMPING!R36,IF(AFKAMPING!R36>=0,AFKAMPING!R51)) -> 3 | Q28: =AFKAMPING!T51 -> 0 | S28: Finale GOUD | V28: Doel N° | X28: =IF(AFKAMPING!V36<=0,AFKAMPING!V67,IF(AFKAMPING!V67>=0,AFKAMPING!V36)) -> 2
S29: Finale Brons | V29: Doel N° | X29: =IF(AFKAMPING!R67<=0,AFKAMPING!R68,IF(AFKAMPING!R68>=0,AFKAMPING!R67)) -> 6
B30: 1 | C30: 2 | D30: 3 | E30: subtotaal | G30: totaal | K30: 1 | L30: 2 | M30: 3 | N30: subtotaal | P30: totaal | T30: 1 | U30: 2 | V30: 3 | W30: subtotaal | Y30: totaal
A31: 1 | J31: 1 | S31: 1
A32: 2 | J32: 2 | S32: 2
A33: 3 | J33: 3 | S33: 3
A34: Indien nodig | J34: Indien nodig | S34: Indien nodig
A35: 4 | J35: 4 | S35: 4
A36: Indien nodig | J36: Indien nodig | S36: Indien nodig
A37: 5 | J37: 5 | S37: 5
C38: Alg. Totaal | L38: Alg. Totaal | U38: Alg. Totaal
A40: MATCH | E40: SHOOT-OFF | J40: MATCH | N40: SHOOT-OFF | S40: MATCH | W40: SHOOT-OFF
A41: Verloren | C41: Gewonnen | E41: Verloren | G41: Gewonnen | J41: Verloren | L41: Gewonnen | N41: Verloren | P41: Gewonnen | S41: Verloren | U41: Gewonnen | W41: Verloren | Y41: Gewonnen
A42: Handtekening schutter | E42: Handtekening schrijver | J42: Handtekening schutter | N42: Handtekening schrijver | S42: Handtekening schutter | W42: Handtekening schrijver
A46: De winnaar behoud zijn scoreblad, de verliezer laat zijn scoreblad op de grond.
A47: Shoot-off 1 pijl per schutter in 40 sec. , dichts bij het center wint.

Sheet 13
A1: =inschrijving!A2 -> B.A.I.C. Compound
A2: Datum : | C2: =inschrijving!E2 -> 41958 | G2: Plaats : | I2: =inschrijving!F2 -> Terhagen
A4: Ranking | C4: =RANKING!A15 -> 13
A6: Naam & Voornaam : | F6: =RANKING!C15 -> PAESMANS GLENN
A8: Lidnummer | D8: =RANKING!H15 -> 960005 | J8: Club | L8: =RANKING!D15 -> EAB | N8: Categorie | P8: =RANKING!E14 -> Compound | T8: =RANKING!F14 -> Men | W8: =RANKING!G15 -> Senior
A10: 1/32e finale 64 schutters | D10: Doel N° | F10: =AFKAMPING!B54 -> x | H10: =AFKAMPING!A53 -> 0 | J10: 1/16e finale 32 schutters | M10: Doel N° | O10: =IF(AFKAMPING!F55<=0,AFKAMPING!F56,IF(AFKAMPING!F56>=0,AFKAMPING!F55)) -> 0 | Q10: =AFKAMPING!H55 -> A | S10: 1/8e finale 16 schutters | V10: Doel N° | X10: =IF(AFKAMPING!J57<=0,AFKAMPING!J60,IF(AFKAMPING!J60>=0,AFKAMPING!J57)) -> 0 | Z10: =AFKAMPING!L57 -> A
B12: 1 | C12: 2 | D12: 3 | E12: subtotaal | G12: totaal | K12: 1 | L12: 2 | M12: 3 | N12: subtotaal | P12: totaal | T12: 1 | U12: 2 | V12: 3 | W12: subtotaal | Y12: totaal
A13: 1 | J13: 1 | S13: 1
A14: 2 | J14: 2 | S14: 2
A15: 3 | J15: 3 | S15: 3
A16: Indien nodig | J16: Indien nodig | S16: Indien nodig
A17: 4 | J17: 4 | S17: 4
A18: Indien nodig | J18: Indien nodig | S18: Indien nodig
A19: 5 | J19: 5 | S19: 5
C20: Alg. Totaal | L20: Alg. Totaal | U20: Alg. Totaal
A22: MATCH | E22: SHOOT-OFF | J22: MATCH | N22: SHOOT-OFF | S22: MATCH | W22: SHOOT-OFF
A23: Verloren | C23: Gewonnen | E23: Verloren | G23: Gewonnen | J23: Verloren | L23: Gewonnen | N23: Verloren | P23: Gewonnen | S23: Verloren | U23: Gewonnen | W23: Verloren | Y23: Gewonnen
A24: Handtekening schutter | E24: Handtekening schrijver | J24: Handtekening schutter | N24: Handtekening schrijver | S24: Handtekening schutter | W24: Handtekening schrijver
A28: 1/4e finale 8 schutters | D28: Doel N° | F28: =IF(AFKAMPING!N59<=0,AFKAMPING!N52,IF(AFKAMPING!N52>=0,AFKAMPING!N59)) -> 4 | H28: =AFKAMPING!P59 -> 0 | J28: 1/2e finale 4 schutters | M28: Doel N° | O28: =IF(AFKAMPING!R51<=0,AFKAMPING!R36,IF(AFKAMPING!R36>=0,AFKAMPING!R51)) -> 3 | Q28: =AFKAMPING!T51 -> 0 | S28: Finale GOUD | V28: Doel N° | X28: =IF(AFKAMPING!V36<=0,AFKAMPING!V67,IF(AFKAMPING!V67>=0,AFKAMPING!V36)) -> 2
S29: Finale Brons | V29: Doel N° | X29: =IF(AFKAMPING!R67<=0,AFKAMPING!R68,IF(AFKAMPING!R68>=0,AFKAMPING!R67)) -> 6
B30: 1 | C30: 2 | D30: 3 | E30: subtotaal | G30: totaal | K30: 1 | L30: 2 | M30: 3 | N30: subtotaal | P30: totaal | T30: 1 | U30: 2 | V30: 3 | W30: subtotaal | Y30: totaal
A31: 1 | J31: 1 | S31: 1
A32: 2 | J32: 2 | S32: 2
A33: 3 | J33: 3 | S33: 3
A34: Indien nodig | J34: Indien nodig | S34: Indien nodig
A35: 4 | J35: 4 | S35: 4
A36: Indien nodig | J36: Indien nodig | S36: Indien nodig
A37: 5 | J37: 5 | S37: 5
C38: Alg. Totaal | L38: Alg. Totaal | U38: Alg. Totaal
A40: MATCH | E40: SHOOT-OFF | J40: MATCH | N40: SHOOT-OFF | S40: MATCH | W40: SHOOT-OFF
A41: Verloren | C41: Gewonnen | E41: Verloren | G41: Gewonnen | J41: Verloren | L41: Gewonnen | N41: Verloren | P41: Gewonnen | S41: Verloren | U41: Gewonnen | W41: Verloren | Y41: Gewonnen
A42: Handtekening schutter | E42: Handtekening schrijver | J42: Handtekening schutter | N42: Handtekening schrijver | S42: Handtekening schutter | W42: Handtekening schrijver
A46: De winnaar behoud zijn scoreblad, de verliezer laat zijn scoreblad op de grond.
A47: Shoot-off 1 pijl per schutter in 40 sec. , dichts bij het center wint.

Sheet 52
A1: =inschrijving!A2 -> B.A.I.C. Compound
A2: Datum : | C2: =inschrijving!E2 -> 41958 | G2: Plaats : | I2: =inschrijving!F2 -> Terhagen
A4: Ranking | C4: =RANKING!A54 -> 52
A6: Naam & Voornaam : | F6: =RANKING!C54 -> bye
A8: Lidnummer | D8: =RANKING!H54 -> 0 | J8: Club | L8: =RANKING!D54 -> 0 | N8: Categorie | P8: =RANKING!E54 -> 0 | T8: =RANKING!F54 -> 0 | W8: =RANKING!G54 -> 0
A10: 1/32e finale 64 schutters | D10: Doel N° | F10: =AFKAMPING!B54 -> x | H10: =AFKAMPING!A55 -> 0 | J10: 1/16e finale 32 schutters | M10: Doel N° | O10: =IF(AFKAMPING!F55<=0,AFKAMPING!F56,IF(AFKAMPING!F56>=0,AFKAMPING!F55)) -> 0 | Q10: =AFKAMPING!H55 -> A | S10: 1/8e finale 16 schutters | V10: Doel N° | X10: =IF(AFKAMPING!J57<=0,AFKAMPING!J60,IF(AFKAMPING!J60>=0,AFKAMPING!J57)) -> 0 | Z10: =AFKAMPING!L57 -> A
B12: 1 | C12: 2 | D12: 3 | E12: subtotaal | G12: totaal | K12: 1 | L12: 2 | M12: 3 | N12: subtotaal | P12: totaal | T12: 1 | U12: 2 | V12: 3 | W12: subtotaal | Y12: totaal
A13: 1 | J13: 1 | S13: 1
A14: 2 | J14: 2 | S14: 2
A15: 3 | J15: 3 | S15: 3
A16: Indien nodig | J16: Indien nodig | S16: Indien nodig
A17: 4 | J17: 4 | S17: 4
A18: Indien nodig | J18: Indien nodig | S18: Indien nodig
A19: 5 | J19: 5 | S19: 5
C20: Alg. Totaal | L20: Alg. Totaal | U20: Alg. Totaal
A22: MATCH | E22: SHOOT-OFF | J22: MATCH | N22: SHOOT-OFF | S22: MATCH | W22: SHOOT-OFF
A23: Verloren | C23: Gewonnen | E23: Verloren | G23: Gewonnen | J23: Verloren | L23: Gewonnen | N23: Verloren | P23: Gewonnen | S23: Verloren | U23: Gewonnen | W23: Verloren | Y23: Gewonnen
A24: Handtekening schutter | E24: Handtekening schrijver | J24: Handtekening schutter | N24: Handtekening schrijver | S24: Handtekening schutter | W24: Handtekening schrijver
A28: 1/4e finale 8 schutters | D28: Doel N° | F28: =IF(AFKAMPING!N59<=0,AFKAMPING!N52,IF(AFKAMPING!N52>=0,AFKAMPING!N59)) -> 4 | H28: =AFKAMPING!P59 -> 0 | J28: 1/2e finale 4 schutters | M28: Doel N° | O28: =IF(AFKAMPING!R51<=0,AFKAMPING!R36,IF(AFKAMPING!R36>=0,AFKAMPING!R51)) -> 3 | Q28: =AFKAMPING!T51 -> 0 | S28: Finale GOUD | V28: Doel N° | X28: =IF(AFKAMPING!V36<=0,AFKAMPING!V67,IF(AFKAMPING!V67>=0,AFKAMPING!V36)) -> 2
S29: Finale Brons | V29: Doel N° | X29: =IF(AFKAMPING!R67<=0,AFKAMPING!R68,IF(AFKAMPING!R68>=0,AFKAMPING!R67)) -> 6
B30: 1 | C30: 2 | D30: 3 | E30: subtotaal | G30: totaal | K30: 1 | L30: 2 | M30: 3 | N30: subtotaal | P30: totaal | T30: 1 | U30: 2 | V30: 3 | W30: subtotaal | Y30: totaal
A31: 1 | J31: 1 | S31: 1
A32: 2 | J32: 2 | S32: 2
A33: 3 | J33: 3 | S33: 3
A34: Indien nodig | J34: Indien nodig | S34: Indien nodig
A35: 4 | J35: 4 | S35: 4
A36: Indien nodig | J36: Indien nodig | S36: Indien nodig
A37: 5 | J37: 5 | S37: 5
C38: Alg. Totaal | L38: Alg. Totaal | U38: Alg. Totaal
A40: MATCH | E40: SHOOT-OFF | J40: MATCH | N40: SHOOT-OFF | S40: MATCH | W40: SHOOT-OFF
A41: Verloren | C41: Gewonnen | E41: Verloren | G41: Gewonnen | J41: Verloren | L41: Gewonnen | N41: Verloren | P41: Gewonnen | S41: Verloren | U41: Gewonnen | W41: Verloren | Y41: Gewonnen
A42: Handtekening schutter | E42: Handtekening schrijver | J42: Handtekening schutter | N42: Handtekening schrijver | S42: Handtekening schutter | W42: Handtekening schrijver
A46: De winnaar behoud zijn scoreblad, de verliezer laat zijn scoreblad op de grond.
A47: Shoot-off 1 pijl per schutter in 40 sec. , dichts bij het center wint.

Sheet 45
A1: =inschrijving!A2 -> B.A.I.C. Compound
A2: Datum : | C2: =inschrijving!E2 -> 41958 | G2: Plaats : | I2: =inschrijving!F2 -> Terhagen
A4: Ranking | C4: =RANKING!A47 -> 45
A6: Naam & Voornaam : | F6: =RANKING!C47 -> FREDERICKX JEAN PAUL
A8: Lidnummer | D8: =RANKING!H47 -> 512063 | J8: Club | L8: =RANKING!D47 -> SHT | N8: Categorie | P8: =RANKING!E47 -> Compound | T8: =RANKING!F47 -> Men | W8: =RANKING!G47 -> Master
A10: 1/32e finale 64 schutters | D10: Doel N° | F10: =AFKAMPING!B58 -> x | H10: =AFKAMPING!A57 -> 0 | J10: 1/16e finale 32 schutters | M10: Doel N° | O10: =IF(AFKAMPING!F57<=0,AFKAMPING!F56,IF(AFKAMPING!F56>=0,AFKAMPING!F57)) -> 0 | Q10: =AFKAMPING!H57 -> B | S10: 1/8e finale 16 schutters | V10: Doel N° | X10: =IF(AFKAMPING!J57<=0,AFKAMPING!J60,IF(AFKAMPING!J60>=0,AFKAMPING!J57)) -> 0 | Z10: =AFKAMPING!L57 -> A
B12: 1 | C12: 2 | D12: 3 | E12: subtotaal | G12: totaal | K12: 1 | L12: 2 | M12: 3 | N12: subtotaal | P12: totaal | T12: 1 | U12: 2 | V12: 3 | W12: subtotaal | Y12: totaal
A13: 1 | J13: 1 | S13: 1
A14: 2 | J14: 2 | S14: 2
A15: 3 | J15: 3 | S15: 3
A16: Indien nodig | J16: Indien nodig | S16: Indien nodig
A17: 4 | J17: 4 | S17: 4
A18: Indien nodig | J18: Indien nodig | S18: Indien nodig
A19: 5 | J19: 5 | S19: 5
C20: Alg. Totaal | L20: Alg. Totaal | U20: Alg. Totaal
A22: MATCH | E22: SHOOT-OFF | J22: MATCH | N22: SHOOT-OFF | S22: MATCH | W22: SHOOT-OFF
A23: Verloren | C23: Gewonnen | E23: Verloren | G23: Gewonnen | J23: Verloren | L23: Gewonnen | N23: Verloren | P23: Gewonnen | S23: Verloren | U23: Gewonnen | W23: Verloren | Y23: Gewonnen
A24: Handtekening schutter | E24: Handtekening schrijver | J24: Handtekening schutter | N24: Handtekening schrijver | S24: Handtekening schutter | W24: Handtekening schrijver
A28: 1/4e finale 8 schutters | D28: Doel N° | F28: =IF(AFKAMPING!N59<=0,AFKAMPING!N52,IF(AFKAMPING!N52>=0,AFKAMPING!N59)) -> 4 | H28: =AFKAMPING!P59 -> 0 | J28: 1/2e finale 4 schutters | M28: Doel N° | O28: =IF(AFKAMPING!R51<=0,AFKAMPING!R36,IF(AFKAMPING!R36>=0,AFKAMPING!R51)) -> 3 | Q28: =AFKAMPING!T51 -> 0 | S28: Finale GOUD | V28: Doel N° | X28: =IF(AFKAMPING!V36<=0,AFKAMPING!V67,IF(AFKAMPING!V67>=0,AFKAMPING!V36)) -> 2
S29: Finale Brons | V29: Doel N° | X29: =IF(AFKAMPING!R67<=0,AFKAMPING!R68,IF(AFKAMPING!R68>=0,AFKAMPING!R67)) -> 6
B30: 1 | C30: 2 | D30: 3 | E30: subtotaal | G30: totaal | K30: 1 | L30: 2 | M30: 3 | N30: subtotaal | P30: totaal | T30: 1 | U30: 2 | V30: 3 | W30: subtotaal | Y30: totaal
A31: 1 | J31: 1 | S31: 1
A32: 2 | J32: 2 | S32: 2
A33: 3 | J33: 3 | S33: 3
A34: Indien nodig | J34: Indien nodig | S34: Indien nodig
A35: 4 | J35: 4 | S35: 4
A36: Indien nodig | J36: Indien nodig | S36: Indien nodig
A37: 5 | J37: 5 | S37: 5
C38: Alg. Totaal | L38: Alg. Totaal | U38: Alg. Totaal
A40: MATCH | E40: SHOOT-OFF | J40: MATCH | N40: SHOOT-OFF | S40: MATCH | W40: SHOOT-OFF
A41: Verloren | C41: Gewonnen | E41: Verloren | G41: Gewonnen | J41: Verloren | L41: Gewonnen | N41: Verloren | P41: Gewonnen | S41: Verloren | U41: Gewonnen | W41: Verloren | Y41: Gewonnen
A42: Handtekening schutter | E42: Handtekening schrijver | J42: Handtekening schutter | N42: Handtekening schrijver | S42: Handtekening schutter | W42: Handtekening schrijver
A46: De winnaar behoud zijn scoreblad, de verliezer laat zijn scoreblad op de grond.
A47: Shoot-off 1 pijl per schutter in 40 sec. , dichts bij het center wint.

Sheet 20
A1: =inschrijving!A2 -> B.A.I.C. Compound
A2: Datum : | C2: =inschrijving!E2 -> 41958 | G2: Plaats : | I2: =inschrijving!F2 -> Terhagen
A4: Ranking | C4: =RANKING!A22 -> 20
A6: Naam & Voornaam : | F6: =RANKING!C22 -> KOOLS JONATHAN
A8: Lidnummer | D8: =RANKING!H22 -> 105084 | J8: Club | L8: =RANKING!D22 -> DNM | N8: Categorie | P8: =RANKING!E22 -> Compound | T8: =RANKING!F22 -> Men | W8: =RANKING!G22 -> Junior
A10: 1/32e finale 64 schutters | D10: Doel N° | F10: =AFKAMPING!B58 -> x | H10: =AFKAMPING!A59 -> 0 | J10: 1/16e finale 32 schutters | M10: Doel N° | O10: =IF(AFKAMPING!F57<=0,AFKAMPING!F56,IF(AFKAMPING!F56>=0,AFKAMPING!F57)) -> 0 | Q10: =AFKAMPING!H57 -> B | S10: 1/8e finale 16 schutters | V10: Doel N° | X10: =IF(AFKAMPING!J57<=0,AFKAMPING!J60,IF(AFKAMPING!J60>=0,AFKAMPING!J57)) -> 0 | Z10: =AFKAMPING!L57 -> A
B12: 1 | C12: 2 | D12: 3 | E12: subtotaal | G12: totaal | K12: 1 | L12: 2 | M12: 3 | N12: subtotaal | P12: totaal | T12: 1 | U12: 2 | V12: 3 | W12: subtotaal | Y12: totaal
A13: 1 | J13: 1 | S13: 1
A14: 2 | J14: 2 | S14: 2
A15: 3 | J15: 3 | S15: 3
A16: Indien nodig | J16: Indien nodig | S16: Indien nodig
A17: 4 | J17: 4 | S17: 4
A18: Indien nodig | J18: Indien nodig | S18: Indien nodig
A19: 5 | J19: 5 | S19: 5
C20: Alg. Totaal | L20: Alg. Totaal | U20: Alg. Totaal
A22: MATCH | E22: SHOOT-OFF | J22: MATCH | N22: SHOOT-OFF | S22: MATCH | W22: SHOOT-OFF
A23: Verloren | C23: Gewonnen | E23: Verloren | G23: Gewonnen | J23: Verloren | L23: Gewonnen | N23: Verloren | P23: Gewonnen | S23: Verloren | U23: Gewonnen | W23: Verloren | Y23: Gewonnen
A24: Handtekening schutter | E24: Handtekening schrijver | J24: Handtekening schutter | N24: Handtekening schrijver | S24: Handtekening schutter | W24: Handtekening schrijver
A28: 1/4e finale 8 schutters | D28: Doel N° | F28: =IF(AFKAMPING!N59<=0,AFKAMPING!N52,IF(AFKAMPING!N52>=0,AFKAMPING!N59)) -> 4 | H28: =AFKAMPING!P59 -> 0 | J28: 1/2e finale 4 schutters | M28: Doel N° | O28: =IF(AFKAMPING!R51<=0,AFKAMPING!R36,IF(AFKAMPING!R36>=0,AFKAMPING!R51)) -> 3 | Q28: =AFKAMPING!T51 -> 0 | S28: Finale GOUD | V28: Doel N° | X28: =IF(AFKAMPING!V36<=0,AFKAMPING!V67,IF(AFKAMPING!V67>=0,AFKAMPING!V36)) -> 2
S29: Finale Brons | V29: Doel N° | X29: =IF(AFKAMPING!R67<=0,AFKAMPING!R68,IF(AFKAMPING!R68>=0,AFKAMPING!R67)) -> 6
B30: 1 | C30: 2 | D30: 3 | E30: subtotaal | G30: totaal | K30: 1 | L30: 2 | M30: 3 | N30: subtotaal | P30: totaal | T30: 1 | U30: 2 | V30: 3 | W30: subtotaal | Y30: totaal
A31: 1 | J31: 1 | S31: 1
A32: 2 | J32: 2 | S32: 2
A33: 3 | J33: 3 | S33: 3
A34: Indien nodig | J34: Indien nodig | S34: Indien nodig
A35: 4 | J35: 4 | S35: 4
A36: Indien nodig | J36: Indien nodig | S36: Indien nodig
A37: 5 | J37: 5 | S37: 5
C38: Alg. Totaal | L38: Alg. Totaal | U38: Alg. Totaal
A40: MATCH | E40: SHOOT-OFF | J40: MATCH | N40: SHOOT-OFF | S40: MATCH | W40: SHOOT-OFF
A41: Verloren | C41: Gewonnen | E41: Verloren | G41: Gewonnen | J41: Verloren | L41: Gewonnen | N41: Verloren | P41: Gewonnen | S41: Verloren | U41: Gewonnen | W41: Verloren | Y41: Gewonnen
A42: Handtekening schutter | E42: Handtekening schrijver | J42: Handtekening schutter | N42: Handtekening schrijver | S42: Handtekening schutter | W42: Handtekening schrijver
A46: De winnaar behoud zijn scoreblad, de verliezer laat zijn scoreblad op de grond.
A47: Shoot-off 1 pijl per schutter in 40 sec. , dichts bij het center wint.

Sheet 29
A1: =inschrijving!A2 -> B.A.I.C. Compound
A2: Datum : | C2: =inschrijving!E2 -> 41958 | G2: Plaats : | I2: =inschrijving!F2 -> Terhagen
A4: Ranking | C4: =RANKING!A31 -> 29
A6: Naam & Voornaam : | F6: =RANKING!C31 -> FREDERICKX JORAN
A8: Lidnummer | D8: =RANKING!H31 -> 512066 | J8: Club | L8: =RANKING!D31 -> SHT | N8: Categorie | P8: =RANKING!E31 -> Compound | T8: =RANKING!F31 -> Men | W8: =RANKING!G31 -> Benjamin
A10: 1/32e finale 64 schutters | D10: Doel N° | F10: =AFKAMPING!B62 -> x | H10: =AFKAMPING!A61 -> 0 | J10: 1/16e finale 32 schutters | M10: Doel N° | O10: =IF(AFKAMPING!F63<=0,AFKAMPING!F64,IF(AFKAMPING!F64>=0,AFKAMPING!F63)) -> 0 | Q10: =AFKAMPING!H63 -> A | S10: 1/8e finale 16 schutters | V10: Doel N° | X10: =IF(AFKAMPING!J63<=0,AFKAMPING!J60,IF(AFKAMPING!J60>=0,AFKAMPING!J63)) -> 0 | Z10: =AFKAMPING!L63 -> B
B12: 1 | C12: 2 | D12: 3 | E12: subtotaal | G12: totaal | K12: 1 | L12: 2 | M12: 3 | N12: subtotaal | P12: totaal | T12: 1 | U12: 2 | V12: 3 | W12: subtotaal | Y12: totaal
A13: 1 | J13: 1 | S13: 1
A14: 2 | J14: 2 | S14: 2
A15: 3 | J15: 3 | S15: 3
A16: Indien nodig | J16: Indien nodig | S16: Indien nodig
A17: 4 | J17: 4 | S17: 4
A18: Indien nodig | J18: Indien nodig | S18: Indien nodig
A19: 5 | J19: 5 | S19: 5
C20: Alg. Totaal | L20: Alg. Totaal | U20: Alg. Totaal
A22: MATCH | E22: SHOOT-OFF | J22: MATCH | N22: SHOOT-OFF | S22: MATCH | W22: SHOOT-OFF
A23: Verloren | C23: Gewonnen | E23: Verloren | G23: Gewonnen | J23: Verloren | L23: Gewonnen | N23: Verloren | P23: Gewonnen | S23: Verloren | U23: Gewonnen | W23: Verloren | Y23: Gewonnen
A24: Handtekening schutter | E24: Handtekening schrijver | J24: Handtekening schutter | N24: Handtekening schrijver | S24: Handtekening schutter | W24: Handtekening schrijver
A28: 1/4e finale 8 schutters | D28: Doel N° | F28: =IF(AFKAMPING!N59<=0,AFKAMPING!N52,IF(AFKAMPING!N52>=0,AFKAMPING!N59)) -> 4 | H28: =AFKAMPING!P59 -> 0 | J28: 1/2e finale 4 schutters | M28: Doel N° | O28: =IF(AFKAMPING!R51<=0,AFKAMPING!R36,IF(AFKAMPING!R36>=0,AFKAMPING!R51)) -> 3 | Q28: =AFKAMPING!T51 -> 0 | S28: Finale GOUD | V28: Doel N° | X28: =IF(AFKAMPING!V36<=0,AFKAMPING!V67,IF(AFKAMPING!V67>=0,AFKAMPING!V36)) -> 2
S29: Finale Brons | V29: Doel N° | X29: =IF(AFKAMPING!R67<=0,AFKAMPING!R68,IF(AFKAMPING!R68>=0,AFKAMPING!R67)) -> 6
B30: 1 | C30: 2 | D30: 3 | E30: subtotaal | G30: totaal | K30: 1 | L30: 2 | M30: 3 | N30: subtotaal | P30: totaal | T30: 1 | U30: 2 | V30: 3 | W30: subtotaal | Y30: totaal
A31: 1 | J31: 1 | S31: 1
A32: 2 | J32: 2 | S32: 2
A33: 3 | J33: 3 | S33: 3
A34: Indien nodig | J34: Indien nodig | S34: Indien nodig
A35: 4 | J35: 4 | S35: 4
A36: Indien nodig | J36: Indien nodig | S36: Indien nodig
A37: 5 | J37: 5 | S37: 5
C38: Alg. Totaal | L38: Alg. Totaal | U38: Alg. Totaal
A40: MATCH | E40: SHOOT-OFF | J40: MATCH | N40: SHOOT-OFF | S40: MATCH | W40: SHOOT-OFF
A41: Verloren | C41: Gewonnen | E41: Verloren | G41: Gewonnen | J41: Verloren | L41: Gewonnen | N41: Verloren | P41: Gewonnen | S41: Verloren | U41: Gewonnen | W41: Verloren | Y41: Gewonnen
A42: Handtekening schutter | E42: Handtekening schrijver | J42: Handtekening schutter | N42: Handtekening schrijver | S42: Handtekening schutter | W42: Handtekening schrijver
A46: De winnaar behoud zijn scoreblad, de verliezer laat zijn scoreblad op de grond.
A47: Shoot-off 1 pijl per schutter in 40 sec. , dichts bij het center wint.

Sheet 36
A1: =inschrijving!A2 -> B.A.I.C. Compound
A2: Datum : | C2: =inschrijving!E2 -> 41958 | G2: Plaats : | I2: =inschrijving!F2 -> Terhagen
A4: Ranking | C4: =RANKING!A38 -> 36
A6: Naam & Voornaam : | F6: =RANKING!C38 -> JANSSENS NIELS
A8: Lidnummer | D8: =RANKING!H38 -> 134046 | J8: Club | L8: =RANKING!D38 -> HSK | N8: Categorie | P8: =RANKING!E38 -> Compound | T8: =RANKING!F38 -> Men | W8: =RANKING!G38 -> Senior 1
A10: 1/32e finale 64 schutters | D10: Doel N° | F10: =AFKAMPING!B62 -> x | H10: =AFKAMPING!A63 -> 0 | J10: 1/16e finale 32 schutters | M10: Doel N° | O10: =IF(AFKAMPING!F63<=0,AFKAMPING!F64,IF(AFKAMPING!F64>=0,AFKAMPING!F63)) -> 0 | Q10: =AFKAMPING!H63 -> A | S10: 1/8e finale 16 schutters | V10: Doel N° | X10: =IF(AFKAMPING!J63<=0,AFKAMPING!J60,IF(AFKAMPING!J60>=0,AFKAMPING!J63)) -> 0 | Z10: =AFKAMPING!L63 -> B
B12: 1 | C12: 2 | D12: 3 | E12: subtotaal | G12: totaal | K12: 1 | L12: 2 | M12: 3 | N12: subtotaal | P12: totaal | T12: 1 | U12: 2 | V12: 3 | W12: subtotaal | Y12: totaal
A13: 1 | J13: 1 | S13: 1
A14: 2 | J14: 2 | S14: 2
A15: 3 | J15: 3 | S15: 3
A16: Indien nodig | J16: Indien nodig | S16: Indien nodig
A17: 4 | J17: 4 | S17: 4
A18: Indien nodig | J18: Indien nodig | S18: Indien nodig
A19: 5 | J19: 5 | S19: 5
C20: Alg. Totaal | L20: Alg. Totaal | U20: Alg. Totaal
A22: MATCH | E22: SHOOT-OFF | J22: MATCH | N22: SHOOT-OFF | S22: MATCH | W22: SHOOT-OFF
A23: Verloren | C23: Gewonnen | E23: Verloren | G23: Gewonnen | J23: Verloren | L23: Gewonnen | N23: Verloren | P23: Gewonnen | S23: Verloren | U23: Gewonnen | W23: Verloren | Y23: Gewonnen
A24: Handtekening schutter | E24: Handtekening schrijver | J24: Handtekening schutter | N24: Handtekening schrijver | S24: Handtekening schutter | W24: Handtekening schrijver
A28: 1/4e finale 8 schutters | D28: Doel N° | F28: =IF(AFKAMPING!N59<=0,AFKAMPING!N52,IF(AFKAMPING!N52>=0,AFKAMPING!N59)) -> 4 | H28: =AFKAMPING!P59 -> 0 | J28: 1/2e finale 4 schutters | M28: Doel N° | O28: =IF(AFKAMPING!R51<=0,AFKAMPING!R36,IF(AFKAMPING!R36>=0,AFKAMPING!R51)) -> 3 | Q28: =AFKAMPING!T51 -> 0 | S28: Finale GOUD | V28: Doel N° | X28: =IF(AFKAMPING!V36<=0,AFKAMPING!V67,IF(AFKAMPING!V67>=0,AFKAMPING!V36)) -> 2
S29: Finale Brons | V29: Doel N° | X29: =IF(AFKAMPING!R67<=0,AFKAMPING!R68,IF(AFKAMPING!R68>=0,AFKAMPING!R67)) -> 6
B30: 1 | C30: 2 | D30: 3 | E30: subtotaal | G30: totaal | K30: 1 | L30: 2 | M30: 3 | N30: subtotaal | P30: totaal | T30: 1 | U30: 2 | V30: 3 | W30: subtotaal | Y30: totaal
A31: 1 | J31: 1 | S31: 1
A32: 2 | J32: 2 | S32: 2
A33: 3 | J33: 3 | S33: 3
A34: Indien nodig | J34: Indien nodig | S34: Indien nodig
A35: 4 | J35: 4 | S35: 4
A36: Indien nodig | J36: Indien nodig | S36: Indien nodig
A37: 5 | J37: 5 | S37: 5
C38: Alg. Totaal | L38: Alg. Totaal | U38: Alg. Totaal
A40: MATCH | E40: SHOOT-OFF | J40: MATCH | N40: SHOOT-OFF | S40: MATCH | W40: SHOOT-OFF
A41: Verloren | C41: Gewonnen | E41: Verloren | G41: Gewonnen | J41: Verloren | L41: Gewonnen | N41: Verloren | P41: Gewonnen | S41: Verloren | U41: Gewonnen | W41: Verloren | Y41: Gewonnen
A42: Handtekening schutter | E42: Handtekening schrijver | J42: Handtekening schutter | N42: Handtekening schrijver | S42: Handtekening schutter | W42: Handtekening schrijver
A46: De winnaar behoud zijn scoreblad, de verliezer laat zijn scoreblad op de grond.
A47: Shoot-off 1 pijl per schutter in 40 sec. , dichts bij het center wint.

Sheet 61
A1: =inschrijving!A2 -> B.A.I.C. Compound
A2: Datum : | C2: =inschrijving!E2 -> 41958 | G2: Plaats : | I2: =inschrijving!F2 -> Terhagen
A4: Ranking | C4: =RANKING!A63 -> 61
A6: Naam & Voornaam : | F6: =RANKING!C63 -> bye
A8: Lidnummer | D8: =RANKING!H63 -> 0 | J8: Club | L8: =RANKING!D63 -> 0 | N8: Categorie | P8: =RANKING!E63 -> 0 | T8: =RANKING!F63 -> 0 | W8: =RANKING!G63 -> 0
A10: 1/32e finale 64 schutters | D10: Doel N° | F10: =AFKAMPING!B66 -> x | H10: =AFKAMPING!A65 -> 0 | J10: 1/16e finale 32 schutters | M10: Doel N° | O10: =IF(AFKAMPING!F65<=0,AFKAMPING!F64,IF(AFKAMPING!F64>=0,AFKAMPING!F65)) -> 0 | Q10: =AFKAMPING!H65 -> B | S10: 1/8e finale 16 schutters | V10: Doel N° | X10: =IF(AFKAMPING!J63<=0,AFKAMPING!J60,IF(AFKAMPING!J60>=0,AFKAMPING!J63)) -> 0 | Z10: =AFKAMPING!L63 -> B
B12: 1 | C12: 2 | D12: 3 | E12: subtotaal | G12: totaal | K12: 1 | L12: 2 | M12: 3 | N12: subtotaal | P12: totaal | T12: 1 | U12: 2 | V12: 3 | W12: subtotaal | Y12: totaal
A13: 1 | J13: 1 | S13: 1
A14: 2 | J14: 2 | S14: 2
A15: 3 | J15: 3 | S15: 3
A16: Indien nodig | J16: Indien nodig | S16: Indien nodig
A17: 4 | J17: 4 | S17: 4
A18: Indien nodig | J18: Indien nodig | S18: Indien nodig
A19: 5 | J19: 5 | S19: 5
C20: Alg. Totaal | L20: Alg. Totaal | U20: Alg. Totaal
A22: MATCH | E22: SHOOT-OFF | J22: MATCH | N22: SHOOT-OFF | S22: MATCH | W22: SHOOT-OFF
A23: Verloren | C23: Gewonnen | E23: Verloren | G23: Gewonnen | J23: Verloren | L23: Gewonnen | N23: Verloren | P23: Gewonnen | S23: Verloren | U23: Gewonnen | W23: Verloren | Y23: Gewonnen
A24: Handtekening schutter | E24: Handtekening schrijver | J24: Handtekening schutter | N24: Handtekening schrijver | S24: Handtekening schutter | W24: Handtekening schrijver
A28: 1/4e finale 8 schutters | D28: Doel N° | F28: =IF(AFKAMPING!N59<=0,AFKAMPING!N52,IF(AFKAMPING!N52>=0,AFKAMPING!N59)) -> 4 | H28: =AFKAMPING!P59 -> 0 | J28: 1/2e finale 4 schutters | M28: Doel N° | O28: =IF(AFKAMPING!R51<=0,AFKAMPING!R36,IF(AFKAMPING!R36>=0,AFKAMPING!R51)) -> 3 | Q28: =AFKAMPING!T51 -> 0 | S28: Finale GOUD | V28: Doel N° | X28: =IF(AFKAMPING!V36<=0,AFKAMPING!V67,IF(AFKAMPING!V67>=0,AFKAMPING!V36)) -> 2
S29: Finale Brons | V29: Doel N° | X29: =IF(AFKAMPING!R67<=0,AFKAMPING!R68,IF(AFKAMPING!R68>=0,AFKAMPING!R67)) -> 6
B30: 1 | C30: 2 | D30: 3 | E30: subtotaal | G30: totaal | K30: 1 | L30: 2 | M30: 3 | N30: subtotaal | P30: totaal | T30: 1 | U30: 2 | V30: 3 | W30: subtotaal | Y30: totaal
A31: 1 | J31: 1 | S31: 1
A32: 2 | J32: 2 | S32: 2
A33: 3 | J33: 3 | S33: 3
A34: Indien nodig | J34: Indien nodig | S34: Indien nodig
A35: 4 | J35: 4 | S35: 4
A36: Indien nodig | J36: Indien nodig | S36: Indien nodig
A37: 5 | J37: 5 | S37: 5
C38: Alg. Totaal | L38: Alg. Totaal | U38: Alg. Totaal
A40: MATCH | E40: SHOOT-OFF | J40: MATCH | N40: SHOOT-OFF | S40: MATCH | W40: SHOOT-OFF
A41: Verloren | C41: Gewonnen | E41: Verloren | G41: Gewonnen | J41: Verloren | L41: Gewonnen | N41: Verloren | P41: Gewonnen | S41: Verloren | U41: Gewonnen | W41: Verloren | Y41: Gewonnen
A42: Handtekening schutter | E42: Handtekening schrijver | J42: Handtekening schutter | N42: Handtekening schrijver | S42: Handtekening schutter | W42: Handtekening schrijver
A46: De winnaar behoud zijn scoreblad, de verliezer laat zijn scoreblad op de grond.
A47: Shoot-off 1 pijl per schutter in 40 sec. , dichts bij het center wint.

Sheet 4
A1: =inschrijving!A2 -> B.A.I.C. Compound
A2: Datum : | C2: =inschrijving!E2 -> 41958 | G2: Plaats : | I2: =inschrijving!F2 -> Terhagen
A4: Ranking | C4: =RANKING!A6 -> 4
A6: Naam & Voornaam : | F6: =RANKING!C6 -> RENARD ALEXANDER
A8: Lidnummer | D8: =RANKING!H6 -> 113078 | J8: Club | L8: =RANKING!D6 -> XAT | N8: Categorie | P8: =RANKING!E6 -> Compound | T8: =RANKING!F6 -> Men | W8: =RANKING!G6 -> Senior 1
A10: 1/32e finale 64 schutters | D10: Doel N° | F10: =AFKAMPING!B66 -> x | H10: =AFKAMPING!A67 -> 0 | J10: 1/16e finale 32 schutters | M10: Doel N° | O10: =IF(AFKAMPING!F65<=0,AFKAMPING!F64,IF(AFKAMPING!F64>=0,AFKAMPING!F65)) -> 0 | Q10: =AFKAMPING!H65 -> B | S10: 1/8e finale 16 schutters | V10: Doel N° | X10: =IF(AFKAMPING!J63<=0,AFKAMPING!J60,IF(AFKAMPING!J60>=0,AFKAMPING!J63)) -> 0 | Z10: =AFKAMPING!L63 -> B
B12: 1 | C12: 2 | D12: 3 | E12: subtotaal | G12: totaal | K12: 1 | L12: 2 | M12: 3 | N12: subtotaal | P12: totaal | T12: 1 | U12: 2 | V12: 3 | W12: subtotaal | Y12: totaal
A13: 1 | J13: 1 | S13: 1
A14: 2 | J14: 2 | S14: 2
A15: 3 | J15: 3 | S15: 3
A16: Indien nodig | J16: Indien nodig | S16: Indien nodig
A17: 4 | J17: 4 | S17: 4
A18: Indien nodig | J18: Indien nodig | S18: Indien nodig
A19: 5 | J19: 5 | S19: 5
C20: Alg. Totaal | L20: Alg. Totaal | U20: Alg. Totaal
A22: MATCH | E22: SHOOT-OFF | J22: MATCH | N22: SHOOT-OFF | S22: MATCH | W22: SHOOT-OFF
A23: Verloren | C23: Gewonnen | E23: Verloren | G23: Gewonnen | J23: Verloren | L23: Gewonnen | N23: Verloren | P23: Gewonnen | S23: Verloren | U23: Gewonnen | W23: Verloren | Y23: Gewonnen
A24: Handtekening schutter | E24: Handtekening schrijver | J24: Handtekening schutter | N24: Handtekening schrijver | S24: Handtekening schutter | W24: Handtekening schrijver
A28: 1/4e finale 8 schutters | D28: Doel N° | F28: =IF(AFKAMPING!N59<=0,AFKAMPING!N52,IF(AFKAMPING!N52>=0,AFKAMPING!N59)) -> 4 | H28: =AFKAMPING!P59 -> 0 | J28: 1/2e finale 4 schutters | M28: Doel N° | O28: =IF(AFKAMPING!R51<=0,AFKAMPING!R36,IF(AFKAMPING!R36>=0,AFKAMPING!R51)) -> 3 | Q28: =AFKAMPING!T51 -> 0 | S28: Finale GOUD | V28: Doel N° | X28: =IF(AFKAMPING!V36<=0,AFKAMPING!V67,IF(AFKAMPING!V67>=0,AFKAMPING!V36)) -> 2
S29: Finale Brons | V29: Doel N° | X29: =IF(AFKAMPING!R67<=0,AFKAMPING!R68,IF(AFKAMPING!R68>=0,AFKAMPING!R67)) -> 6
B30: 1 | C30: 2 | D30: 3 | E30: subtotaal | G30: totaal | K30: 1 | L30: 2 | M30: 3 | N30: subtotaal | P30: totaal | T30: 1 | U30: 2 | V30: 3 | W30: subtotaal | Y30: totaal
A31: 1 | J31: 1 | S31: 1
A32: 2 | J32: 2 | S32: 2
A33: 3 | J33: 3 | S33: 3
A34: Indien nodig | J34: Indien nodig | S34: Indien nodig
A35: 4 | J35: 4 | S35: 4
A36: Indien nodig | J36: Indien nodig | S36: Indien nodig
A37: 5 | J37: 5 | S37: 5
C38: Alg. Totaal | L38: Alg. Totaal | U38: Alg. Totaal
A40: MATCH | E40: SHOOT-OFF | J40: MATCH | N40: SHOOT-OFF | S40: MATCH | W40: SHOOT-OFF
A41: Verloren | C41: Gewonnen | E41: Verloren | G41: Gewonnen | J41: Verloren | L41: Gewonnen | N41: Verloren | P41: Gewonnen | S41: Verloren | U41: Gewonnen | W41: Verloren | Y41: Gewonnen
A42: Handtekening schutter | E42: Handtekening schrijver | J42: Handtekening schutter | N42: Handtekening schrijver | S42: Handtekening schutter | W42: Handtekening schrijver
A46: De winnaar behoud zijn scoreblad, de verliezer laat zijn scoreblad op de grond.
A47: Shoot-off 1 pijl per schutter in 40 sec. , dichts bij het center wint.

Sheet 3
A1: =inschrijving!A2 -> B.A.I.C. Compound
A2: Datum : | C2: =inschrijving!E2 -> 41958 | G2: Plaats : | I2: =inschrijving!F2 -> Terhagen
A4: Ranking | C4: =RANKING!A5 -> 3
A6: Naam & Voornaam : | F6: =RANKING!C5 -> GOOSSENS CHRIS
A8: Lidnummer | D8: =RANKING!H5 -> 120007 | J8: Club | L8: =RANKING!D5 -> NVL | N8: Categorie | P8: =RANKING!E5 -> Compound | T8: =RANKING!F5 -> Men | W8: =RANKING!G5 -> Senior 2
A10: 1/32e finale 64 schutters | D10: Doel N° | F10: =AFKAMPING!B70 -> x | H10: =AFKAMPING!A69 -> 0 | J10: 1/16e finale 32 schutters | M10: Doel N° | O10: =IF(AFKAMPING!F71<=0,AFKAMPING!F72,IF(AFKAMPING!F72>=0,AFKAMPING!F71)) -> 0 | Q10: =AFKAMPING!H71 -> A | S10: 1/8e finale 16 schutters | V10: Doel N° | X10: =IF(AFKAMPING!J73<=0,AFKAMPING!J76,IF(AFKAMPING!J76>=0,AFKAMPING!J73)) -> 0 | Z10: =AFKAMPING!L73 -> A
B12: 1 | C12: 2 | D12: 3 | E12: subtotaal | G12: totaal | K12: 1 | L12: 2 | M12: 3 | N12: subtotaal | P12: totaal | T12: 1 | U12: 2 | V12: 3 | W12: subtotaal | Y12: totaal
A13: 1 | J13: 1 | S13: 1
A14: 2 | J14: 2 | S14: 2
A15: 3 | J15: 3 | S15: 3
A16: Indien nodig | J16: Indien nodig | S16: Indien nodig
A17: 4 | J17: 4 | S17: 4
A18: Indien nodig | J18: Indien nodig | S18: Indien nodig
A19: 5 | J19: 5 | S19: 5
C20: Alg. Totaal | L20: Alg. Totaal | U20: Alg. Totaal
A22: MATCH | E22: SHOOT-OFF | J22: MATCH | N22: SHOOT-OFF | S22: MATCH | W22: SHOOT-OFF
A23: Verloren | C23: Gewonnen | E23: Verloren | G23: Gewonnen | J23: Verloren | L23: Gewonnen | N23: Verloren | P23: Gewonnen | S23: Verloren | U23: Gewonnen | W23: Verloren | Y23: Gewonnen
A24: Handtekening schutter | E24: Handtekening schrijver | J24: Handtekening schutter | N24: Handtekening schrijver | S24: Handtekening schutter | W24: Handtekening schrijver
A28: 1/4e finale 8 schutters | D28: Doel N° | F28: =IF(AFKAMPING!N77<=0,AFKAMPING!N84,IF(AFKAMPING!N84>=0,AFKAMPING!N77)) -> 5 | H28: =AFKAMPING!P77 -> 0 | J28: 1/2e finale 4 schutters | M28: Doel N° | O28: =IF(AFKAMPING!R85<=0,AFKAMPING!R100,IF(AFKAMPING!R100>=0,AFKAMPING!R85)) -> 6 | Q28: =AFKAMPING!T85 -> 0 | S28: Finale GOUD | V28: Doel N° | X28: =IF(AFKAMPING!V99<=0,AFKAMPING!V67,IF(AFKAMPING!V67>=0,AFKAMPING!V99)) -> 3
S29: Finale Brons | V29: Doel N° | X29: =IF(AFKAMPING!R69<=0,AFKAMPING!R68,IF(AFKAMPING!R68>=0,AFKAMPING!R69)) -> 7
B30: 1 | C30: 2 | D30: 3 | E30: subtotaal | G30: totaal | K30: 1 | L30: 2 | M30: 3 | N30: subtotaal | P30: totaal | T30: 1 | U30: 2 | V30: 3 | W30: subtotaal | Y30: totaal
A31: 1 | J31: 1 | S31: 1
A32: 2 | J32: 2 | S32: 2
A33: 3 | J33: 3 | S33: 3
A34: Indien nodig | J34: Indien nodig | S34: Indien nodig
A35: 4 | J35: 4 | S35: 4
A36: Indien nodig | J36: Indien nodig | S36: Indien nodig
A37: 5 | J37: 5 | S37: 5
C38: Alg. Totaal | L38: Alg. Totaal | U38: Alg. Totaal
A40: MATCH | E40: SHOOT-OFF | J40: MATCH | N40: SHOOT-OFF | S40: MATCH | W40: SHOOT-OFF
A41: Verloren | C41: Gewonnen | E41: Verloren | G41: Gewonnen | J41: Verloren | L41: Gewonnen | N41: Verloren | P41: Gewonnen | S41: Verloren | U41: Gewonnen | W41: Verloren | Y41: Gewonnen
A42: Handtekening schutter | E42: Handtekening schrijver | J42: Handtekening schutter | N42: Handtekening schrijver | S42: Handtekening schutter | W42: Handtekening schrijver
A46: De winnaar behoud zijn scoreblad, de verliezer laat zijn scoreblad op de grond.
A47: Shoot-off 1 pijl per schutter in 40 sec. , dichts bij het center wint.

Sheet 62
A1: =inschrijving!A2 -> B.A.I.C. Compound
A2: Datum : | C2: =inschrijving!E2 -> 41958 | G2: Plaats : | I2: =inschrijving!F2 -> Terhagen
A4: Ranking | C4: =RANKING!A64 -> 62
A6: Naam & Voornaam : | F6: =RANKING!C64 -> bye
A8: Lidnummer | D8: =RANKING!H64 -> 0 | J8: Club | L8: =RANKING!D64 -> 0 | N8: Categorie | P8: =RANKING!E64 -> 0 | T8: =RANKING!F64 -> 0 | W8: =RANKING!G64 -> 0
A10: 1/32e finale 64 schutters | D10: Doel N° | F10: =AFKAMPING!B70 -> x | H10: =AFKAMPING!A71 -> 0 | J10: 1/16e finale 32 schutters | M10: Doel N° | O10: =IF(AFKAMPING!F71<=0,AFKAMPING!F72,IF(AFKAMPING!F72>=0,AFKAMPING!F71)) -> 0 | Q10: =AFKAMPING!H71 -> A | S10: 1/8e finale 16 schutters | V10: Doel N° | X10: =IF(AFKAMPING!J73<=0,AFKAMPING!J76,IF(AFKAMPING!J76>=0,AFKAMPING!J73)) -> 0 | Z10: =AFKAMPING!L73 -> A
B12: 1 | C12: 2 | D12: 3 | E12: subtotaal | G12: totaal | K12: 1 | L12: 2 | M12: 3 | N12: subtotaal | P12: totaal | T12: 1 | U12: 2 | V12: 3 | W12: subtotaal | Y12: totaal
A13: 1 | J13: 1 | S13: 1
A14: 2 | J14: 2 | S14: 2
A15: 3 | J15: 3 | S15: 3
A16: Indien nodig | J16: Indien nodig | S16: Indien nodig
A17: 4 | J17: 4 | S17: 4
A18: Indien nodig | J18: Indien nodig | S18: Indien nodig
A19: 5 | J19: 5 | S19: 5
C20: Alg. Totaal | L20: Alg. Totaal | U20: Alg. Totaal
A22: MATCH | E22: SHOOT-OFF | J22: MATCH | N22: SHOOT-OFF | S22: MATCH | W22: SHOOT-OFF
A23: Verloren | C23: Gewonnen | E23: Verloren | G23: Gewonnen | J23: Verloren | L23: Gewonnen | N23: Verloren | P23: Gewonnen | S23: Verloren | U23: Gewonnen | W23: Verloren | Y23: Gewonnen
A24: Handtekening schutter | E24: Handtekening schrijver | J24: Handtekening schutter | N24: Handtekening schrijver | S24: Handtekening schutter | W24: Handtekening schrijver
A28: 1/4e finale 8 schutters | D28: Doel N° | F28: =IF(AFKAMPING!N77<=0,AFKAMPING!N84,IF(AFKAMPING!N84>=0,AFKAMPING!N77)) -> 5 | H28: =AFKAMPING!P77 -> 0 | J28: 1/2e finale 4 schutters | M28: Doel N° | O28: =IF(AFKAMPING!R85<=0,AFKAMPING!R100,IF(AFKAMPING!R100>=0,AFKAMPING!R85)) -> 6 | Q28: =AFKAMPING!T85 -> 0 | S28: Finale GOUD | V28: Doel N° | X28: =IF(AFKAMPING!V99<=0,AFKAMPING!V67,IF(AFKAMPING!V67>=0,AFKAMPING!V99)) -> 3
S29: Finale Brons | V29: Doel N° | X29: =IF(AFKAMPING!R69<=0,AFKAMPING!R68,IF(AFKAMPING!R68>=0,AFKAMPING!R69)) -> 7
B30: 1 | C30: 2 | D30: 3 | E30: subtotaal | G30: totaal | K30: 1 | L30: 2 | M30: 3 | N30: subtotaal | P30: totaal | T30: 1 | U30: 2 | V30: 3 | W30: subtotaal | Y30: totaal
A31: 1 | J31: 1 | S31: 1
A32: 2 | J32: 2 | S32: 2
A33: 3 | J33: 3 | S33: 3
A34: Indien nodig | J34: Indien nodig | S34: Indien nodig
A35: 4 | J35: 4 | S35: 4
A36: Indien nodig | J36: Indien nodig | S36: Indien nodig
A37: 5 | J37: 5 | S37: 5
C38: Alg. Totaal | L38: Alg. Totaal | U38: Alg. Totaal
A40: MATCH | E40: SHOOT-OFF | J40: MATCH | N40: SHOOT-OFF | S40: MATCH | W40: SHOOT-OFF
A41: Verloren | C41: Gewonnen | E41: Verloren | G41: Gewonnen | J41: Verloren | L41: Gewonnen | N41: Verloren | P41: Gewonnen | S41: Verloren | U41: Gewonnen | W41: Verloren | Y41: Gewonnen
A42: Handtekening schutter | E42: Handtekening schrijver | J42: Handtekening schutter | N42: Handtekening schrijver | S42: Handtekening schutter | W42: Handtekening schrijver
A46: De winnaar behoud zijn scoreblad, de verliezer laat zijn scoreblad op de grond.
A47: Shoot-off 1 pijl per schutter in 40 sec. , dichts bij het center wint.

Sheet 35
A1: =inschrijving!A2 -> B.A.I.C. Compound
A2: Datum : | C2: =inschrijving!E2 -> 41958 | G2: Plaats : | I2: =inschrijving!F2 -> Terhagen
A4: Ranking | C4: =RANKING!A37 -> 35
A6: Naam & Voornaam : | F6: =RANKING!C37 -> DELLEMANS BJARNE
A8: Lidnummer | D8: =RANKING!H37 -> 960027 | J8: Club | L8: =RANKING!D37 -> EAB | N8: Categorie | P8: =RANKING!E37 -> Compound | T8: =RANKING!F37 -> Men | W8: =RANKING!G37 -> Benjamin
A10: 1/32e finale 64 schutters | D10: Doel N° | F10: =AFKAMPING!B74 -> x | H10: =AFKAMPING!A73 -> 0 | J10: 1/16e finale 32 schutters | M10: Doel N° | O10: =IF(AFKAMPING!F73<=0,AFKAMPING!F72,IF(AFKAMPING!F72>=0,AFKAMPING!F73)) -> 0 | Q10: =AFKAMPING!H73 -> B | S10: 1/8e finale 16 schutters | V10: Doel N° | X10: =IF(AFKAMPING!J73<=0,AFKAMPING!J76,IF(AFKAMPING!J76>=0,AFKAMPING!J73)) -> 0 | Z10: =AFKAMPING!L73 -> A
B12: 1 | C12: 2 | D12: 3 | E12: subtotaal | G12: totaal | K12: 1 | L12: 2 | M12: 3 | N12: subtotaal | P12: totaal | T12: 1 | U12: 2 | V12: 3 | W12: subtotaal | Y12: totaal
A13: 1 | J13: 1 | S13: 1
A14: 2 | J14: 2 | S14: 2
A15: 3 | J15: 3 | S15: 3
A16: Indien nodig | J16: Indien nodig | S16: Indien nodig
A17: 4 | J17: 4 | S17: 4
A18: Indien nodig | J18: Indien nodig | S18: Indien nodig
A19: 5 | J19: 5 | S19: 5
C20: Alg. Totaal | L20: Alg. Totaal | U20: Alg. Totaal
A22: MATCH | E22: SHOOT-OFF | J22: MATCH | N22: SHOOT-OFF | S22: MATCH | W22: SHOOT-OFF
A23: Verloren | C23: Gewonnen | E23: Verloren | G23: Gewonnen | J23: Verloren | L23: Gewonnen | N23: Verloren | P23: Gewonnen | S23: Verloren | U23: Gewonnen | W23: Verloren | Y23: Gewonnen
A24: Handtekening schutter | E24: Handtekening schrijver | J24: Handtekening schutter | N24: Handtekening schrijver | S24: Handtekening schutter | W24: Handtekening schrijver
A28: 1/4e finale 8 schutters | D28: Doel N° | F28: =IF(AFKAMPING!N77<=0,AFKAMPING!N84,IF(AFKAMPING!N84>=0,AFKAMPING!N77)) -> 5 | H28: =AFKAMPING!P77 -> 0 | J28: 1/2e finale 4 schutters | M28: Doel N° | O28: =IF(AFKAMPING!R85<=0,AFKAMPING!R100,IF(AFKAMPING!R100>=0,AFKAMPING!R85)) -> 6 | Q28: =AFKAMPING!T85 -> 0 | S28: Finale GOUD | V28: Doel N° | X28: =IF(AFKAMPING!V99<=0,AFKAMPING!V67,IF(AFKAMPING!V67>=0,AFKAMPING!V99)) -> 3
S29: Finale Brons | V29: Doel N° | X29: =IF(AFKAMPING!R69<=0,AFKAMPING!R68,IF(AFKAMPING!R68>=0,AFKAMPING!R69)) -> 7
B30: 1 | C30: 2 | D30: 3 | E30: subtotaal | G30: totaal | K30: 1 | L30: 2 | M30: 3 | N30: subtotaal | P30: totaal | T30: 1 | U30: 2 | V30: 3 | W30: subtotaal | Y30: totaal
A31: 1 | J31: 1 | S31: 1
A32: 2 | J32: 2 | S32: 2
A33: 3 | J33: 3 | S33: 3
A34: Indien nodig | J34: Indien nodig | S34: Indien nodig
A35: 4 | J35: 4 | S35: 4
A36: Indien nodig | J36: Indien nodig | S36: Indien nodig
A37: 5 | J37: 5 | S37: 5
C38: Alg. Totaal | L38: Alg. Totaal | U38: Alg. Totaal
A40: MATCH | E40: SHOOT-OFF | J40: MATCH | N40: SHOOT-OFF | S40: MATCH | W40: SHOOT-OFF
A41: Verloren | C41: Gewonnen | E41: Verloren | G41: Gewonnen | J41: Verloren | L41: Gewonnen | N41: Verloren | P41: Gewonnen | S41: Verloren | U41: Gewonnen | W41: Verloren | Y41: Gewonnen
A42: Handtekening schutter | E42: Handtekening schrijver | J42: Handtekening schutter | N42: Handtekening schrijver | S42: Handtekening schutter | W42: Handtekening schrijver
A46: De winnaar behoud zijn scoreblad, de verliezer laat zijn scoreblad op de grond.
A47: Shoot-off 1 pijl per schutter in 40 sec. , dichts bij het center wint.

Sheet 30
A1: =inschrijving!A2 -> B.A.I.C. Compound
A2: Datum : | C2: =inschrijving!E2 -> 41958 | G2: Plaats : | I2: =inschrijving!F2 -> Terhagen
A4: Ranking | C4: =RANKING!A32 -> 30
A6: Naam & Voornaam : | F6: =RANKING!C32 -> PRIEELS PHILIPPE
A8: Lidnummer | D8: =RANKING!H32 -> 203055 | J8: Club | L8: =RANKING!D32 -> GSR | N8: Categorie | P8: =RANKING!E32 -> Compound | T8: =RANKING!F32 -> Men | W8: =RANKING!G32 -> Veteran
A10: 1/32e finale 64 schutters | D10: Doel N° | F10: =AFKAMPING!B74 -> x | H10: =AFKAMPING!A75 -> 0 | J10: 1/16e finale 32 schutters | M10: Doel N° | O10: =IF(AFKAMPING!F73<=0,AFKAMPING!F72,IF(AFKAMPING!F72>=0,AFKAMPING!F73)) -> 0 | Q10: =AFKAMPING!H73 -> B | S10: 1/8e finale 16 schutters | V10: Doel N° | X10: =IF(AFKAMPING!J73<=0,AFKAMPING!J76,IF(AFKAMPING!J76>=0,AFKAMPING!J73)) -> 0 | Z10: =AFKAMPING!L73 -> A
B12: 1 | C12: 2 | D12: 3 | E12: subtotaal | G12: totaal | K12: 1 | L12: 2 | M12: 3 | N12: subtotaal | P12: totaal | T12: 1 | U12: 2 | V12: 3 | W12: subtotaal | Y12: totaal
A13: 1 | J13: 1 | S13: 1
A14: 2 | J14: 2 | S14: 2
A15: 3 | J15: 3 | S15: 3
A16: Indien nodig | J16: Indien nodig | S16: Indien nodig
A17: 4 | J17: 4 | S17: 4
A18: Indien nodig | J18: Indien nodig | S18: Indien nodig
A19: 5 | J19: 5 | S19: 5
C20: Alg. Totaal | L20: Alg. Totaal | U20: Alg. Totaal
A22: MATCH | E22: SHOOT-OFF | J22: MATCH | N22: SHOOT-OFF | S22: MATCH | W22: SHOOT-OFF
A23: Verloren | C23: Gewonnen | E23: Verloren | G23: Gewonnen | J23: Verloren | L23: Gewonnen | N23: Verloren | P23: Gewonnen | S23: Verloren | U23: Gewonnen | W23: Verloren | Y23: Gewonnen
A24: Handtekening schutter | E24: Handtekening schrijver | J24: Handtekening schutter | N24: Handtekening schrijver | S24: Handtekening schutter | W24: Handtekening schrijver
A28: 1/4e finale 8 schutters | D28: Doel N° | F28: =IF(AFKAMPING!N77<=0,AFKAMPING!N84,IF(AFKAMPING!N84>=0,AFKAMPING!N77)) -> 5 | H28: =AFKAMPING!P77 -> 0 | J28: 1/2e finale 4 schutters | M28: Doel N° | O28: =IF(AFKAMPING!R85<=0,AFKAMPING!R100,IF(AFKAMPING!R100>=0,AFKAMPING!R85)) -> 6 | Q28: =AFKAMPING!T85 -> 0 | S28: Finale GOUD | V28: Doel N° | X28: =IF(AFKAMPING!V99<=0,AFKAMPING!V67,IF(AFKAMPING!V67>=0,AFKAMPING!V99)) -> 3
S29: Finale Brons | V29: Doel N° | X29: =IF(AFKAMPING!R69<=0,AFKAMPING!R68,IF(AFKAMPING!R68>=0,AFKAMPING!R69)) -> 7
B30: 1 | C30: 2 | D30: 3 | E30: subtotaal | G30: totaal | K30: 1 | L30: 2 | M30: 3 | N30: subtotaal | P30: totaal | T30: 1 | U30: 2 | V30: 3 | W30: subtotaal | Y30: totaal
A31: 1 | J31: 1 | S31: 1
A32: 2 | J32: 2 | S32: 2
A33: 3 | J33: 3 | S33: 3
A34: Indien nodig | J34: Indien nodig | S34: Indien nodig
A35: 4 | J35: 4 | S35: 4
A36: Indien nodig | J36: Indien nodig | S36: Indien nodig
A37: 5 | J37: 5 | S37: 5
C38: Alg. Totaal | L38: Alg. Totaal | U38: Alg. Totaal
A40: MATCH | E40: SHOOT-OFF | J40: MATCH | N40: SHOOT-OFF | S40: MATCH | W40: SHOOT-OFF
A41: Verloren | C41: Gewonnen | E41: Verloren | G41: Gewonnen | J41: Verloren | L41: Gewonnen | N41: Verloren | P41: Gewonnen | S41: Verloren | U41: Gewonnen | W41: Verloren | Y41: Gewonnen
A42: Handtekening schutter | E42: Handtekening schrijver | J42: Handtekening schutter | N42: Handtekening schrijver | S42: Handtekening schutter | W42: Handtekening schrijver
A46: De winnaar behoud zijn scoreblad, de verliezer laat zijn scoreblad op de grond.
A47: Shoot-off 1 pijl per schutter in 40 sec. , dichts bij het center wint.

Sheet 19
A1: =inschrijving!A2 -> B.A.I.C. Compound
A2: Datum : | C2: =inschrijving!E2 -> 41958 | G2: Plaats : | I2: =inschrijving!F2 -> Terhagen
A4: Ranking | C4: =RANKING!A21 -> 19
A6: Naam & Voornaam : | F6: =RANKING!C21 -> MARTENS PATRICK
A8: Lidnummer | D8: =RANKING!H21 -> 515040 | J8: Club | L8: =RANKING!D21 -> SSA | N8: Categorie | P8: =RANKING!E21 -> Compound | T8: =RANKING!F21 -> Men | W8: =RANKING!G21 -> Senior
A10: 1/32e finale 64 schutters | D10: Doel N° | F10: =AFKAMPING!B78 -> x | H10: =AFKAMPING!A77 -> 0 | J10: 1/16e finale 32 schutters | M10: Doel N° | O10: =IF(AFKAMPING!F79<=0,AFKAMPING!F80,IF(AFKAMPING!F80>=0,AFKAMPING!F79)) -> 0 | Q10: =AFKAMPING!H79 -> A | S10: 1/8e finale 16 schutters | V10: Doel N° | X10: =IF(AFKAMPING!J79<=0,AFKAMPING!J76,IF(AFKAMPING!J76>=0,AFKAMPING!J79)) -> 0 | Z10: =AFKAMPING!L79 -> B
B12: 1 | C12: 2 | D12: 3 | E12: subtotaal | G12: totaal | K12: 1 | L12: 2 | M12: 3 | N12: subtotaal | P12: totaal | T12: 1 | U12: 2 | V12: 3 | W12: subtotaal | Y12: totaal
A13: 1 | J13: 1 | S13: 1
A14: 2 | J14: 2 | S14: 2
A15: 3 | J15: 3 | S15: 3
A16: Indien nodig | J16: Indien nodig | S16: Indien nodig
A17: 4 | J17: 4 | S17: 4
A18: Indien nodig | J18: Indien nodig | S18: Indien nodig
A19: 5 | J19: 5 | S19: 5
C20: Alg. Totaal | L20: Alg. Totaal | U20: Alg. Totaal
A22: MATCH | E22: SHOOT-OFF | J22: MATCH | N22: SHOOT-OFF | S22: MATCH | W22: SHOOT-OFF
A23: Verloren | C23: Gewonnen | E23: Verloren | G23: Gewonnen | J23: Verloren | L23: Gewonnen | N23: Verloren | P23: Gewonnen | S23: Verloren | U23: Gewonnen | W23: Verloren | Y23: Gewonnen
A24: Handtekening schutter | E24: Handtekening schrijver | J24: Handtekening schutter | N24: Handtekening schrijver | S24: Handtekening schutter | W24: Handtekening schrijver
A28: 1/4e finale 8 schutters | D28: Doel N° | F28: =IF(AFKAMPING!N77<=0,AFKAMPING!N84,IF(AFKAMPING!N84>=0,AFKAMPING!N77)) -> 5 | H28: =AFKAMPING!P77 -> 0 | J28: 1/2e finale 4 schutters | M28: Doel N° | O28: =IF(AFKAMPING!R85<=0,AFKAMPING!R100,IF(AFKAMPING!R100>=0,AFKAMPING!R85)) -> 6 | Q28: =AFKAMPING!T85 -> 0 | S28: Finale GOUD | V28: Doel N° | X28: =IF(AFKAMPING!V99<=0,AFKAMPING!V67,IF(AFKAMPING!V67>=0,AFKAMPING!V99)) -> 3
S29: Finale Brons | V29: Doel N° | X29: =IF(AFKAMPING!R69<=0,AFKAMPING!R68,IF(AFKAMPING!R68>=0,AFKAMPING!R69)) -> 7
B30: 1 | C30: 2 | D30: 3 | E30: subtotaal | G30: totaal | K30: 1 | L30: 2 | M30: 3 | N30: subtotaal | P30: totaal | T30: 1 | U30: 2 | V30: 3 | W30: subtotaal | Y30: totaal
A31: 1 | J31: 1 | S31: 1
A32: 2 | J32: 2 | S32: 2
A33: 3 | J33: 3 | S33: 3
A34: Indien nodig | J34: Indien nodig | S34: Indien nodig
A35: 4 | J35: 4 | S35: 4
A36: Indien nodig | J36: Indien nodig | S36: Indien nodig
A37: 5 | J37: 5 | S37: 5
C38: Alg. Totaal | L38: Alg. Totaal | U38: Alg. Totaal
A40: MATCH | E40: SHOOT-OFF | J40: MATCH | N40: SHOOT-OFF | S40: MATCH | W40: SHOOT-OFF
A41: Verloren | C41: Gewonnen | E41: Verloren | G41: Gewonnen | J41: Verloren | L41: Gewonnen | N41: Verloren | P41: Gewonnen | S41: Verloren | U41: Gewonnen | W41: Verloren | Y41: Gewonnen
A42: Handtekening schutter | E42: Handtekening schrijver | J42: Handtekening schutter | N42: Handtekening schrijver | S42: Handtekening schutter | W42: Handtekening schrijver
A46: De winnaar behoud zijn scoreblad, de verliezer laat zijn scoreblad op de grond.
A47: Shoot-off 1 pijl per schutter in 40 sec. , dichts bij het center wint.

Sheet 46
A1: =inschrijving!A2 -> B.A.I.C. Compound
A2: Datum : | C2: =inschrijving!E2 -> 41958 | G2: Plaats : | I2: =inschrijving!F2 -> Terhagen
A4: Ranking | C4: =RANKING!A48 -> 46
A6: Naam & Voornaam : | F6: =RANKING!C48 -> SEGERS YOERI
A8: Lidnummer | D8: =RANKING!H48 -> 815006 | J8: Club | L8: =RANKING!D48 -> SBM | N8: Categorie | P8: =RANKING!E48 -> Compound | T8: =RANKING!F48 -> Men | W8: =RANKING!G48 -> Junior
A10: 1/32e finale 64 schutters | D10: Doel N° | F10: =AFKAMPING!B78 -> x | H10: =AFKAMPING!A79 -> 0 | J10: 1/16e finale 32 schutters | M10: Doel N° | O10: =IF(AFKAMPING!F79<=0,AFKAMPING!F80,IF(AFKAMPING!F80>=0,AFKAMPING!F79)) -> 0 | Q10: =AFKAMPING!H79 -> A | S10: 1/8e finale 16 schutters | V10: Doel N° | X10: =IF(AFKAMPING!J79<=0,AFKAMPING!J76,IF(AFKAMPING!J76>=0,AFKAMPING!J79)) -> 0 | Z10: =AFKAMPING!L79 -> B
B12: 1 | C12: 2 | D12: 3 | E12: subtotaal | G12: totaal | K12: 1 | L12: 2 | M12: 3 | N12: subtotaal | P12: totaal | T12: 1 | U12: 2 | V12: 3 | W12: subtotaal | Y12: totaal
A13: 1 | J13: 1 | S13: 1
A14: 2 | J14: 2 | S14: 2
A15: 3 | J15: 3 | S15: 3
A16: Indien nodig | J16: Indien nodig | S16: Indien nodig
A17: 4 | J17: 4 | S17: 4
A18: Indien nodig | J18: Indien nodig | S18: Indien nodig
A19: 5 | J19: 5 | S19: 5
C20: Alg. Totaal | L20: Alg. Totaal | U20: Alg. Totaal
A22: MATCH | E22: SHOOT-OFF | J22: MATCH | N22: SHOOT-OFF | S22: MATCH | W22: SHOOT-OFF
A23: Verloren | C23: Gewonnen | E23: Verloren | G23: Gewonnen | J23: Verloren | L23: Gewonnen | N23: Verloren | P23: Gewonnen | S23: Verloren | U23: Gewonnen | W23: Verloren | Y23: Gewonnen
A24: Handtekening schutter | E24: Handtekening schrijver | J24: Handtekening schutter | N24: Handtekening schrijver | S24: Handtekening schutter | W24: Handtekening schrijver
A28: 1/4e finale 8 schutters | D28: Doel N° | F28: =IF(AFKAMPING!N77<=0,AFKAMPING!N84,IF(AFKAMPING!N84>=0,AFKAMPING!N77)) -> 5 | H28: =AFKAMPING!P77 -> 0 | J28: 1/2e finale 4 schutters | M28: Doel N° | O28: =IF(AFKAMPING!R85<=0,AFKAMPING!R100,IF(AFKAMPING!R100>=0,AFKAMPING!R85)) -> 6 | Q28: =AFKAMPING!T85 -> 0 | S28: Finale GOUD | V28: Doel N° | X28: =IF(AFKAMPING!V99<=0,AFKAMPING!V67,IF(AFKAMPING!V67>=0,AFKAMPING!V99)) -> 3
S29: Finale Brons | V29: Doel N° | X29: =IF(AFKAMPING!R69<=0,AFKAMPING!R68,IF(AFKAMPING!R68>=0,AFKAMPING!R69)) -> 7
B30: 1 | C30: 2 | D30: 3 | E30: subtotaal | G30: totaal | K30: 1 | L30: 2 | M30: 3 | N30: subtotaal | P30: totaal | T30: 1 | U30: 2 | V30: 3 | W30: subtotaal | Y30: totaal
A31: 1 | J31: 1 | S31: 1
A32: 2 | J32: 2 | S32: 2
A33: 3 | J33: 3 | S33: 3
A34: Indien nodig | J34: Indien nodig | S34: Indien nodig
A35: 4 | J35: 4 | S35: 4
A36: Indien nodig | J36: Indien nodig | S36: Indien nodig
A37: 5 | J37: 5 | S37: 5
C38: Alg. Totaal | L38: Alg. Totaal | U38: Alg. Totaal
A40: MATCH | E40: SHOOT-OFF | J40: MATCH | N40: SHOOT-OFF | S40: MATCH | W40: SHOOT-OFF
A41: Verloren | C41: Gewonnen | E41: Verloren | G41: Gewonnen | J41: Verloren | L41: Gewonnen | N41: Verloren | P41: Gewonnen | S41: Verloren | U41: Gewonnen | W41: Verloren | Y41: Gewonnen
A42: Handtekening schutter | E42: Handtekening schrijver | J42: Handtekening schutter | N42: Handtekening schrijver | S42: Handtekening schutter | W42: Handtekening schrijver
A46: De winnaar behoud zijn scoreblad, de verliezer laat zijn scoreblad op de grond.
A47: Shoot-off 1 pijl per schutter in 40 sec. , dichts bij het center wint.

Sheet 51
A1: =inschrijving!A2 -> B.A.I.C. Compound
A2: Datum : | C2: =inschrijving!E2 -> 41958 | G2: Plaats : | I2: =inschrijving!F2 -> Terhagen
A4: Ranking | C4: =RANKING!A53 -> 51
A6: Naam & Voornaam : | F6: =RANKING!C53 -> bye
A8: Lidnummer | D8: =RANKING!H53 -> 0 | J8: Club | L8: =RANKING!D53 -> 0 | N8: Categorie | P8: =RANKING!E53 -> 0 | T8: =RANKING!F53 -> 0 | W8: =RANKING!G53 -> 0
A10: 1/32e finale 64 schutters | D10: Doel N° | F10: =AFKAMPING!B82 -> x | H10: =AFKAMPING!A81 -> 0 | J10: 1/16e finale 32 schutters | M10: Doel N° | O10: =IF(AFKAMPING!F81<=0,AFKAMPING!F80,IF(AFKAMPING!F80>=0,AFKAMPING!F81)) -> 0 | Q10: =AFKAMPING!H81 -> B | S10: 1/8e finale 16 schutters | V10: Doel N° | X10: =IF(AFKAMPING!J79<=0,AFKAMPING!J76,IF(AFKAMPING!J76>=0,AFKAMPING!J79)) -> 0 | Z10: =AFKAMPING!L79 -> B
B12: 1 | C12: 2 | D12: 3 | E12: subtotaal | G12: totaal | K12: 1 | L12: 2 | M12: 3 | N12: subtotaal | P12: totaal | T12: 1 | U12: 2 | V12: 3 | W12: subtotaal | Y12: totaal
A13: 1 | J13: 1 | S13: 1
A14: 2 | J14: 2 | S14: 2
A15: 3 | J15: 3 | S15: 3
A16: Indien nodig | J16: Indien nodig | S16: Indien nodig
A17: 4 | J17: 4 | S17: 4
A18: Indien nodig | J18: Indien nodig | S18: Indien nodig
A19: 5 | J19: 5 | S19: 5
C20: Alg. Totaal | L20: Alg. Totaal | U20: Alg. Totaal
A22: MATCH | E22: SHOOT-OFF | J22: MATCH | N22: SHOOT-OFF | S22: MATCH | W22: SHOOT-OFF
A23: Verloren | C23: Gewonnen | E23: Verloren | G23: Gewonnen | J23: Verloren | L23: Gewonnen | N23: Verloren | P23: Gewonnen | S23: Verloren | U23: Gewonnen | W23: Verloren | Y23: Gewonnen
A24: Handtekening schutter | E24: Handtekening schrijver | J24: Handtekening schutter | N24: Handtekening schrijver | S24: Handtekening schutter | W24: Handtekening schrijver
A28: 1/4e finale 8 schutters | D28: Doel N° | F28: =IF(AFKAMPING!N77<=0,AFKAMPING!N84,IF(AFKAMPING!N84>=0,AFKAMPING!N77)) -> 5 | H28: =AFKAMPING!P77 -> 0 | J28: 1/2e finale 4 schutters | M28: Doel N° | O28: =IF(AFKAMPING!R85<=0,AFKAMPING!R100,IF(AFKAMPING!R100>=0,AFKAMPING!R85)) -> 6 | Q28: =AFKAMPING!T85 -> 0 | S28: Finale GOUD | V28: Doel N° | X28: =IF(AFKAMPING!V99<=0,AFKAMPING!V67,IF(AFKAMPING!V67>=0,AFKAMPING!V99)) -> 3
S29: Finale Brons | V29: Doel N° | X29: =IF(AFKAMPING!R69<=0,AFKAMPING!R68,IF(AFKAMPING!R68>=0,AFKAMPING!R69)) -> 7
B30: 1 | C30: 2 | D30: 3 | E30: subtotaal | G30: totaal | K30: 1 | L30: 2 | M30: 3 | N30: subtotaal | P30: totaal | T30: 1 | U30: 2 | V30: 3 | W30: subtotaal | Y30: totaal
A31: 1 | J31: 1 | S31: 1
A32: 2 | J32: 2 | S32: 2
A33: 3 | J33: 3 | S33: 3
A34: Indien nodig | J34: Indien nodig | S34: Indien nodig
A35: 4 | J35: 4 | S35: 4
A36: Indien nodig | J36: Indien nodig | S36: Indien nodig
A37: 5 | J37: 5 | S37: 5
C38: Alg. Totaal | L38: Alg. Totaal | U38: Alg. Totaal
A40: MATCH | E40: SHOOT-OFF | J40: MATCH | N40: SHOOT-OFF | S40: MATCH | W40: SHOOT-OFF
A41: Verloren | C41: Gewonnen | E41: Verloren | G41: Gewonnen | J41: Verloren | L41: Gewonnen | N41: Verloren | P41: Gewonnen | S41: Verloren | U41: Gewonnen | W41: Verloren | Y41: Gewonnen
A42: Handtekening schutter | E42: Handtekening schrijver | J42: Handtekening schutter | N42: Handtekening schrijver | S42: Handtekening schutter | W42: Handtekening schrijver
A46: De winnaar behoud zijn scoreblad, de verliezer laat zijn scoreblad op de grond.
A47: Shoot-off 1 pijl per schutter in 40 sec. , dichts bij het center wint.

Sheet 14
A1: =inschrijving!A2 -> B.A.I.C. Compound
A2: Datum : | C2: =inschrijving!E2 -> 41958 | G2: Plaats : | I2: =inschrijving!F2 -> Terhagen
A4: Ranking | C4: =RANKING!A16 -> 14
A6: Naam & Voornaam : | F6: =RANKING!C16 -> VOORTMANS BEN
A8: Lidnummer | D8: =RANKING!H16 -> 521147 | J8: Club | L8: =RANKING!D16 -> WVS | N8: Categorie | P8: =RANKING!E15 -> Compound | T8: =RANKING!F15 -> Men | W8: =RANKING!G16 -> Junior
A10: 1/32e finale 64 schutters | D10: Doel N° | F10: =AFKAMPING!B82 -> x | H10: =AFKAMPING!A83 -> 0 | J10: 1/16e finale 32 schutters | M10: Doel N° | O10: =IF(AFKAMPING!F81<=0,AFKAMPING!F80,IF(AFKAMPING!F80>=0,AFKAMPING!F81)) -> 0 | Q10: =AFKAMPING!H81 -> B | S10: 1/8e finale 16 schutters | V10: Doel N° | X10: =IF(AFKAMPING!J79<=0,AFKAMPING!J76,IF(AFKAMPING!J76>=0,AFKAMPING!J79)) -> 0 | Z10: =AFKAMPING!L79 -> B
B12: 1 | C12: 2 | D12: 3 | E12: subtotaal | G12: totaal | K12: 1 | L12: 2 | M12: 3 | N12: subtotaal | P12: totaal | T12: 1 | U12: 2 | V12: 3 | W12: subtotaal | Y12: totaal
A13: 1 | J13: 1 | S13: 1
A14: 2 | J14: 2 | S14: 2
A15: 3 | J15: 3 | S15: 3
A16: Indien nodig | J16: Indien nodig | S16: Indien nodig
A17: 4 | J17: 4 | S17: 4
A18: Indien nodig | J18: Indien nodig | S18: Indien nodig
A19: 5 | J19: 5 | S19: 5
C20: Alg. Totaal | L20: Alg. Totaal | U20: Alg. Totaal
A22: MATCH | E22: SHOOT-OFF | J22: MATCH | N22: SHOOT-OFF | S22: MATCH | W22: SHOOT-OFF
A23: Verloren | C23: Gewonnen | E23: Verloren | G23: Gewonnen | J23: Verloren | L23: Gewonnen | N23: Verloren | P23: Gewonnen | S23: Verloren | U23: Gewonnen | W23: Verloren | Y23: Gewonnen
A24: Handtekening schutter | E24: Handtekening schrijver | J24: Handtekening schutter | N24: Handtekening schrijver | S24: Handtekening schutter | W24: Handtekening schrijver
A28: 1/4e finale 8 schutters | D28: Doel N° | F28: =IF(AFKAMPING!N77<=0,AFKAMPING!N84,IF(AFKAMPING!N84>=0,AFKAMPING!N77)) -> 5 | H28: =AFKAMPING!P77 -> 0 | J28: 1/2e finale 4 schutters | M28: Doel N° | O28: =IF(AFKAMPING!R85<=0,AFKAMPING!R100,IF(AFKAMPING!R100>=0,AFKAMPING!R85)) -> 6 | Q28: =AFKAMPING!T85 -> 0 | S28: Finale GOUD | V28: Doel N° | X28: =IF(AFKAMPING!V99<=0,AFKAMPING!V67,IF(AFKAMPING!V67>=0,AFKAMPING!V99)) -> 3
S29: Finale Brons | V29: Doel N° | X29: =IF(AFKAMPING!R69<=0,AFKAMPING!R68,IF(AFKAMPING!R68>=0,AFKAMPING!R69)) -> 7
B30: 1 | C30: 2 | D30: 3 | E30: subtotaal | G30: totaal | K30: 1 | L30: 2 | M30: 3 | N30: subtotaal | P30: totaal | T30: 1 | U30: 2 | V30: 3 | W30: subtotaal | Y30: totaal
A31: 1 | J31: 1 | S31: 1
A32: 2 | J32: 2 | S32: 2
A33: 3 | J33: 3 | S33: 3
A34: Indien nodig | J34: Indien nodig | S34: Indien nodig
A35: 4 | J35: 4 | S35: 4
A36: Indien nodig | J36: Indien nodig | S36: Indien nodig
A37: 5 | J37: 5 | S37: 5
C38: Alg. Totaal | L38: Alg. Totaal | U38: Alg. Totaal
A40: MATCH | E40: SHOOT-OFF | J40: MATCH | N40: SHOOT-OFF | S40: MATCH | W40: SHOOT-OFF
A41: Verloren | C41: Gewonnen | E41: Verloren | G41: Gewonnen | J41: Verloren | L41: Gewonnen | N41: Verloren | P41: Gewonnen | S41: Verloren | U41: Gewonnen | W41: Verloren | Y41: Gewonnen
A42: Handtekening schutter | E42: Handtekening schrijver | J42: Handtekening schutter | N42: Handtekening schrijver | S42: Handtekening schutter | W42: Handtekening schrijver
A46: De winnaar behoud zijn scoreblad, de verliezer laat zijn scoreblad op de grond.
A47: Shoot-off 1 pijl per schutter in 40 sec. , dichts bij het center wint.

Sheet 11
A1: =inschrijving!A2 -> B.A.I.C. Compound
A2: Datum : | C2: =inschrijving!E2 -> 41958 | G2: Plaats : | I2: =inschrijving!F2 -> Terhagen
A4: Ranking | C4: =RANKING!A13 -> 11
A6: Naam & Voornaam : | F6: =RANKING!C13 -> JORIS GIANNI
A8: Lidnummer | D8: =RANKING!H13 -> 960015 | J8: Club | L8: =RANKING!D13 -> EAB | N8: Categorie | P8: =RANKING!E13 -> Compound | T8: =RANKING!F13 -> Men | W8: =RANKING!G13 -> Junior
A10: 1/32e finale 64 schutters | D10: Doel N° | F10: =AFKAMPING!B86 -> x | H10: =AFKAMPING!A85 -> 0 | J10: 1/16e finale 32 schutters | M10: Doel N° | O10: =IF(AFKAMPING!F87<=0,AFKAMPING!F88,IF(AFKAMPING!F88>=0,AFKAMPING!F87)) -> 0 | Q10: =AFKAMPING!H87 -> A | S10: 1/8e finale 16 schutters | V10: Doel N° | X10: =IF(AFKAMPING!J89<=0,AFKAMPING!J92,IF(AFKAMPING!J92>=0,AFKAMPING!J89)) -> 0 | Z10: =AFKAMPING!L89 -> A
B12: 1 | C12: 2 | D12: 3 | E12: subtotaal | G12: totaal | K12: 1 | L12: 2 | M12: 3 | N12: subtotaal | P12: totaal | T12: 1 | U12: 2 | V12: 3 | W12: subtotaal | Y12: totaal
A13: 1 | J13: 1 | S13: 1
A14: 2 | J14: 2 | S14: 2
A15: 3 | J15: 3 | S15: 3
A16: Indien nodig | J16: Indien nodig | S16: Indien nodig
A17: 4 | J17: 4 | S17: 4
A18: Indien nodig | J18: Indien nodig | S18: Indien nodig
A19: 5 | J19: 5 | S19: 5
C20: Alg. Totaal | L20: Alg. Totaal | U20: Alg. Totaal
A22: MATCH | E22: SHOOT-OFF | J22: MATCH | N22: SHOOT-OFF | S22: MATCH | W22: SHOOT-OFF
A23: Verloren | C23: Gewonnen | E23: Verloren | G23: Gewonnen | J23: Verloren | L23: Gewonnen | N23: Verloren | P23: Gewonnen | S23: Verloren | U23: Gewonnen | W23: Verloren | Y23: Gewonnen
A24: Handtekening schutter | E24: Handtekening schrijver | J24: Handtekening schutter | N24: Handtekening schrijver | S24: Handtekening schutter | W24: Handtekening schrijver
A28: 1/4e finale 8 schutters | D28: Doel N° | F28: =IF(AFKAMPING!N91<=0,AFKAMPING!N84,IF(AFKAMPING!N84>=0,AFKAMPING!N91)) -> 6 | H28: =AFKAMPING!P91 -> 0 | J28: 1/2e finale 4 schutters | M28: Doel N° | O28: =IF(AFKAMPING!R85<=0,AFKAMPING!R100,IF(AFKAMPING!R100>=0,AFKAMPING!R85)) -> 6 | Q28: =AFKAMPING!T85 -> 0 | S28: Finale GOUD | V28: Doel N° | X28: =IF(AFKAMPING!V99<=0,AFKAMPING!V67,IF(AFKAMPING!V67>=0,AFKAMPING!V99)) -> 3
S29: Finale Brons | V29: Doel N° | X29: =IF(AFKAMPING!R69<=0,AFKAMPING!R68,IF(AFKAMPING!R68>=0,AFKAMPING!R69)) -> 7
B30: 1 | C30: 2 | D30: 3 | E30: subtotaal | G30: totaal | K30: 1 | L30: 2 | M30: 3 | N30: subtotaal | P30: totaal | T30: 1 | U30: 2 | V30: 3 | W30: subtotaal | Y30: totaal
A31: 1 | J31: 1 | S31: 1
A32: 2 | J32: 2 | S32: 2
A33: 3 | J33: 3 | S33: 3
A34: Indien nodig | J34: Indien nodig | S34: Indien nodig
A35: 4 | J35: 4 | S35: 4
A36: Indien nodig | J36: Indien nodig | S36: Indien nodig
A37: 5 | J37: 5 | S37: 5
C38: Alg. Totaal | L38: Alg. Totaal | U38: Alg. Totaal
A40: MATCH | E40: SHOOT-OFF | J40: MATCH | N40: SHOOT-OFF | S40: MATCH | W40: SHOOT-OFF
A41: Verloren | C41: Gewonnen | E41: Verloren | G41: Gewonnen | J41: Verloren | L41: Gewonnen | N41: Verloren | P41: Gewonnen | S41: Verloren | U41: Gewonnen | W41: Verloren | Y41: Gewonnen
A42: Handtekening schutter | E42: Handtekening schrijver | J42: Handtekening schutter | N42: Handtekening schrijver | S42: Handtekening schutter | W42: Handtekening schrijver
A46: De winnaar behoud zijn scoreblad, de verliezer laat zijn scoreblad op de grond.
A47: Shoot-off 1 pijl per schutter in 40 sec. , dichts bij het center wint.

Sheet 54
A1: =inschrijving!A2 -> B.A.I.C. Compound
A2: Datum : | C2: =inschrijving!E2 -> 41958 | G2: Plaats : | I2: =inschrijving!F2 -> Terhagen
A4: Ranking | C4: =RANKING!A56 -> 54
A6: Naam & Voornaam : | F6: =RANKING!C56 -> bye
A8: Lidnummer | D8: =RANKING!H56 -> 0 | J8: Club | L8: =RANKING!D56 -> 0 | N8: Categorie | P8: =RANKING!E56 -> 0 | T8: =RANKING!F56 -> 0 | W8: =RANKING!G56 -> 0
A10: 1/32e finale 64 schutters | D10: Doel N° | F10: =AFKAMPING!B86 -> x | H10: =AFKAMPING!A87 -> 0 | J10: 1/16e finale 32 schutters | M10: Doel N° | O10: =IF(AFKAMPING!F87<=0,AFKAMPING!F88,IF(AFKAMPING!F88>=0,AFKAMPING!F87)) -> 0 | Q10: =AFKAMPING!H87 -> A | S10: 1/8e finale 16 schutters | V10: Doel N° | X10: =IF(AFKAMPING!J89<=0,AFKAMPING!J92,IF(AFKAMPING!J92>=0,AFKAMPING!J89)) -> 0 | Z10: =AFKAMPING!L89 -> A
B12: 1 | C12: 2 | D12: 3 | E12: subtotaal | G12: totaal | K12: 1 | L12: 2 | M12: 3 | N12: subtotaal | P12: totaal | T12: 1 | U12: 2 | V12: 3 | W12: subtotaal | Y12: totaal
A13: 1 | J13: 1 | S13: 1
A14: 2 | J14: 2 | S14: 2
A15: 3 | J15: 3 | S15: 3
A16: Indien nodig | J16: Indien nodig | S16: Indien nodig
A17: 4 | J17: 4 | S17: 4
A18: Indien nodig | J18: Indien nodig | S18: Indien nodig
A19: 5 | J19: 5 | S19: 5
C20: Alg. Totaal | L20: Alg. Totaal | U20: Alg. Totaal
A22: MATCH | E22: SHOOT-OFF | J22: MATCH | N22: SHOOT-OFF | S22: MATCH | W22: SHOOT-OFF
A23: Verloren | C23: Gewonnen | E23: Verloren | G23: Gewonnen | J23: Verloren | L23: Gewonnen | N23: Verloren | P23: Gewonnen | S23: Verloren | U23: Gewonnen | W23: Verloren | Y23: Gewonnen
A24: Handtekening schutter | E24: Handtekening schrijver | J24: Handtekening schutter | N24: Handtekening schrijver | S24: Handtekening schutter | W24: Handtekening schrijver
A28: 1/4e finale 8 schutters | D28: Doel N° | F28: =IF(AFKAMPING!N91<=0,AFKAMPING!N84,IF(AFKAMPING!N84>=0,AFKAMPING!N91)) -> 6 | H28: =AFKAMPING!P91 -> 0 | J28: 1/2e finale 4 schutters | M28: Doel N° | O28: =IF(AFKAMPING!R85<=0,AFKAMPING!R100,IF(AFKAMPING!R100>=0,AFKAMPING!R85)) -> 6 | Q28: =AFKAMPING!T85 -> 0 | S28: Finale GOUD | V28: Doel N° | X28: =IF(AFKAMPING!V99<=0,AFKAMPING!V67,IF(AFKAMPING!V67>=0,AFKAMPING!V99)) -> 3
S29: Finale Brons | V29: Doel N° | X29: =IF(AFKAMPING!R69<=0,AFKAMPING!R68,IF(AFKAMPING!R68>=0,AFKAMPING!R69)) -> 7
B30: 1 | C30: 2 | D30: 3 | E30: subtotaal | G30: totaal | K30: 1 | L30: 2 | M30: 3 | N30: subtotaal | P30: totaal | T30: 1 | U30: 2 | V30: 3 | W30: subtotaal | Y30: totaal
A31: 1 | J31: 1 | S31: 1
A32: 2 | J32: 2 | S32: 2
A33: 3 | J33: 3 | S33: 3
A34: Indien nodig | J34: Indien nodig | S34: Indien nodig
A35: 4 | J35: 4 | S35: 4
A36: Indien nodig | J36: Indien nodig | S36: Indien nodig
A37: 5 | J37: 5 | S37: 5
C38: Alg. Totaal | L38: Alg. Totaal | U38: Alg. Totaal
A40: MATCH | E40: SHOOT-OFF | J40: MATCH | N40: SHOOT-OFF | S40: MATCH | W40: SHOOT-OFF
A41: Verloren | C41: Gewonnen | E41: Verloren | G41: Gewonnen | J41: Verloren | L41: Gewonnen | N41: Verloren | P41: Gewonnen | S41: Verloren | U41: Gewonnen | W41: Verloren | Y41: Gewonnen
A42: Handtekening schutter | E42: Handtekening schrijver | J42: Handtekening schutter | N42: Handtekening schrijver | S42: Handtekening schutter | W42: Handtekening schrijver
A46: De winnaar behoud zijn scoreblad, de verliezer laat zijn scoreblad op de grond.
A47: Shoot-off 1 pijl per schutter in 40 sec. , dichts bij het center wint.

Sheet 43
A1: =inschrijving!A2 -> B.A.I.C. Compound
A2: Datum : | C2: =inschrijving!E2 -> 41958 | G2: Plaats : | I2: =inschrijving!F2 -> Terhagen
A4: Ranking | C4: =RANKING!A45 -> 43
A6: Naam & Voornaam : | F6: =RANKING!C45 -> VAN DER VENNE RUBEN
A8: Lidnummer | D8: =RANKING!H45 -> 815011 | J8: Club | L8: =RANKING!D45 -> SBM | N8: Categorie | P8: =RANKING!E45 -> Compound | T8: =RANKING!F45 -> Men | W8: =RANKING!G45 -> Cadet
A10: 1/32e finale 64 schutters | D10: Doel N° | F10: =AFKAMPING!B90 -> x | H10: =AFKAMPING!A89 -> 0 | J10: 1/16e finale 32 schutters | M10: Doel N° | O10: =IF(AFKAMPING!F89<=0,AFKAMPING!F88,IF(AFKAMPING!F88>=0,AFKAMPING!F89)) -> 0 | Q10: =AFKAMPING!H89 -> B | S10: 1/8e finale 16 schutters | V10: Doel N° | X10: =IF(AFKAMPING!J89<=0,AFKAMPING!J92,IF(AFKAMPING!J92>=0,AFKAMPING!J89)) -> 0 | Z10: =AFKAMPING!L89 -> A
B12: 1 | C12: 2 | D12: 3 | E12: subtotaal | G12: totaal | K12: 1 | L12: 2 | M12: 3 | N12: subtotaal | P12: totaal | T12: 1 | U12: 2 | V12: 3 | W12: subtotaal | Y12: totaal
A13: 1 | J13: 1 | S13: 1
A14: 2 | J14: 2 | S14: 2
A15: 3 | J15: 3 | S15: 3
A16: Indien nodig | J16: Indien nodig | S16: Indien nodig
A17: 4 | J17: 4 | S17: 4
A18: Indien nodig | J18: Indien nodig | S18: Indien nodig
A19: 5 | J19: 5 | S19: 5
C20: Alg. Totaal | L20: Alg. Totaal | U20: Alg. Totaal
A22: MATCH | E22: SHOOT-OFF | J22: MATCH | N22: SHOOT-OFF | S22: MATCH | W22: SHOOT-OFF
A23: Verloren | C23: Gewonnen | E23: Verloren | G23: Gewonnen | J23: Verloren | L23: Gewonnen | N23: Verloren | P23: Gewonnen | S23: Verloren | U23: Gewonnen | W23: Verloren | Y23: Gewonnen
A24: Handtekening schutter | E24: Handtekening schrijver | J24: Handtekening schutter | N24: Handtekening schrijver | S24: Handtekening schutter | W24: Handtekening schrijver
A28: 1/4e finale 8 schutters | D28: Doel N° | F28: =IF(AFKAMPING!N91<=0,AFKAMPING!N84,IF(AFKAMPING!N84>=0,AFKAMPING!N91)) -> 6 | H28: =AFKAMPING!P91 -> 0 | J28: 1/2e finale 4 schutters | M28: Doel N° | O28: =IF(AFKAMPING!R85<=0,AFKAMPING!R100,IF(AFKAMPING!R100>=0,AFKAMPING!R85)) -> 6 | Q28: =AFKAMPING!T85 -> 0 | S28: Finale GOUD | V28: Doel N° | X28: =IF(AFKAMPING!V99<=0,AFKAMPING!V67,IF(AFKAMPING!V67>=0,AFKAMPING!V99)) -> 3
S29: Finale Brons | V29: Doel N° | X29: =IF(AFKAMPING!R69<=0,AFKAMPING!R68,IF(AFKAMPING!R68>=0,AFKAMPING!R69)) -> 7
B30: 1 | C30: 2 | D30: 3 | E30: subtotaal | G30: totaal | K30: 1 | L30: 2 | M30: 3 | N30: subtotaal | P30: totaal | T30: 1 | U30: 2 | V30: 3 | W30: subtotaal | Y30: totaal
A31: 1 | J31: 1 | S31: 1
A32: 2 | J32: 2 | S32: 2
A33: 3 | J33: 3 | S33: 3
A34: Indien nodig | J34: Indien nodig | S34: Indien nodig
A35: 4 | J35: 4 | S35: 4
A36: Indien nodig | J36: Indien nodig | S36: Indien nodig
A37: 5 | J37: 5 | S37: 5
C38: Alg. Totaal | L38: Alg. Totaal | U38: Alg. Totaal
A40: MATCH | E40: SHOOT-OFF | J40: MATCH | N40: SHOOT-OFF | S40: MATCH | W40: SHOOT-OFF
A41: Verloren | C41: Gewonnen | E41: Verloren | G41: Gewonnen | J41: Verloren | L41: Gewonnen | N41: Verloren | P41: Gewonnen | S41: Verloren | U41: Gewonnen | W41: Verloren | Y41: Gewonnen
A42: Handtekening schutter | E42: Handtekening schrijver | J42: Handtekening schutter | N42: Handtekening schrijver | S42: Handtekening schutter | W42: Handtekening schrijver
A46: De winnaar behoud zijn scoreblad, de verliezer laat zijn scoreblad op de grond.
A47: Shoot-off 1 pijl per schutter in 40 sec. , dichts bij het center wint.

Sheet 22
A1: =inschrijving!A2 -> B.A.I.C. Compound
A2: Datum : | C2: =inschrijving!E2 -> 41958 | G2: Plaats : | I2: =inschrijving!F2 -> Terhagen
A4: Ranking | C4: =RANKING!A24 -> 22
A6: Naam & Voornaam : | F6: =RANKING!C24 -> STAS JOS
A8: Lidnummer | D8: =RANKING!H24 -> 504147 | J8: Club | L8: =RANKING!D24 -> LEL | N8: Categorie | P8: =RANKING!E25 -> Compound | T8: =RANKING!F25 -> Men | W8: =RANKING!G24 -> Senior 2
A10: 1/32e finale 64 schutters | D10: Doel N° | F10: =AFKAMPING!B90 -> x | H10: =AFKAMPING!A91 -> 0 | J10: 1/16e finale 32 schutters | M10: Doel N° | O10: =IF(AFKAMPING!F89<=0,AFKAMPING!F88,IF(AFKAMPING!F88>=0,AFKAMPING!F89)) -> 0 | Q10: =AFKAMPING!H89 -> B | S10: 1/8e finale 16 schutters | V10: Doel N° | X10: =IF(AFKAMPING!J89<=0,AFKAMPING!J92,IF(AFKAMPING!J92>=0,AFKAMPING!J89)) -> 0 | Z10: =AFKAMPING!L89 -> A
B12: 1 | C12: 2 | D12: 3 | E12: subtotaal | G12: totaal | K12: 1 | L12: 2 | M12: 3 | N12: subtotaal | P12: totaal | T12: 1 | U12: 2 | V12: 3 | W12: subtotaal | Y12: totaal
A13: 1 | J13: 1 | S13: 1
A14: 2 | J14: 2 | S14: 2
A15: 3 | J15: 3 | S15: 3
A16: Indien nodig | J16: Indien nodig | S16: Indien nodig
A17: 4 | J17: 4 | S17: 4
A18: Indien nodig | J18: Indien nodig | S18: Indien nodig
A19: 5 | J19: 5 | S19: 5
C20: Alg. Totaal | L20: Alg. Totaal | U20: Alg. Totaal
A22: MATCH | E22: SHOOT-OFF | J22: MATCH | N22: SHOOT-OFF | S22: MATCH | W22: SHOOT-OFF
A23: Verloren | C23: Gewonnen | E23: Verloren | G23: Gewonnen | J23: Verloren | L23: Gewonnen | N23: Verloren | P23: Gewonnen | S23: Verloren | U23: Gewonnen | W23: Verloren | Y23: Gewonnen
A24: Handtekening schutter | E24: Handtekening schrijver | J24: Handtekening schutter | N24: Handtekening schrijver | S24: Handtekening schutter | W24: Handtekening schrijver
A28: 1/4e finale 8 schutters | D28: Doel N° | F28: =IF(AFKAMPING!N91<=0,AFKAMPING!N84,IF(AFKAMPING!N84>=0,AFKAMPING!N91)) -> 6 | H28: =AFKAMPING!P91 -> 0 | J28: 1/2e finale 4 schutters | M28: Doel N° | O28: =IF(AFKAMPING!R85<=0,AFKAMPING!R100,IF(AFKAMPING!R100>=0,AFKAMPING!R85)) -> 6 | Q28: =AFKAMPING!T85 -> 0 | S28: Finale GOUD | V28: Doel N° | X28: =IF(AFKAMPING!V99<=0,AFKAMPING!V67,IF(AFKAMPING!V67>=0,AFKAMPING!V99)) -> 3
S29: Finale Brons | V29: Doel N° | X29: =IF(AFKAMPING!R69<=0,AFKAMPING!R68,IF(AFKAMPING!R68>=0,AFKAMPING!R69)) -> 7
B30: 1 | C30: 2 | D30: 3 | E30: subtotaal | G30: totaal | K30: 1 | L30: 2 | M30: 3 | N30: subtotaal | P30: totaal | T30: 1 | U30: 2 | V30: 3 | W30: subtotaal | Y30: totaal
A31: 1 | J31: 1 | S31: 1
A32: 2 | J32: 2 | S32: 2
A33: 3 | J33: 3 | S33: 3
A34: Indien nodig | J34: Indien nodig | S34: Indien nodig
A35: 4 | J35: 4 | S35: 4
A36: Indien nodig | J36: Indien nodig | S36: Indien nodig
A37: 5 | J37: 5 | S37: 5
C38: Alg. Totaal | L38: Alg. Totaal | U38: Alg. Totaal
A40: MATCH | E40: SHOOT-OFF | J40: MATCH | N40: SHOOT-OFF | S40: MATCH | W40: SHOOT-OFF
A41: Verloren | C41: Gewonnen | E41: Verloren | G41: Gewonnen | J41: Verloren | L41: Gewonnen | N41: Verloren | P41: Gewonnen | S41: Verloren | U41: Gewonnen | W41: Verloren | Y41: Gewonnen
A42: Handtekening schutter | E42: Handtekening schrijver | J42: Handtekening schutter | N42: Handtekening schrijver | S42: Handtekening schutter | W42: Handtekening schrijver
A46: De winnaar behoud zijn scoreblad, de verliezer laat zijn scoreblad op de grond.
A47: Shoot-off 1 pijl per schutter in 40 sec. , dichts bij het center wint.

Sheet 27
A1: =inschrijving!A2 -> B.A.I.C. Compound
A2: Datum : | C2: =inschrijving!E2 -> 41958 | G2: Plaats : | I2: =inschrijving!F2 -> Terhagen
A4: Ranking | C4: =RANKING!A29 -> 27
A6: Naam & Voornaam : | F6: =RANKING!C29 -> SEGHERS DIRK
A8: Lidnummer | D8: =RANKING!H29 -> 131092 | J8: Club | L8: =RANKING!D29 -> NSS | N8: Categorie | P8: =RANKING!E29 -> Compound | T8: =RANKING!F29 -> Men | W8: =RANKING!G29 -> Senior 2
A10: 1/32e finale 64 schutters | D10: Doel N° | F10: =AFKAMPING!B94 -> x | H10: =AFKAMPING!A93 -> 0 | J10: 1/16e finale 32 schutters | M10: Doel N° | O10: =IF(AFKAMPING!F95<=0,AFKAMPING!F96,IF(AFKAMPING!F96>=0,AFKAMPING!F95)) -> 0 | Q10: =AFKAMPING!H95 -> A | S10: 1/8e finale 16 schutters | V10: Doel N° | X10: =IF(AFKAMPING!J95<=0,AFKAMPING!J92,IF(AFKAMPING!J92>=0,AFKAMPING!J95)) -> 0 | Z10: =AFKAMPING!L95 -> B
B12: 1 | C12: 2 | D12: 3 | E12: subtotaal | G12: totaal | K12: 1 | L12: 2 | M12: 3 | N12: subtotaal | P12: totaal | T12: 1 | U12: 2 | V12: 3 | W12: subtotaal | Y12: totaal
A13: 1 | J13: 1 | S13: 1
A14: 2 | J14: 2 | S14: 2
A15: 3 | J15: 3 | S15: 3
A16: Indien nodig | J16: Indien nodig | S16: Indien nodig
A17: 4 | J17: 4 | S17: 4
A18: Indien nodig | J18: Indien nodig | S18: Indien nodig
A19: 5 | J19: 5 | S19: 5
C20: Alg. Totaal | L20: Alg. Totaal | U20: Alg. Totaal
A22: MATCH | E22: SHOOT-OFF | J22: MATCH | N22: SHOOT-OFF | S22: MATCH | W22: SHOOT-OFF
A23: Verloren | C23: Gewonnen | E23: Verloren | G23: Gewonnen | J23: Verloren | L23: Gewonnen | N23: Verloren | P23: Gewonnen | S23: Verloren | U23: Gewonnen | W23: Verloren | Y23: Gewonnen
A24: Handtekening schutter | E24: Handtekening schrijver | J24: Handtekening schutter | N24: Handtekening schrijver | S24: Handtekening schutter | W24: Handtekening schrijver
A28: 1/4e finale 8 schutters | D28: Doel N° | F28: =IF(AFKAMPING!N91<=0,AFKAMPING!N84,IF(AFKAMPING!N84>=0,AFKAMPING!N91)) -> 6 | H28: =AFKAMPING!P91 -> 0 | J28: 1/2e finale 4 schutters | M28: Doel N° | O28: =IF(AFKAMPING!R85<=0,AFKAMPING!R100,IF(AFKAMPING!R100>=0,AFKAMPING!R85)) -> 6 | Q28: =AFKAMPING!T85 -> 0 | S28: Finale GOUD | V28: Doel N° | X28: =IF(AFKAMPING!V99<=0,AFKAMPING!V67,IF(AFKAMPING!V67>=0,AFKAMPING!V99)) -> 3
S29: Finale Brons | V29: Doel N° | X29: =IF(AFKAMPING!R69<=0,AFKAMPING!R68,IF(AFKAMPING!R68>=0,AFKAMPING!R69)) -> 7
B30: 1 | C30: 2 | D30: 3 | E30: subtotaal | G30: totaal | K30: 1 | L30: 2 | M30: 3 | N30: subtotaal | P30: totaal | T30: 1 | U30: 2 | V30: 3 | W30: subtotaal | Y30: totaal
A31: 1 | J31: 1 | S31: 1
A32: 2 | J32: 2 | S32: 2
A33: 3 | J33: 3 | S33: 3
A34: Indien nodig | J34: Indien nodig | S34: Indien nodig
A35: 4 | J35: 4 | S35: 4
A36: Indien nodig | J36: Indien nodig | S36: Indien nodig
A37: 5 | J37: 5 | S37: 5
C38: Alg. Totaal | L38: Alg. Totaal | U38: Alg. Totaal
A40: MATCH | E40: SHOOT-OFF | J40: MATCH | N40: SHOOT-OFF | S40: MATCH | W40: SHOOT-OFF
A41: Verloren | C41: Gewonnen | E41: Verloren | G41: Gewonnen | J41: Verloren | L41: Gewonnen | N41: Verloren | P41: Gewonnen | S41: Verloren | U41: Gewonnen | W41: Verloren | Y41: Gewonnen
A42: Handtekening schutter | E42: Handtekening schrijver | J42: Handtekening schutter | N42: Handtekening schrijver | S42: Handtekening schutter | W42: Handtekening schrijver
A46: De winnaar behoud zijn scoreblad, de verliezer laat zijn scoreblad op de grond.
A47: Shoot-off 1 pijl per schutter in 40 sec. , dichts bij het center wint.

Sheet 38
A1: =inschrijving!A2 -> B.A.I.C. Compound
A2: Datum : | C2: =inschrijving!E2 -> 41958 | G2: Plaats : | I2: =inschrijving!F2 -> Terhagen
A4: Ranking | C4: =RANKING!A40 -> 38
A6: Naam & Voornaam : | F6: =RANKING!C40 -> MAES LUCIEN
A8: Lidnummer | D8: =RANKING!H40 -> 122126 | J8: Club | L8: =RANKING!D40 -> RHB | N8: Categorie | P8: =RANKING!E40 -> Compound | T8: =RANKING!F40 -> Men | W8: =RANKING!G40 -> Veteran
A10: 1/32e finale 64 schutters | D10: Doel N° | F10: =AFKAMPING!B94 -> x | H10: =AFKAMPING!A95 -> 0 | J10: 1/16e finale 32 schutters | M10: Doel N° | O10: =IF(AFKAMPING!F95<=0,AFKAMPING!F96,IF(AFKAMPING!F96>=0,AFKAMPING!F95)) -> 0 | Q10: =AFKAMPING!H95 -> A | S10: 1/8e finale 16 schutters | V10: Doel N° | X10: =IF(AFKAMPING!J95<=0,AFKAMPING!J92,IF(AFKAMPING!J92>=0,AFKAMPING!J95)) -> 0 | Z10: =AFKAMPING!L95 -> B
B12: 1 | C12: 2 | D12: 3 | E12: subtotaal | G12: totaal | K12: 1 | L12: 2 | M12: 3 | N12: subtotaal | P12: totaal | T12: 1 | U12: 2 | V12: 3 | W12: subtotaal | Y12: totaal
A13: 1 | J13: 1 | S13: 1
A14: 2 | J14: 2 | S14: 2
A15: 3 | J15: 3 | S15: 3
A16: Indien nodig | J16: Indien nodig | S16: Indien nodig
A17: 4 | J17: 4 | S17: 4
A18: Indien nodig | J18: Indien nodig | S18: Indien nodig
A19: 5 | J19: 5 | S19: 5
C20: Alg. Totaal | L20: Alg. Totaal | U20: Alg. Totaal
A22: MATCH | E22: SHOOT-OFF | J22: MATCH | N22: SHOOT-OFF | S22: MATCH | W22: SHOOT-OFF
A23: Verloren | C23: Gewonnen | E23: Verloren | G23: Gewonnen | J23: Verloren | L23: Gewonnen | N23: Verloren | P23: Gewonnen | S23: Verloren | U23: Gewonnen | W23: Verloren | Y23: Gewonnen
A24: Handtekening schutter | E24: Handtekening schrijver | J24: Handtekening schutter | N24: Handtekening schrijver | S24: Handtekening schutter | W24: Handtekening schrijver
A28: 1/4e finale 8 schutters | D28: Doel N° | F28: =IF(AFKAMPING!N91<=0,AFKAMPING!N84,IF(AFKAMPING!N84>=0,AFKAMPING!N91)) -> 6 | H28: =AFKAMPING!P91 -> 0 | J28: 1/2e finale 4 schutters | M28: Doel N° | O28: =IF(AFKAMPING!R85<=0,AFKAMPING!R100,IF(AFKAMPING!R100>=0,AFKAMPING!R85)) -> 6 | Q28: =AFKAMPING!T85 -> 0 | S28: Finale GOUD | V28: Doel N° | X28: =IF(AFKAMPING!V99<=0,AFKAMPING!V67,IF(AFKAMPING!V67>=0,AFKAMPING!V99)) -> 3
S29: Finale Brons | V29: Doel N° | X29: =IF(AFKAMPING!R69<=0,AFKAMPING!R68,IF(AFKAMPING!R68>=0,AFKAMPING!R69)) -> 7
B30: 1 | C30: 2 | D30: 3 | E30: subtotaal | G30: totaal | K30: 1 | L30: 2 | M30: 3 | N30: subtotaal | P30: totaal | T30: 1 | U30: 2 | V30: 3 | W30: subtotaal | Y30: totaal
A31: 1 | J31: 1 | S31: 1
A32: 2 | J32: 2 | S32: 2
A33: 3 | J33: 3 | S33: 3
A34: Indien nodig | J34: Indien nodig | S34: Indien nodig
A35: 4 | J35: 4 | S35: 4
A36: Indien nodig | J36: Indien nodig | S36: Indien nodig
A37: 5 | J37: 5 | S37: 5
C38: Alg. Totaal | L38: Alg. Totaal | U38: Alg. Totaal
A40: MATCH | E40: SHOOT-OFF | J40: MATCH | N40: SHOOT-OFF | S40: MATCH | W40: SHOOT-OFF
A41: Verloren | C41: Gewonnen | E41: Verloren | G41: Gewonnen | J41: Verloren | L41: Gewonnen | N41: Verloren | P41: Gewonnen | S41: Verloren | U41: Gewonnen | W41: Verloren | Y41: Gewonnen
A42: Handtekening schutter | E42: Handtekening schrijver | J42: Handtekening schutter | N42: Handtekening schrijver | S42: Handtekening schutter | W42: Handtekening schrijver
A46: De winnaar behoud zijn scoreblad, de verliezer laat zijn scoreblad op de grond.
A47: Shoot-off 1 pijl per schutter in 40 sec. , dichts bij het center wint.

Sheet 59
A1: =inschrijving!A2 -> B.A.I.C. Compound
A2: Datum : | C2: =inschrijving!E2 -> 41958 | G2: Plaats : | I2: =inschrijving!F2 -> Terhagen
A4: Ranking | C4: =RANKING!A61 -> 59
A6: Naam & Voornaam : | F6: =RANKING!C61 -> bye
A8: Lidnummer | D8: =RANKING!H61 -> 0 | J8: Club | L8: =RANKING!D61 -> 0 | N8: Categorie | P8: =RANKING!E61 -> 0 | T8: =RANKING!F61 -> 0 | W8: =RANKING!G61 -> 0
A10: 1/32e finale 64 schutters | D10: Doel N° | F10: =AFKAMPING!B98 -> x | H10: =AFKAMPING!A97 -> 0 | J10: 1/16e finale 32 schutters | M10: Doel N° | O10: =IF(AFKAMPING!F97<=0,AFKAMPING!F96,IF(AFKAMPING!F96>=0,AFKAMPING!F97)) -> 0 | Q10: =AFKAMPING!H97 -> B | S10: 1/8e finale 16 schutters | V10: Doel N° | X10: =IF(AFKAMPING!J95<=0,AFKAMPING!J92,IF(AFKAMPING!J92>=0,AFKAMPING!J95)) -> 0 | Z10: =AFKAMPING!L95 -> B
